Workbook

Sheet Plan
A2: Urlaubsplaner 2027: Bremen
A4: Urlaubsanspruch (Tage) | B4: 30 | D4: Verplant (Tage) | E4: =IF($K$4<>"gültig","Eingabe prüfen",IF(COUNTIFS(G10:G374,"Eingabe prüfen")>0,"Eingabe prüfen",SUM(G10:G374))) -> 0 | G4: Übrig (Tage) | H4: =IF($K$5<>"gültig","Eingabe prüfen",IF(ISNUMBER(E4),B4-E4,"Eingabe prüfen")) -> 30 | J4: Kalendereingaben | K4: =IF(AND(COUNTIFS(B7:H7,"Ja")+COUNTIFS(B7:H7,"Nein")=7,COUNTIFS(B7:H7,"Ja")>0,OR(B5="Ja",B5="Nein"),OR(E5="Ja",E5="Nein")),"gültig","Arbeitstage und Dezember prüfen") -> gültig
A5: 24. Dezember arbeitsfrei | B5: Nein | D5: 31. Dezember arbeitsfrei | E5: Nein | J5: Urlaubsanspruch | K5: =IF(B4="","Urlaubsanspruch eintragen",IF(ISNUMBER(B4),IF(AND(B4>=0,INT(B4)=B4),"gültig","Ganze Zahl ab 0 eintragen"),"Ganze Zahl ab 0 eintragen")) -> gültig
B6: Montag | C6: Dienstag | D6: Mittwoch | E6: Donnerstag | F6: Freitag | G6: Samstag | H6: Sonntag
B7: Ja | C7: Ja | D7: Ja | E7: Ja | F7: Ja | G7: Nein | H7: Nein
A8: Gelbe Felder ändern. Urlaub mit U markieren. U an freien Tagen: kein Abzug.
A9: Datum | B9: Wochentag | C9: Gesetzlicher Feiertag | D9: Regelmäßiger Arbeitstag | E9: Tagesart | F9: Urlaub (U) | G9: Abzug (Tage) | H9: Notiz
A10: 46388 | B10: Freitag | C10: Neujahr | D10: =IF($K$4<>"gültig","Eingabe prüfen",INDEX($B$7:$H$7,1,WEEKDAY(A10,2))) -> Ja | E10: =IF($K$4<>"gültig","Eingabe prüfen",IF(D10="Nein","Regulär frei",IF(C10<>"","Feiertag",IF(OR(AND(A10=DATE(2027,12,24),$B$5="Ja"),AND(A10=DATE(2027,12,31),$E$5="Ja")),"Betrieblich frei","Arbeitstag")))) -> Feiertag | G10: =IF($K$4<>"gültig","Eingabe prüfen",IF(F10="",0,IF(UPPER(TRIM(F10))<>"U","Eingabe prüfen",IF(E10="Arbeitstag",1,0)))) -> 0
A11: 46389 | B11: Samstag | D11: =IF($K$4<>"gültig","Eingabe prüfen",INDEX($B$7:$H$7,1,WEEKDAY(A11,2))) -> Nein | E11: =IF($K$4<>"gültig","Eingabe prüfen",IF(D11="Nein","Regulär frei",IF(C11<>"","Feiertag",IF(OR(AND(A11=DATE(2027,12,24),$B$5="Ja"),AND(A11=DATE(2027,12,31),$E$5="Ja")),"Betrieblich frei","Arbeitstag")))) -> Regulär frei | G11: =IF($K$4<>"gültig","Eingabe prüfen",IF(F11="",0,IF(UPPER(TRIM(F11))<>"U","Eingabe prüfen",IF(E11="Arbeitstag",1,0)))) -> 0
A12: 46390 | B12: Sonntag | D12: =IF($K$4<>"gültig","Eingabe prüfen",INDEX($B$7:$H$7,1,WEEKDAY(A12,2))) -> Nein | E12: =IF($K$4<>"gültig","Eingabe prüfen",IF(D12="Nein","Regulär frei",IF(C12<>"","Feiertag",IF(OR(AND(A12=DATE(2027,12,24),$B$5="Ja"),AND(A12=DATE(2027,12,31),$E$5="Ja")),"Betrieblich frei","Arbeitstag")))) -> Regulär frei | G12: =IF($K$4<>"gültig","Eingabe prüfen",IF(F12="",0,IF(UPPER(TRIM(F12))<>"U","Eingabe prüfen",IF(E12="Arbeitstag",1,0)))) -> 0
A13: 46391 | B13: Montag | D13: =IF($K$4<>"gültig","Eingabe prüfen",INDEX($B$7:$H$7,1,WEEKDAY(A13,2))) -> Ja | E13: =IF($K$4<>"gültig","Eingabe prüfen",IF(D13="Nein","Regulär frei",IF(C13<>"","Feiertag",IF(OR(AND(A13=DATE(2027,12,24),$B$5="Ja"),AND(A13=DATE(2027,12,31),$E$5="Ja")),"Betrieblich frei","Arbeitstag")))) -> Arbeitstag | G13: =IF($K$4<>"gültig","Eingabe prüfen",IF(F13="",0,IF(UPPER(TRIM(F13))<>"U","Eingabe prüfen",IF(E13="Arbeitstag",1,0)))) -> 0
A14: 46392 | B14: Dienstag | D14: =IF($K$4<>"gültig","Eingabe prüfen",INDEX($B$7:$H$7,1,WEEKDAY(A14,2))) -> Ja | E14: =IF($K$4<>"gültig","Eingabe prüfen",IF(D14="Nein","Regulär frei",IF(C14<>"","Feiertag",IF(OR(AND(A14=DATE(2027,12,24),$B$5="Ja"),AND(A14=DATE(2027,12,31),$E$5="Ja")),"Betrieblich frei","Arbeitstag")))) -> Arbeitstag | G14: =IF($K$4<>"gültig","Eingabe prüfen",IF(F14="",0,IF(UPPER(TRIM(F14))<>"U","Eingabe prüfen",IF(E14="Arbeitstag",1,0)))) -> 0
A15: 46393 | B15: Mittwoch | D15: =IF($K$4<>"gültig","Eingabe prüfen",INDEX($B$7:$H$7,1,WEEKDAY(A15,2))) -> Ja | E15: =IF($K$4<>"gültig","Eingabe prüfen",IF(D15="Nein","Regulär frei",IF(C15<>"","Feiertag",IF(OR(AND(A15=DATE(2027,12,24),$B$5="Ja"),AND(A15=DATE(2027,12,31),$E$5="Ja")),"Betrieblich frei","Arbeitstag")))) -> Arbeitstag | G15: =IF($K$4<>"gültig","Eingabe prüfen",IF(F15="",0,IF(UPPER(TRIM(F15))<>"U","Eingabe prüfen",IF(E15="Arbeitstag",1,0)))) -> 0
A16: 46394 | B16: Donnerstag | D16: =IF($K$4<>"gültig","Eingabe prüfen",INDEX($B$7:$H$7,1,WEEKDAY(A16,2))) -> Ja | E16: =IF($K$4<>"gültig","Eingabe prüfen",IF(D16="Nein","Regulär frei",IF(C16<>"","Feiertag",IF(OR(AND(A16=DATE(2027,12,24),$B$5="Ja"),AND(A16=DATE(2027,12,31),$E$5="Ja")),"Betrieblich frei","Arbeitstag")))) -> Arbeitstag | G16: =IF($K$4<>"gültig","Eingabe prüfen",IF(F16="",0,IF(UPPER(TRIM(F16))<>"U","Eingabe prüfen",IF(E16="Arbeitstag",1,0)))) -> 0
A17: 46395 | B17: Freitag | D17: =IF($K$4<>"gültig","Eingabe prüfen",INDEX($B$7:$H$7,1,WEEKDAY(A17,2))) -> Ja | E17: =IF($K$4<>"gültig","Eingabe prüfen",IF(D17="Nein","Regulär frei",IF(C17<>"","Feiertag",IF(OR(AND(A17=DATE(2027,12,24),$B$5="Ja"),AND(A17=DATE(2027,12,31),$E$5="Ja")),"Betrieblich frei","Arbeitstag")))) -> Arbeitstag | G17: =IF($K$4<>"gültig","Eingabe prüfen",IF(F17="",0,IF(UPPER(TRIM(F17))<>"U","Eingabe prüfen",IF(E17="Arbeitstag",1,0)))) -> 0
A18: 46396 | B18: Samstag | D18: =IF($K$4<>"gültig","Eingabe prüfen",INDEX($B$7:$H$7,1,WEEKDAY(A18,2))) -> Nein | E18: =IF($K$4<>"gültig","Eingabe prüfen",IF(D18="Nein","Regulär frei",IF(C18<>"","Feiertag",IF(OR(AND(A18=DATE(2027,12,24),$B$5="Ja"),AND(A18=DATE(2027,12,31),$E$5="Ja")),"Betrieblich frei","Arbeitstag")))) -> Regulär frei | G18: =IF($K$4<>"gültig","Eingabe prüfen",IF(F18="",0,IF(UPPER(TRIM(F18))<>"U","Eingabe prüfen",IF(E18="Arbeitstag",1,0)))) -> 0
A19: 46397 | B19: Sonntag | D19: =IF($K$4<>"gültig","Eingabe prüfen",INDEX($B$7:$H$7,1,WEEKDAY(A19,2))) -> Nein | E19: =IF($K$4<>"gültig","Eingabe prüfen",IF(D19="Nein","Regulär frei",IF(C19<>"","Feiertag",IF(OR(AND(A19=DATE(2027,12,24),$B$5="Ja"),AND(A19=DATE(2027,12,31),$E$5="Ja")),"Betrieblich frei","Arbeitstag")))) -> Regulär frei | G19: =IF($K$4<>"gültig","Eingabe prüfen",IF(F19="",0,IF(UPPER(TRIM(F19))<>"U","Eingabe prüfen",IF(E19="Arbeitstag",1,0)))) -> 0
A20: 46398 | B20: Montag | D20: =IF($K$4<>"gültig","Eingabe prüfen",INDEX($B$7:$H$7,1,WEEKDAY(A20,2))) -> Ja | E20: =IF($K$4<>"gültig","Eingabe prüfen",IF(D20="Nein","Regulär frei",IF(C20<>"","Feiertag",IF(OR(AND(A20=DATE(2027,12,24),$B$5="Ja"),AND(A20=DATE(2027,12,31),$E$5="Ja")),"Betrieblich frei","Arbeitstag")))) -> Arbeitstag | G20: =IF($K$4<>"gültig","Eingabe prüfen",IF(F20="",0,IF(UPPER(TRIM(F20))<>"U","Eingabe prüfen",IF(E20="Arbeitstag",1,0)))) -> 0
A21: 46399 | B21: Dienstag | D21: =IF($K$4<>"gültig","Eingabe prüfen",INDEX($B$7:$H$7,1,WEEKDAY(A21,2))) -> Ja | E21: =IF($K$4<>"gültig","Eingabe prüfen",IF(D21="Nein","Regulär frei",IF(C21<>"","Feiertag",IF(OR(AND(A21=DATE(2027,12,24),$B$5="Ja"),AND(A21=DATE(2027,12,31),$E$5="Ja")),"Betrieblich frei","Arbeitstag")))) -> Arbeitstag | G21: =IF($K$4<>"gültig","Eingabe prüfen",IF(F21="",0,IF(UPPER(TRIM(F21))<>"U","Eingabe prüfen",IF(E21="Arbeitstag",1,0)))) -> 0
A22: 46400 | B22: Mittwoch | D22: =IF($K$4<>"gültig","Eingabe prüfen",INDEX($B$7:$H$7,1,WEEKDAY(A22,2))) -> Ja | E22: =IF($K$4<>"gültig","Eingabe prüfen",IF(D22="Nein","Regulär frei",IF(C22<>"","Feiertag",IF(OR(AND(A22=DATE(2027,12,24),$B$5="Ja"),AND(A22=DATE(2027,12,31),$E$5="Ja")),"Betrieblich frei","Arbeitstag")))) -> Arbeitstag | G22: =IF($K$4<>"gültig","Eingabe prüfen",IF(F22="",0,IF(UPPER(TRIM(F22))<>"U","Eingabe prüfen",IF(E22="Arbeitstag",1,0)))) -> 0
... A93: 46471 | B93: Donnerstag | D93: =IF($K$4<>"gültig","Eingabe prüfen",INDEX($B$7:$H$7,1,WEEKDAY(A93,2))) -> Ja | E93: =IF($K$4<>"gültig","Eingabe prüfen",IF(D93="Nein","Regulär frei",IF(C93<>"","Feiertag",IF(OR(AND(A93=DATE(2027,12,24),$B$5="Ja"),AND(A93=DATE(2027,12,31),$E$5="Ja")),"Betrieblich frei","Arbeitstag")))) -> Arbeitstag | G93: =IF($K$4<>"gültig","Eingabe prüfen",IF(F93="",0,IF(UPPER(TRIM(F93))<>"U","Eingabe prüfen",IF(E93="Arbeitstag",1,0)))) -> 0
A94: 46472 | B94: Freitag | C94: Karfreitag | D94: =IF($K$4<>"gültig","Eingabe prüfen",INDEX($B$7:$H$7,1,WEEKDAY(A94,2))) -> Ja | E94: =IF($K$4<>"gültig","Eingabe prüfen",IF(D94="Nein","Regulär frei",IF(C94<>"","Feiertag",IF(OR(AND(A94=DATE(2027,12,24),$B$5="Ja"),AND(A94=DATE(2027,12,31),$E$5="Ja")),"Betrieblich frei","Arbeitstag")))) -> Feiertag | G94: =IF($K$4<>"gültig","Eingabe prüfen",IF(F94="",0,IF(UPPER(TRIM(F94))<>"U","Eingabe prüfen",IF(E94="Arbeitstag",1,0)))) -> 0
A95: 46473 | B95: Samstag | D95: =IF($K$4<>"gültig","Eingabe prüfen",INDEX($B$7:$H$7,1,WEEKDAY(A95,2))) -> Nein | E95: =IF($K$4<>"gültig","Eingabe prüfen",IF(D95="Nein","Regulär frei",IF(C95<>"","Feiertag",IF(OR(AND(A95=DATE(2027,12,24),$B$5="Ja"),AND(A95=DATE(2027,12,31),$E$5="Ja")),"Betrieblich frei","Arbeitstag")))) -> Regulär frei | G95: =IF($K$4<>"gültig","Eingabe prüfen",IF(F95="",0,IF(UPPER(TRIM(F95))<>"U","Eingabe prüfen",IF(E95="Arbeitstag",1,0)))) -> 0
A96: 46474 | B96: Sonntag | D96: =IF($K$4<>"gültig","Eingabe prüfen",INDEX($B$7:$H$7,1,WEEKDAY(A96,2))) -> Nein | E96: =IF($K$4<>"gültig","Eingabe prüfen",IF(D96="Nein","Regulär frei",IF(C96<>"","Feiertag",IF(OR(AND(A96=DATE(2027,12,24),$B$5="Ja"),AND(A96=DATE(2027,12,31),$E$5="Ja")),"Betrieblich frei","Arbeitstag")))) -> Regulär frei | G96: =IF($K$4<>"gültig","Eingabe prüfen",IF(F96="",0,IF(UPPER(TRIM(F96))<>"U","Eingabe prüfen",IF(E96="Arbeitstag",1,0)))) -> 0
A97: 46475 | B97: Montag | C97: Ostermontag | D97: =IF($K$4<>"gültig","Eingabe prüfen",INDEX($B$7:$H$7,1,WEEKDAY(A97,2))) -> Ja | E97: =IF($K$4<>"gültig","Eingabe prüfen",IF(D97="Nein","Regulär frei",IF(C97<>"","Feiertag",IF(OR(AND(A97=DATE(2027,12,24),$B$5="Ja"),AND(A97=DATE(2027,12,31),$E$5="Ja")),"Betrieblich frei","Arbeitstag")))) -> Feiertag | G97: =IF($K$4<>"gültig","Eingabe prüfen",IF(F97="",0,IF(UPPER(TRIM(F97))<>"U","Eingabe prüfen",IF(E97="Arbeitstag",1,0)))) -> 0
A98: 46476 | B98: Dienstag | D98: =IF($K$4<>"gültig","Eingabe prüfen",INDEX($B$7:$H$7,1,WEEKDAY(A98,2))) -> Ja | E98: =IF($K$4<>"gültig","Eingabe prüfen",IF(D98="Nein","Regulär frei",IF(C98<>"","Feiertag",IF(OR(AND(A98=DATE(2027,12,24),$B$5="Ja"),AND(A98=DATE(2027,12,31),$E$5="Ja")),"Betrieblich frei","Arbeitstag")))) -> Arbeitstag | G98: =IF($K$4<>"gültig","Eingabe prüfen",IF(F98="",0,IF(UPPER(TRIM(F98))<>"U","Eingabe prüfen",IF(E98="Arbeitstag",1,0)))) -> 0
A99: 46477 | B99: Mittwoch | D99: =IF($K$4<>"gültig","Eingabe prüfen",INDEX($B$7:$H$7,1,WEEKDAY(A99,2))) -> Ja | E99: =IF($K$4<>"gültig","Eingabe prüfen",IF(D99="Nein","Regulär frei",IF(C99<>"","Feiertag",IF(OR(AND(A99=DATE(2027,12,24),$B$5="Ja"),AND(A99=DATE(2027,12,31),$E$5="Ja")),"Betrieblich frei","Arbeitstag")))) -> Arbeitstag | G99: =IF($K$4<>"gültig","Eingabe prüfen",IF(F99="",0,IF(UPPER(TRIM(F99))<>"U","Eingabe prüfen",IF(E99="Arbeitstag",1,0)))) -> 0
A100: 46478 | B100: Donnerstag | D100: =IF($K$4<>"gültig","Eingabe prüfen",INDEX($B$7:$H$7,1,WEEKDAY(A100,2))) -> Ja | E100: =IF($K$4<>"gültig","Eingabe prüfen",IF(D100="Nein","Regulär frei",IF(C100<>"","Feiertag",IF(OR(AND(A100=DATE(2027,12,24),$B$5="Ja"),AND(A100=DATE(2027,12,31),$E$5="Ja")),"Betrieblich frei","Arbeitstag")))) -> Arbeitstag | G100: =IF($K$4<>"gültig","Eingabe prüfen",IF(F100="",0,IF(UPPER(TRIM(F100))<>"U","Eingabe prüfen",IF(E100="Arbeitstag",1,0)))) -> 0
A101: 46479 | B101: Freitag | D101: =IF($K$4<>"gültig","Eingabe prüfen",INDEX($B$7:$H$7,1,WEEKDAY(A101,2))) -> Ja | E101: =IF($K$4<>"gültig","Eingabe prüfen",IF(D101="Nein","Regulär frei",IF(C101<>"","Feiertag",IF(OR(AND(A101=DATE(2027,12,24),$B$5="Ja"),AND(A101=DATE(2027,12,31),$E$5="Ja")),"Betrieblich frei","Arbeitstag")))) -> Arbeitstag | G101: =IF($K$4<>"gültig","Eingabe prüfen",IF(F101="",0,IF(UPPER(TRIM(F101))<>"U","Eingabe prüfen",IF(E101="Arbeitstag",1,0)))) -> 0
A102: 46480 | B102: Samstag | D102: =IF($K$4<>"gültig","Eingabe prüfen",INDEX($B$7:$H$7,1,WEEKDAY(A102,2))) -> Nein | E102: =IF($K$4<>"gültig","Eingabe prüfen",IF(D102="Nein","Regulär frei",IF(C102<>"","Feiertag",IF(OR(AND(A102=DATE(2027,12,24),$B$5="Ja"),AND(A102=DATE(2027,12,31),$E$5="Ja")),"Betrieblich frei","Arbeitstag")))) -> Regulär frei | G102: =IF($K$4<>"gültig","Eingabe prüfen",IF(F102="",0,IF(UPPER(TRIM(F102))<>"U","Eingabe prüfen",IF(E102="Arbeitstag",1,0)))) -> 0
A103: 46481 | B103: Sonntag | D103: =IF($K$4<>"gültig","Eingabe prüfen",INDEX($B$7:$H$7,1,WEEKDAY(A103,2))) -> Nein | E103: =IF($K$4<>"gültig","Eingabe prüfen",IF(D103="Nein","Regulär frei",IF(C103<>"","Feiertag",IF(OR(AND(A103=DATE(2027,12,24),$B$5="Ja"),AND(A103=DATE(2027,12,31),$E$5="Ja")),"Betrieblich frei","Arbeitstag")))) -> Regulär frei | G103: =IF($K$4<>"gültig","Eingabe prüfen",IF(F103="",0,IF(UPPER(TRIM(F103))<>"U","Eingabe prüfen",IF(E103="Arbeitstag",1,0)))) -> 0
A104: 46482 | B104: Montag | D104: =IF($K$4<>"gültig","Eingabe prüfen",INDEX($B$7:$H$7,1,WEEKDAY(A104,2))) -> Ja | E104: =IF($K$4<>"gültig","Eingabe prüfen",IF(D104="Nein","Regulär frei",IF(C104<>"","Feiertag",IF(OR(AND(A104=DATE(2027,12,24),$B$5="Ja"),AND(A104=DATE(2027,12,31),$E$5="Ja")),"Betrieblich frei","Arbeitstag")))) -> Arbeitstag | G104: =IF($K$4<>"gültig","Eingabe prüfen",IF(F104="",0,IF(UPPER(TRIM(F104))<>"U","Eingabe prüfen",IF(E104="Arbeitstag",1,0)))) -> 0
A105: 46483 | B105: Dienstag | D105: =IF($K$4<>"gültig","Eingabe prüfen",INDEX($B$7:$H$7,1,WEEKDAY(A105,2))) -> Ja | E105: =IF($K$4<>"gültig","Eingabe prüfen",IF(D105="Nein","Regulär frei",IF(C105<>"","Feiertag",IF(OR(AND(A105=DATE(2027,12,24),$B$5="Ja"),AND(A105=DATE(2027,12,31),$E$5="Ja")),"Betrieblich frei","Arbeitstag")))) -> Arbeitstag | G105: =IF($K$4<>"gültig","Eingabe prüfen",IF(F105="",0,IF(UPPER(TRIM(F105))<>"U","Eingabe prüfen",IF(E105="Arbeitstag",1,0)))) -> 0
A106: 46484 | B106: Mittwoch | D106: =IF($K$4<>"gültig","Eingabe prüfen",INDEX($B$7:$H$7,1,WEEKDAY(A106,2))) -> Ja | E106: =IF($K$4<>"gültig","Eingabe prüfen",IF(D106="Nein","Regulär frei",IF(C106<>"","Feiertag",IF(OR(AND(A106=DATE(2027,12,24),$B$5="Ja"),AND(A106=DATE(2027,12,31),$E$5="Ja")),"Betrieblich frei","Arbeitstag")))) -> Arbeitstag | G106: =IF($K$4<>"gültig","Eingabe prüfen",IF(F106="",0,IF(UPPER(TRIM(F106))<>"U","Eingabe prüfen",IF(E106="Arbeitstag",1,0)))) -> 0
A107: 46485 | B107: Donnerstag | D107: =IF($K$4<>"gültig","Eingabe prüfen",INDEX($B$7:$H$7,1,WEEKDAY(A107,2))) -> Ja | E107: =IF($K$4<>"gültig","Eingabe prüfen",IF(D107="Nein","Regulär frei",IF(C107<>"","Feiertag",IF(OR(AND(A107=DATE(2027,12,24),$B$5="Ja"),AND(A107=DATE(2027,12,31),$E$5="Ja")),"Betrieblich frei","Arbeitstag")))) -> Arbeitstag | G107: =IF($K$4<>"gültig","Eingabe prüfen",IF(F107="",0,IF(UPPER(TRIM(F107))<>"U","Eingabe prüfen",IF(E107="Arbeitstag",1,0)))) -> 0
A108: 46486 | B108: Freitag | D108: =IF($K$4<>"gültig","Eingabe prüfen",INDEX($B$7:$H$7,1,WEEKDAY(A108,2))) -> Ja | E108: =IF($K$4<>"gültig","Eingabe prüfen",IF(D108="Nein","Regulär frei",IF(C108<>"","Feiertag",IF(OR(AND(A108=DATE(2027,12,24),$B$5="Ja"),AND(A108=DATE(2027,12,31),$E$5="Ja")),"Betrieblich frei","Arbeitstag")))) -> Arbeitstag | G108: =IF($K$4<>"gültig","Eingabe prüfen",IF(F108="",0,IF(UPPER(TRIM(F108))<>"U","Eingabe prüfen",IF(E108="Arbeitstag",1,0)))) -> 0
A109: 46487 | B109: Samstag | D109: =IF($K$4<>"gültig","Eingabe prüfen",INDEX($B$7:$H$7,1,WEEKDAY(A109,2))) -> Nein | E109: =IF($K$4<>"gültig","Eingabe prüfen",IF(D109="Nein","Regulär frei",IF(C109<>"","Feiertag",IF(OR(AND(A109=DATE(2027,12,24),$B$5="Ja"),AND(A109=DATE(2027,12,31),$E$5="Ja")),"Betrieblich frei","Arbeitstag")))) -> Regulär frei | G109: =IF($K$4<>"gültig","Eingabe prüfen",IF(F109="",0,IF(UPPER(TRIM(F109))<>"U","Eingabe prüfen",IF(E109="Arbeitstag",1,0)))) -> 0
... A129: 46507 | B129: Freitag | D129: =IF($K$4<>"gültig","Eingabe prüfen",INDEX($B$7:$H$7,1,WEEKDAY(A129,2))) -> Ja | E129: =IF($K$4<>"gültig","Eingabe prüfen",IF(D129="Nein","Regulär frei",IF(C129<>"","Feiertag",IF(OR(AND(A129=DATE(2027,12,24),$B$5="Ja"),AND(A129=DATE(2027,12,31),$E$5="Ja")),"Betrieblich frei","Arbeitstag")))) -> Arbeitstag | G129: =IF($K$4<>"gültig","Eingabe prüfen",IF(F129="",0,IF(UPPER(TRIM(F129))<>"U","Eingabe prüfen",IF(E129="Arbeitstag",1,0)))) -> 0
A130: 46508 | B130: Samstag | C130: Tag der Arbeit | D130: =IF($K$4<>"gültig","Eingabe prüfen",INDEX($B$7:$H$7,1,WEEKDAY(A130,2))) -> Nein | E130: =IF($K$4<>"gültig","Eingabe prüfen",IF(D130="Nein","Regulär frei",IF(C130<>"","Feiertag",IF(OR(AND(A130=DATE(2027,12,24),$B$5="Ja"),AND(A130=DATE(2027,12,31),$E$5="Ja")),"Betrieblich frei","Arbeitstag")))) -> Regulär frei | G130: =IF($K$4<>"gültig","Eingabe prüfen",IF(F130="",0,IF(UPPER(TRIM(F130))<>"U","Eingabe prüfen",IF(E130="Arbeitstag",1,0)))) -> 0
A131: 46509 | B131: Sonntag | D131: =IF($K$4<>"gültig","Eingabe prüfen",INDEX($B$7:$H$7,1,WEEKDAY(A131,2))) -> Nein | E131: =IF($K$4<>"gültig","Eingabe prüfen",IF(D131="Nein","Regulär frei",IF(C131<>"","Feiertag",IF(OR(AND(A131=DATE(2027,12,24),$B$5="Ja"),AND(A131=DATE(2027,12,31),$E$5="Ja")),"Betrieblich frei","Arbeitstag")))) -> Regulär frei | G131: =IF($K$4<>"gültig","Eingabe prüfen",IF(F131="",0,IF(UPPER(TRIM(F131))<>"U","Eingabe prüfen",IF(E131="Arbeitstag",1,0)))) -> 0
A132: 46510 | B132: Montag | D132: =IF($K$4<>"gültig","Eingabe prüfen",INDEX($B$7:$H$7,1,WEEKDAY(A132,2))) -> Ja | E132: =IF($K$4<>"gültig","Eingabe prüfen",IF(D132="Nein","Regulär frei",IF(C132<>"","Feiertag",IF(OR(AND(A132=DATE(2027,12,24),$B$5="Ja"),AND(A132=DATE(2027,12,31),$E$5="Ja")),"Betrieblich frei","Arbeitstag")))) -> Arbeitstag | G132: =IF($K$4<>"gültig","Eingabe prüfen",IF(F132="",0,IF(UPPER(TRIM(F132))<>"U","Eingabe prüfen",IF(E132="Arbeitstag",1,0)))) -> 0
A133: 46511 | B133: Dienstag | D133: =IF($K$4<>"gültig","Eingabe prüfen",INDEX($B$7:$H$7,1,WEEKDAY(A133,2))) -> Ja | E133: =IF($K$4<>"gültig","Eingabe prüfen",IF(D133="Nein","Regulär frei",IF(C133<>"","Feiertag",IF(OR(AND(A133=DATE(2027,12,24),$B$5="Ja"),AND(A133=DATE(2027,12,31),$E$5="Ja")),"Betrieblich frei","Arbeitstag")))) -> Arbeitstag | G133: =IF($K$4<>"gültig","Eingabe prüfen",IF(F133="",0,IF(UPPER(TRIM(F133))<>"U","Eingabe prüfen",IF(E133="Arbeitstag",1,0)))) -> 0
A134: 46512 | B134: Mittwoch | D134: =IF($K$4<>"gültig","Eingabe prüfen",INDEX($B$7:$H$7,1,WEEKDAY(A134,2))) -> Ja | E134: =IF($K$4<>"gültig","Eingabe prüfen",IF(D134="Nein","Regulär frei",IF(C134<>"","Feiertag",IF(OR(AND(A134=DATE(2027,12,24),$B$5="Ja"),AND(A134=DATE(2027,12,31),$E$5="Ja")),"Betrieblich frei","Arbeitstag")))) -> Arbeitstag | G134: =IF($K$4<>"gültig","Eingabe prüfen",IF(F134="",0,IF(UPPER(TRIM(F134))<>"U","Eingabe prüfen",IF(E134="Arbeitstag",1,0)))) -> 0
A135: 46513 | B135: Donnerstag | C135: Christi Himmelfahrt | D135: =IF($K$4<>"gültig","Eingabe prüfen",INDEX($B$7:$H$7,1,WEEKDAY(A135,2))) -> Ja | E135: =IF($K$4<>"gültig","Eingabe prüfen",IF(D135="Nein","Regulär frei",IF(C135<>"","Feiertag",IF(OR(AND(A135=DATE(2027,12,24),$B$5="Ja"),AND(A135=DATE(2027,12,31),$E$5="Ja")),"Betrieblich frei","Arbeitstag")))) -> Feiertag | G135: =IF($K$4<>"gültig","Eingabe prüfen",IF(F135="",0,IF(UPPER(TRIM(F135))<>"U","Eingabe prüfen",IF(E135="Arbeitstag",1,0)))) -> 0
A136: 46514 | B136: Freitag | D136: =IF($K$4<>"gültig","Eingabe prüfen",INDEX($B$7:$H$7,1,WEEKDAY(A136,2))) -> Ja | E136: =IF($K$4<>"gültig","Eingabe prüfen",IF(D136="Nein","Regulär frei",IF(C136<>"","Feiertag",IF(OR(AND(A136=DATE(2027,12,24),$B$5="Ja"),AND(A136=DATE(2027,12,31),$E$5="Ja")),"Betrieblich frei","Arbeitstag")))) -> Arbeitstag | G136: =IF($K$4<>"gültig","Eingabe prüfen",IF(F136="",0,IF(UPPER(TRIM(F136))<>"U","Eingabe prüfen",IF(E136="Arbeitstag",1,0)))) -> 0
A137: 46515 | B137: Samstag | D137: =IF($K$4<>"gültig","Eingabe prüfen",INDEX($B$7:$H$7,1,WEEKDAY(A137,2))) -> Nein | E137: =IF($K$4<>"gültig","Eingabe prüfen",IF(D137="Nein","Regulär frei",IF(C137<>"","Feiertag",IF(OR(AND(A137=DATE(2027,12,24),$B$5="Ja"),AND(A137=DATE(2027,12,31),$E$5="Ja")),"Betrieblich frei","Arbeitstag")))) -> Regulär frei | G137: =IF($K$4<>"gültig","Eingabe prüfen",IF(F137="",0,IF(UPPER(TRIM(F137))<>"U","Eingabe prüfen",IF(E137="Arbeitstag",1,0)))) -> 0
A138: 46516 | B138: Sonntag | D138: =IF($K$4<>"gültig","Eingabe prüfen",INDEX($B$7:$H$7,1,WEEKDAY(A138,2))) -> Nein | E138: =IF($K$4<>"gültig","Eingabe prüfen",IF(D138="Nein","Regulär frei",IF(C138<>"","Feiertag",IF(OR(AND(A138=DATE(2027,12,24),$B$5="Ja"),AND(A138=DATE(2027,12,31),$E$5="Ja")),"Betrieblich frei","Arbeitstag")))) -> Regulär frei | G138: =IF($K$4<>"gültig","Eingabe prüfen",IF(F138="",0,IF(UPPER(TRIM(F138))<>"U","Eingabe prüfen",IF(E138="Arbeitstag",1,0)))) -> 0
A139: 46517 | B139: Montag | D139: =IF($K$4<>"gültig","Eingabe prüfen",INDEX($B$7:$H$7,1,WEEKDAY(A139,2))) -> Ja | E139: =IF($K$4<>"gültig","Eingabe prüfen",IF(D139="Nein","Regulär frei",IF(C139<>"","Feiertag",IF(OR(AND(A139=DATE(2027,12,24),$B$5="Ja"),AND(A139=DATE(2027,12,31),$E$5="Ja")),"Betrieblich frei","Arbeitstag")))) -> Arbeitstag | G139: =IF($K$4<>"gültig","Eingabe prüfen",IF(F139="",0,IF(UPPER(TRIM(F139))<>"U","Eingabe prüfen",IF(E139="Arbeitstag",1,0)))) -> 0
A140: 46518 | B140: Dienstag | D140: =IF($K$4<>"gültig","Eingabe prüfen",INDEX($B$7:$H$7,1,WEEKDAY(A140,2))) -> Ja | E140: =IF($K$4<>"gültig","Eingabe prüfen",IF(D140="Nein","Regulär frei",IF(C140<>"","Feiertag",IF(OR(AND(A140=DATE(2027,12,24),$B$5="Ja"),AND(A140=DATE(2027,12,31),$E$5="Ja")),"Betrieblich frei","Arbeitstag")))) -> Arbeitstag | G140: =IF($K$4<>"gültig","Eingabe prüfen",IF(F140="",0,IF(UPPER(TRIM(F140))<>"U","Eingabe prüfen",IF(E140="Arbeitstag",1,0)))) -> 0
A141: 46519 | B141: Mittwoch | D141: =IF($K$4<>"gültig","Eingabe prüfen",INDEX($B$7:$H$7,1,WEEKDAY(A141,2))) -> Ja | E141: =IF($K$4<>"gültig","Eingabe prüfen",IF(D141="Nein","Regulär frei",IF(C141<>"","Feiertag",IF(OR(AND(A141=DATE(2027,12,24),$B$5="Ja"),AND(A141=DATE(2027,12,31),$E$5="Ja")),"Betrieblich frei","Arbeitstag")))) -> Arbeitstag | G141: =IF($K$4<>"gültig","Eingabe prüfen",IF(F141="",0,IF(UPPER(TRIM(F141))<>"U","Eingabe prüfen",IF(E141="Arbeitstag",1,0)))) -> 0
A142: 46520 | B142: Donnerstag | D142: =IF($K$4<>"gültig","Eingabe prüfen",INDEX($B$7:$H$7,1,WEEKDAY(A142,2))) -> Ja | E142: =IF($K$4<>"gültig","Eingabe prüfen",IF(D142="Nein","Regulär frei",IF(C142<>"","Feiertag",IF(OR(AND(A142=DATE(2027,12,24),$B$5="Ja"),AND(A142=DATE(2027,12,31),$E$5="Ja")),"Betrieblich frei","Arbeitstag")))) -> Arbeitstag | G142: =IF($K$4<>"gültig","Eingabe prüfen",IF(F142="",0,IF(UPPER(TRIM(F142))<>"U","Eingabe prüfen",IF(E142="Arbeitstag",1,0)))) -> 0
A143: 46521 | B143: Freitag | D143: =IF($K$4<>"gültig","Eingabe prüfen",INDEX($B$7:$H$7,1,WEEKDAY(A143,2))) -> Ja | E143: =IF($K$4<>"gültig","Eingabe prüfen",IF(D143="Nein","Regulär frei",IF(C143<>"","Feiertag",IF(OR(AND(A143=DATE(2027,12,24),$B$5="Ja"),AND(A143=DATE(2027,12,31),$E$5="Ja")),"Betrieblich frei","Arbeitstag")))) -> Arbeitstag | G143: =IF($K$4<>"gültig","Eingabe prüfen",IF(F143="",0,IF(UPPER(TRIM(F143))<>"U","Eingabe prüfen",IF(E143="Arbeitstag",1,0)))) -> 0
A144: 46522 | B144: Samstag | D144: =IF($K$4<>"gültig","Eingabe prüfen",INDEX($B$7:$H$7,1,WEEKDAY(A144,2))) -> Nein | E144: =IF($K$4<>"gültig","Eingabe prüfen",IF(D144="Nein","Regulär frei",IF(C144<>"","Feiertag",IF(OR(AND(A144=DATE(2027,12,24),$B$5="Ja"),AND(A144=DATE(2027,12,31),$E$5="Ja")),"Betrieblich frei","Arbeitstag")))) -> Regulär frei | G144: =IF($K$4<>"gültig","Eingabe prüfen",IF(F144="",0,IF(UPPER(TRIM(F144))<>"U","Eingabe prüfen",IF(E144="Arbeitstag",1,0)))) -> 0
A145: 46523 | B145: Sonntag | D145: =IF($K$4<>"gültig","Eingabe prüfen",INDEX($B$7:$H$7,1,WEEKDAY(A145,2))) -> Nein | E145: =IF($K$4<>"gültig","Eingabe prüfen",IF(D145="Nein","Regulär frei",IF(C145<>"","Feiertag",IF(OR(AND(A145=DATE(2027,12,24),$B$5="Ja"),AND(A145=DATE(2027,12,31),$E$5="Ja")),"Betrieblich frei","Arbeitstag")))) -> Regulär frei | G145: =IF($K$4<>"gültig","Eingabe prüfen",IF(F145="",0,IF(UPPER(TRIM(F145))<>"U","Eingabe prüfen",IF(E145="Arbeitstag",1,0)))) -> 0
A146: 46524 | B146: Montag | C146: Pfingstmontag | D146: =IF($K$4<>"gültig","Eingabe prüfen",INDEX($B$7:$H$7,1,WEEKDAY(A146,2))) -> Ja | E146: =IF($K$4<>"gültig","Eingabe prüfen",IF(D146="Nein","Regulär frei",IF(C146<>"","Feiertag",IF(OR(AND(A146=DATE(2027,12,24),$B$5="Ja"),AND(A146=DATE(2027,12,31),$E$5="Ja")),"Betrieblich frei","Arbeitstag")))) -> Feiertag | G146: =IF($K$4<>"gültig","Eingabe prüfen",IF(F146="",0,IF(UPPER(TRIM(F146))<>"U","Eingabe prüfen",IF(E146="Arbeitstag",1,0)))) -> 0
A147: 46525 | B147: Dienstag | D147: =IF($K$4<>"gültig","Eingabe prüfen",INDEX($B$7:$H$7,1,WEEKDAY(A147,2))) -> Ja | E147: =IF($K$4<>"gültig","Eingabe prüfen",IF(D147="Nein","Regulär frei",IF(C147<>"","Feiertag",IF(OR(AND(A147=DATE(2027,12,24),$B$5="Ja"),AND(A147=DATE(2027,12,31),$E$5="Ja")),"Betrieblich frei","Arbeitstag")))) -> Arbeitstag | G147: =IF($K$4<>"gültig","Eingabe prüfen",IF(F147="",0,IF(UPPER(TRIM(F147))<>"U","Eingabe prüfen",IF(E147="Arbeitstag",1,0)))) -> 0
A148: 46526 | B148: Mittwoch | D148: =IF($K$4<>"gültig","Eingabe prüfen",INDEX($B$7:$H$7,1,WEEKDAY(A148,2))) -> Ja | E148: =IF($K$4<>"gültig","Eingabe prüfen",IF(D148="Nein","Regulär frei",IF(C148<>"","Feiertag",IF(OR(AND(A148=DATE(2027,12,24),$B$5="Ja"),AND(A148=DATE(2027,12,31),$E$5="Ja")),"Betrieblich frei","Arbeitstag")))) -> Arbeitstag | G148: =IF($K$4<>"gültig","Eingabe prüfen",IF(F148="",0,IF(UPPER(TRIM(F148))<>"U","Eingabe prüfen",IF(E148="Arbeitstag",1,0)))) -> 0
A149: 46527 | B149: Donnerstag | D149: =IF($K$4<>"gültig","Eingabe prüfen",INDEX($B$7:$H$7,1,WEEKDAY(A149,2))) -> Ja | E149: =IF($K$4<>"gültig","Eingabe prüfen",IF(D149="Nein","Regulär frei",IF(C149<>"","Feiertag",IF(OR(AND(A149=DATE(2027,12,24),$B$5="Ja"),AND(A149=DATE(2027,12,31),$E$5="Ja")),"Betrieblich frei","Arbeitstag")))) -> Arbeitstag | G149: =IF($K$4<>"gültig","Eingabe prüfen",IF(F149="",0,IF(UPPER(TRIM(F149))<>"U","Eingabe prüfen",IF(E149="Arbeitstag",1,0)))) -> 0
A150: 46528 | B150: Freitag | D150: =IF($K$4<>"gültig","Eingabe prüfen",INDEX($B$7:$H$7,1,WEEKDAY(A150,2))) -> Ja | E150: =IF($K$4<>"gültig","Eingabe prüfen",IF(D150="Nein","Regulär frei",IF(C150<>"","Feiertag",IF(OR(AND(A150=DATE(2027,12,24),$B$5="Ja"),AND(A150=DATE(2027,12,31),$E$5="Ja")),"Betrieblich frei","Arbeitstag")))) -> Arbeitstag | G150: =IF($K$4<>"gültig","Eingabe prüfen",IF(F150="",0,IF(UPPER(TRIM(F150))<>"U","Eingabe prüfen",IF(E150="Arbeitstag",1,0)))) -> 0
A151: 46529 | B151: Samstag | D151: =IF($K$4<>"gültig","Eingabe prüfen",INDEX($B$7:$H$7,1,WEEKDAY(A151,2))) -> Nein | E151: =IF($K$4<>"gültig","Eingabe prüfen",IF(D151="Nein","Regulär frei",IF(C151<>"","Feiertag",IF(OR(AND(A151=DATE(2027,12,24),$B$5="Ja"),AND(A151=DATE(2027,12,31),$E$5="Ja")),"Betrieblich frei","Arbeitstag")))) -> Regulär frei | G151: =IF($K$4<>"gültig","Eingabe prüfen",IF(F151="",0,IF(UPPER(TRIM(F151))<>"U","Eingabe prüfen",IF(E151="Arbeitstag",1,0)))) -> 0
A152: 46530 | B152: Sonntag | D152: =IF($K$4<>"gültig","Eingabe prüfen",INDEX($B$7:$H$7,1,WEEKDAY(A152,2))) -> Nein | E152: =IF($K$4<>"gültig","Eingabe prüfen",IF(D152="Nein","Regulär frei",IF(C152<>"","Feiertag",IF(OR(AND(A152=DATE(2027,12,24),$B$5="Ja"),AND(A152=DATE(2027,12,31),$E$5="Ja")),"Betrieblich frei","Arbeitstag")))) -> Regulär frei | G152: =IF($K$4<>"gültig","Eingabe prüfen",IF(F152="",0,IF(UPPER(TRIM(F152))<>"U","Eingabe prüfen",IF(E152="Arbeitstag",1,0)))) -> 0
A153: 46531 | B153: Montag | D153: =IF($K$4<>"gültig","Eingabe prüfen",INDEX($B$7:$H$7,1,WEEKDAY(A153,2))) -> Ja | E153: =IF($K$4<>"gültig","Eingabe prüfen",IF(D153="Nein","Regulär frei",IF(C153<>"","Feiertag",IF(OR(AND(A153=DATE(2027,12,24),$B$5="Ja"),AND(A153=DATE(2027,12,31),$E$5="Ja")),"Betrieblich frei","Arbeitstag")))) -> Arbeitstag | G153: =IF($K$4<>"gültig","Eingabe prüfen",IF(F153="",0,IF(UPPER(TRIM(F153))<>"U","Eingabe prüfen",IF(E153="Arbeitstag",1,0)))) -> 0
A154: 46532 | B154: Dienstag | D154: =IF($K$4<>"gültig","Eingabe prüfen",INDEX($B$7:$H$7,1,WEEKDAY(A154,2))) -> Ja | E154: =IF($K$4<>"gültig","Eingabe prüfen",IF(D154="Nein","Regulär frei",IF(C154<>"","Feiertag",IF(OR(AND(A154=DATE(2027,12,24),$B$5="Ja"),AND(A154=DATE(2027,12,31),$E$5="Ja")),"Betrieblich frei","Arbeitstag")))) -> Arbeitstag | G154: =IF($K$4<>"gültig","Eingabe prüfen",IF(F154="",0,IF(UPPER(TRIM(F154))<>"U","Eingabe prüfen",IF(E154="Arbeitstag",1,0)))) -> 0
A155: 46533 | B155: Mittwoch | D155: =IF($K$4<>"gültig","Eingabe prüfen",INDEX($B$7:$H$7,1,WEEKDAY(A155,2))) -> Ja | E155: =IF($K$4<>"gültig","Eingabe prüfen",IF(D155="Nein","Regulär frei",IF(C155<>"","Feiertag",IF(OR(AND(A155=DATE(2027,12,24),$B$5="Ja"),AND(A155=DATE(2027,12,31),$E$5="Ja")),"Betrieblich frei","Arbeitstag")))) -> Arbeitstag | G155: =IF($K$4<>"gültig","Eingabe prüfen",IF(F155="",0,IF(UPPER(TRIM(F155))<>"U","Eingabe prüfen",IF(E155="Arbeitstag",1,0)))) -> 0
A156: 46534 | B156: Donnerstag | D156: =IF($K$4<>"gültig","Eingabe prüfen",INDEX($B$7:$H$7,1,WEEKDAY(A156,2))) -> Ja | E156: =IF($K$4<>"gültig","Eingabe prüfen",IF(D156="Nein","Regulär frei",IF(C156<>"","Feiertag",IF(OR(AND(A156=DATE(2027,12,24),$B$5="Ja"),AND(A156=DATE(2027,12,31),$E$5="Ja")),"Betrieblich frei","Arbeitstag")))) -> Arbeitstag | G156: =IF($K$4<>"gültig","Eingabe prüfen",IF(F156="",0,IF(UPPER(TRIM(F156))<>"U","Eingabe prüfen",IF(E156="Arbeitstag",1,0)))) -> 0
A157: 46535 | B157: Freitag | D157: =IF($K$4<>"gültig","Eingabe prüfen",INDEX($B$7:$H$7,1,WEEKDAY(A157,2))) -> Ja | E157: =IF($K$4<>"gültig","Eingabe prüfen",IF(D157="Nein","Regulär frei",IF(C157<>"","Feiertag",IF(OR(AND(A157=DATE(2027,12,24),$B$5="Ja"),AND(A157=DATE(2027,12,31),$E$5="Ja")),"Betrieblich frei","Arbeitstag")))) -> Arbeitstag | G157: =IF($K$4<>"gültig","Eingabe prüfen",IF(F157="",0,IF(UPPER(TRIM(F157))<>"U","Eingabe prüfen",IF(E157="Arbeitstag",1,0)))) -> 0
A158: 46536 | B158: Samstag | D158: =IF($K$4<>"gültig","Eingabe prüfen",INDEX($B$7:$H$7,1,WEEKDAY(A158,2))) -> Nein | E158: =IF($K$4<>"gültig","Eingabe prüfen",IF(D158="Nein","Regulär frei",IF(C158<>"","Feiertag",IF(OR(AND(A158=DATE(2027,12,24),$B$5="Ja"),AND(A158=DATE(2027,12,31),$E$5="Ja")),"Betrieblich frei","Arbeitstag")))) -> Regulär frei | G158: =IF($K$4<>"gültig","Eingabe prüfen",IF(F158="",0,IF(UPPER(TRIM(F158))<>"U","Eingabe prüfen",IF(E158="Arbeitstag",1,0)))) -> 0
... A284: 46662 | B284: Samstag | D284: =IF($K$4<>"gültig","Eingabe prüfen",INDEX($B$7:$H$7,1,WEEKDAY(A284,2))) -> Nein | E284: =IF($K$4<>"gültig","Eingabe prüfen",IF(D284="Nein","Regulär frei",IF(C284<>"","Feiertag",IF(OR(AND(A284=DATE(2027,12,24),$B$5="Ja"),AND(A284=DATE(2027,12,31),$E$5="Ja")),"Betrieblich frei","Arbeitstag")))) -> Regulär frei | G284: =IF($K$4<>"gültig","Eingabe prüfen",IF(F284="",0,IF(UPPER(TRIM(F284))<>"U","Eingabe prüfen",IF(E284="Arbeitstag",1,0)))) -> 0
A285: 46663 | B285: Sonntag | C285: Tag der Deutschen Einheit | D285: =IF($K$4<>"gültig","Eingabe prüfen",INDEX($B$7:$H$7,1,WEEKDAY(A285,2))) -> Nein | E285: =IF($K$4<>"gültig","Eingabe prüfen",IF(D285="Nein","Regulär frei",IF(C285<>"","Feiertag",IF(OR(AND(A285=DATE(2027,12,24),$B$5="Ja"),AND(A285=DATE(2027,12,31),$E$5="Ja")),"Betrieblich frei","Arbeitstag")))) -> Regulär frei | G285: =IF($K$4<>"gültig","Eingabe prüfen",IF(F285="",0,IF(UPPER(TRIM(F285))<>"U","Eingabe prüfen",IF(E285="Arbeitstag",1,0)))) -> 0
A286: 46664 | B286: Montag | D286: =IF($K$4<>"gültig","Eingabe prüfen",INDEX($B$7:$H$7,1,WEEKDAY(A286,2))) -> Ja | E286: =IF($K$4<>"gültig","Eingabe prüfen",IF(D286="Nein","Regulär frei",IF(C286<>"","Feiertag",IF(OR(AND(A286=DATE(2027,12,24),$B$5="Ja"),AND(A286=DATE(2027,12,31),$E$5="Ja")),"Betrieblich frei","Arbeitstag")))) -> Arbeitstag | G286: =IF($K$4<>"gültig","Eingabe prüfen",IF(F286="",0,IF(UPPER(TRIM(F286))<>"U","Eingabe prüfen",IF(E286="Arbeitstag",1,0)))) -> 0
A287: 46665 | B287: Dienstag | D287: =IF($K$4<>"gültig","Eingabe prüfen",INDEX($B$7:$H$7,1,WEEKDAY(A287,2))) -> Ja | E287: =IF($K$4<>"gültig","Eingabe prüfen",IF(D287="Nein","Regulär frei",IF(C287<>"","Feiertag",IF(OR(AND(A287=DATE(2027,12,24),$B$5="Ja"),AND(A287=DATE(2027,12,31),$E$5="Ja")),"Betrieblich frei","Arbeitstag")))) -> Arbeitstag | G287: =IF($K$4<>"gültig","Eingabe prüfen",IF(F287="",0,IF(UPPER(TRIM(F287))<>"U","Eingabe prüfen",IF(E287="Arbeitstag",1,0)))) -> 0
A288: 46666 | B288: Mittwoch | D288: =IF($K$4<>"gültig","Eingabe prüfen",INDEX($B$7:$H$7,1,WEEKDAY(A288,2))) -> Ja | E288: =IF($K$4<>"gültig","Eingabe prüfen",IF(D288="Nein","Regulär frei",IF(C288<>"","Feiertag",IF(OR(AND(A288=DATE(2027,12,24),$B$5="Ja"),AND(A288=DATE(2027,12,31),$E$5="Ja")),"Betrieblich frei","Arbeitstag")))) -> Arbeitstag | G288: =IF($K$4<>"gültig","Eingabe prüfen",IF(F288="",0,IF(UPPER(TRIM(F288))<>"U","Eingabe prüfen",IF(E288="Arbeitstag",1,0)))) -> 0
A289: 46667 | B289: Donnerstag | D289: =IF($K$4<>"gültig","Eingabe prüfen",INDEX($B$7:$H$7,1,WEEKDAY(A289,2))) -> Ja | E289: =IF($K$4<>"gültig","Eingabe prüfen",IF(D289="Nein","Regulär frei",IF(C289<>"","Feiertag",IF(OR(AND(A289=DATE(2027,12,24),$B$5="Ja"),AND(A289=DATE(2027,12,31),$E$5="Ja")),"Betrieblich frei","Arbeitstag")))) -> Arbeitstag | G289: =IF($K$4<>"gültig","Eingabe prüfen",IF(F289="",0,IF(UPPER(TRIM(F289))<>"U","Eingabe prüfen",IF(E289="Arbeitstag",1,0)))) -> 0
A290: 46668 | B290: Freitag | D290: =IF($K$4<>"gültig","Eingabe prüfen",INDEX($B$7:$H$7,1,WEEKDAY(A290,2))) -> Ja | E290: =IF($K$4<>"gültig","Eingabe prüfen",IF(D290="Nein","Regulär frei",IF(C290<>"","Feiertag",IF(OR(AND(A290=DATE(2027,12,24),$B$5="Ja"),AND(A290=DATE(2027,12,31),$E$5="Ja")),"Betrieblich frei","Arbeitstag")))) -> Arbeitstag | G290: =IF($K$4<>"gültig","Eingabe prüfen",IF(F290="",0,IF(UPPER(TRIM(F290))<>"U","Eingabe prüfen",IF(E290="Arbeitstag",1,0)))) -> 0
A291: 46669 | B291: Samstag | D291: =IF($K$4<>"gültig","Eingabe prüfen",INDEX($B$7:$H$7,1,WEEKDAY(A291,2))) -> Nein | E291: =IF($K$4<>"gültig","Eingabe prüfen",IF(D291="Nein","Regulär frei",IF(C291<>"","Feiertag",IF(OR(AND(A291=DATE(2027,12,24),$B$5="Ja"),AND(A291=DATE(2027,12,31),$E$5="Ja")),"Betrieblich frei","Arbeitstag")))) -> Regulär frei | G291: =IF($K$4<>"gültig","Eingabe prüfen",IF(F291="",0,IF(UPPER(TRIM(F291))<>"U","Eingabe prüfen",IF(E291="Arbeitstag",1,0)))) -> 0
A292: 46670 | B292: Sonntag | D292: =IF($K$4<>"gültig","Eingabe prüfen",INDEX($B$7:$H$7,1,WEEKDAY(A292,2))) -> Nein | E292: =IF($K$4<>"gültig","Eingabe prüfen",IF(D292="Nein","Regulär frei",IF(C292<>"","Feiertag",IF(OR(AND(A292=DATE(2027,12,24),$B$5="Ja"),AND(A292=DATE(2027,12,31),$E$5="Ja")),"Betrieblich frei","Arbeitstag")))) -> Regulär frei | G292: =IF($K$4<>"gültig","Eingabe prüfen",IF(F292="",0,IF(UPPER(TRIM(F292))<>"U","Eingabe prüfen",IF(E292="Arbeitstag",1,0)))) -> 0
A293: 46671 | B293: Montag | D293: =IF($K$4<>"gültig","Eingabe prüfen",INDEX($B$7:$H$7,1,WEEKDAY(A293,2))) -> Ja | E293: =IF($K$4<>"gültig","Eingabe prüfen",IF(D293="Nein","Regulär frei",IF(C293<>"","Feiertag",IF(OR(AND(A293=DATE(2027,12,24),$B$5="Ja"),AND(A293=DATE(2027,12,31),$E$5="Ja")),"Betrieblich frei","Arbeitstag")))) -> Arbeitstag | G293: =IF($K$4<>"gültig","Eingabe prüfen",IF(F293="",0,IF(UPPER(TRIM(F293))<>"U","Eingabe prüfen",IF(E293="Arbeitstag",1,0)))) -> 0
A294: 46672 | B294: Dienstag | D294: =IF($K$4<>"gültig","Eingabe prüfen",INDEX($B$7:$H$7,1,WEEKDAY(A294,2))) -> Ja | E294: =IF($K$4<>"gültig","Eingabe prüfen",IF(D294="Nein","Regulär frei",IF(C294<>"","Feiertag",IF(OR(AND(A294=DATE(2027,12,24),$B$5="Ja"),AND(A294=DATE(2027,12,31),$E$5="Ja")),"Betrieblich frei","Arbeitstag")))) -> Arbeitstag | G294: =IF($K$4<>"gültig","Eingabe prüfen",IF(F294="",0,IF(UPPER(TRIM(F294))<>"U","Eingabe prüfen",IF(E294="Arbeitstag",1,0)))) -> 0
A295: 46673 | B295: Mittwoch | D295: =IF($K$4<>"gültig","Eingabe prüfen",INDEX($B$7:$H$7,1,WEEKDAY(A295,2))) -> Ja | E295: =IF($K$4<>"gültig","Eingabe prüfen",IF(D295="Nein","Regulär frei",IF(C295<>"","Feiertag",IF(OR(AND(A295=DATE(2027,12,24),$B$5="Ja"),AND(A295=DATE(2027,12,31),$E$5="Ja")),"Betrieblich frei","Arbeitstag")))) -> Arbeitstag | G295: =IF($K$4<>"gültig","Eingabe prüfen",IF(F295="",0,IF(UPPER(TRIM(F295))<>"U","Eingabe prüfen",IF(E295="Arbeitstag",1,0)))) -> 0
A296: 46674 | B296: Donnerstag | D296: =IF($K$4<>"gültig","Eingabe prüfen",INDEX($B$7:$H$7,1,WEEKDAY(A296,2))) -> Ja | E296: =IF($K$4<>"gültig","Eingabe prüfen",IF(D296="Nein","Regulär frei",IF(C296<>"","Feiertag",IF(OR(AND(A296=DATE(2027,12,24),$B$5="Ja"),AND(A296=DATE(2027,12,31),$E$5="Ja")),"Betrieblich frei","Arbeitstag")))) -> Arbeitstag | G296: =IF($K$4<>"gültig","Eingabe prüfen",IF(F296="",0,IF(UPPER(TRIM(F296))<>"U","Eingabe prüfen",IF(E296="Arbeitstag",1,0)))) -> 0
A297: 46675 | B297: Freitag | D297: =IF($K$4<>"gültig","Eingabe prüfen",INDEX($B$7:$H$7,1,WEEKDAY(A297,2))) -> Ja | E297: =IF($K$4<>"gültig","Eingabe prüfen",IF(D297="Nein","Regulär frei",IF(C297<>"","Feiertag",IF(OR(AND(A297=DATE(2027,12,24),$B$5="Ja"),AND(A297=DATE(2027,12,31),$E$5="Ja")),"Betrieblich frei","Arbeitstag")))) -> Arbeitstag | G297: =IF($K$4<>"gültig","Eingabe prüfen",IF(F297="",0,IF(UPPER(TRIM(F297))<>"U","Eingabe prüfen",IF(E297="Arbeitstag",1,0)))) -> 0
... A312: 46690 | B312: Samstag | D312: =IF($K$4<>"gültig","Eingabe prüfen",INDEX($B$7:$H$7,1,WEEKDAY(A312,2))) -> Nein | E312: =IF($K$4<>"gültig","Eingabe prüfen",IF(D312="Nein","Regulär frei",IF(C312<>"","Feiertag",IF(OR(AND(A312=DATE(2027,12,24),$B$5="Ja"),AND(A312=DATE(2027,12,31),$E$5="Ja")),"Betrieblich frei","Arbeitstag")))) -> Regulär frei | G312: =IF($K$4<>"gültig","Eingabe prüfen",IF(F312="",0,IF(UPPER(TRIM(F312))<>"U","Eingabe prüfen",IF(E312="Arbeitstag",1,0)))) -> 0
A313: 46691 | B313: Sonntag | C313: Reformationstag | D313: =IF($K$4<>"gültig","Eingabe prüfen",INDEX($B$7:$H$7,1,WEEKDAY(A313,2))) -> Nein | E313: =IF($K$4<>"gültig","Eingabe prüfen",IF(D313="Nein","Regulär frei",IF(C313<>"","Feiertag",IF(OR(AND(A313=DATE(2027,12,24),$B$5="Ja"),AND(A313=DATE(2027,12,31),$E$5="Ja")),"Betrieblich frei","Arbeitstag")))) -> Regulär frei | G313: =IF($K$4<>"gültig","Eingabe prüfen",IF(F313="",0,IF(UPPER(TRIM(F313))<>"U","Eingabe prüfen",IF(E313="Arbeitstag",1,0)))) -> 0
A314: 46692 | B314: Montag | D314: =IF($K$4<>"gültig","Eingabe prüfen",INDEX($B$7:$H$7,1,WEEKDAY(A314,2))) -> Ja | E314: =IF($K$4<>"gültig","Eingabe prüfen",IF(D314="Nein","Regulär frei",IF(C314<>"","Feiertag",IF(OR(AND(A314=DATE(2027,12,24),$B$5="Ja"),AND(A314=DATE(2027,12,31),$E$5="Ja")),"Betrieblich frei","Arbeitstag")))) -> Arbeitstag | G314: =IF($K$4<>"gültig","Eingabe prüfen",IF(F314="",0,IF(UPPER(TRIM(F314))<>"U","Eingabe prüfen",IF(E314="Arbeitstag",1,0)))) -> 0
A315: 46693 | B315: Dienstag | D315: =IF($K$4<>"gültig","Eingabe prüfen",INDEX($B$7:$H$7,1,WEEKDAY(A315,2))) -> Ja | E315: =IF($K$4<>"gültig","Eingabe prüfen",IF(D315="Nein","Regulär frei",IF(C315<>"","Feiertag",IF(OR(AND(A315=DATE(2027,12,24),$B$5="Ja"),AND(A315=DATE(2027,12,31),$E$5="Ja")),"Betrieblich frei","Arbeitstag")))) -> Arbeitstag | G315: =IF($K$4<>"gültig","Eingabe prüfen",IF(F315="",0,IF(UPPER(TRIM(F315))<>"U","Eingabe prüfen",IF(E315="Arbeitstag",1,0)))) -> 0
A316: 46694 | B316: Mittwoch | D316: =IF($K$4<>"gültig","Eingabe prüfen",INDEX($B$7:$H$7,1,WEEKDAY(A316,2))) -> Ja | E316: =IF($K$4<>"gültig","Eingabe prüfen",IF(D316="Nein","Regulär frei",IF(C316<>"","Feiertag",IF(OR(AND(A316=DATE(2027,12,24),$B$5="Ja"),AND(A316=DATE(2027,12,31),$E$5="Ja")),"Betrieblich frei","Arbeitstag")))) -> Arbeitstag | G316: =IF($K$4<>"gültig","Eingabe prüfen",IF(F316="",0,IF(UPPER(TRIM(F316))<>"U","Eingabe prüfen",IF(E316="Arbeitstag",1,0)))) -> 0
A317: 46695 | B317: Donnerstag | D317: =IF($K$4<>"gültig","Eingabe prüfen",INDEX($B$7:$H$7,1,WEEKDAY(A317,2))) -> Ja | E317: =IF($K$4<>"gültig","Eingabe prüfen",IF(D317="Nein","Regulär frei",IF(C317<>"","Feiertag",IF(OR(AND(A317=DATE(2027,12,24),$B$5="Ja"),AND(A317=DATE(2027,12,31),$E$5="Ja")),"Betrieblich frei","Arbeitstag")))) -> Arbeitstag | G317: =IF($K$4<>"gültig","Eingabe prüfen",IF(F317="",0,IF(UPPER(TRIM(F317))<>"U","Eingabe prüfen",IF(E317="Arbeitstag",1,0)))) -> 0
A318: 46696 | B318: Freitag | D318: =IF($K$4<>"gültig","Eingabe prüfen",INDEX($B$7:$H$7,1,WEEKDAY(A318,2))) -> Ja | E318: =IF($K$4<>"gültig","Eingabe prüfen",IF(D318="Nein","Regulär frei",IF(C318<>"","Feiertag",IF(OR(AND(A318=DATE(2027,12,24),$B$5="Ja"),AND(A318=DATE(2027,12,31),$E$5="Ja")),"Betrieblich frei","Arbeitstag")))) -> Arbeitstag | G318: =IF($K$4<>"gültig","Eingabe prüfen",IF(F318="",0,IF(UPPER(TRIM(F318))<>"U","Eingabe prüfen",IF(E318="Arbeitstag",1,0)))) -> 0
A319: 46697 | B319: Samstag | D319: =IF($K$4<>"gültig","Eingabe prüfen",INDEX($B$7:$H$7,1,WEEKDAY(A319,2))) -> Nein | E319: =IF($K$4<>"gültig","Eingabe prüfen",IF(D319="Nein","Regulär frei",IF(C319<>"","Feiertag",IF(OR(AND(A319=DATE(2027,12,24),$B$5="Ja"),AND(A319=DATE(2027,12,31),$E$5="Ja")),"Betrieblich frei","Arbeitstag")))) -> Regulär frei | G319: =IF($K$4<>"gültig","Eingabe prüfen",IF(F319="",0,IF(UPPER(TRIM(F319))<>"U","Eingabe prüfen",IF(E319="Arbeitstag",1,0)))) -> 0
A320: 46698 | B320: Sonntag | D320: =IF($K$4<>"gültig","Eingabe prüfen",INDEX($B$7:$H$7,1,WEEKDAY(A320,2))) -> Nein | E320: =IF($K$4<>"gültig","Eingabe prüfen",IF(D320="Nein","Regulär frei",IF(C320<>"","Feiertag",IF(OR(AND(A320=DATE(2027,12,24),$B$5="Ja"),AND(A320=DATE(2027,12,31),$E$5="Ja")),"Betrieblich frei","Arbeitstag")))) -> Regulär frei | G320: =IF($K$4<>"gültig","Eingabe prüfen",IF(F320="",0,IF(UPPER(TRIM(F320))<>"U","Eingabe prüfen",IF(E320="Arbeitstag",1,0)))) -> 0
A321: 46699 | B321: Montag | D321: =IF($K$4<>"gültig","Eingabe prüfen",INDEX($B$7:$H$7,1,WEEKDAY(A321,2))) -> Ja | E321: =IF($K$4<>"gültig","Eingabe prüfen",IF(D321="Nein","Regulär frei",IF(C321<>"","Feiertag",IF(OR(AND(A321=DATE(2027,12,24),$B$5="Ja"),AND(A321=DATE(2027,12,31),$E$5="Ja")),"Betrieblich frei","Arbeitstag")))) -> Arbeitstag | G321: =IF($K$4<>"gültig","Eingabe prüfen",IF(F321="",0,IF(UPPER(TRIM(F321))<>"U","Eingabe prüfen",IF(E321="Arbeitstag",1,0)))) -> 0
A322: 46700 | B322: Dienstag | D322: =IF($K$4<>"gültig","Eingabe prüfen",INDEX($B$7:$H$7,1,WEEKDAY(A322,2))) -> Ja | E322: =IF($K$4<>"gültig","Eingabe prüfen",IF(D322="Nein","Regulär frei",IF(C322<>"","Feiertag",IF(OR(AND(A322=DATE(2027,12,24),$B$5="Ja"),AND(A322=DATE(2027,12,31),$E$5="Ja")),"Betrieblich frei","Arbeitstag")))) -> Arbeitstag | G322: =IF($K$4<>"gültig","Eingabe prüfen",IF(F322="",0,IF(UPPER(TRIM(F322))<>"U","Eingabe prüfen",IF(E322="Arbeitstag",1,0)))) -> 0
A323: 46701 | B323: Mittwoch | D323: =IF($K$4<>"gültig","Eingabe prüfen",INDEX($B$7:$H$7,1,WEEKDAY(A323,2))) -> Ja | E323: =IF($K$4<>"gültig","Eingabe prüfen",IF(D323="Nein","Regulär frei",IF(C323<>"","Feiertag",IF(OR(AND(A323=DATE(2027,12,24),$B$5="Ja"),AND(A323=DATE(2027,12,31),$E$5="Ja")),"Betrieblich frei","Arbeitstag")))) -> Arbeitstag | G323: =IF($K$4<>"gültig","Eingabe prüfen",IF(F323="",0,IF(UPPER(TRIM(F323))<>"U","Eingabe prüfen",IF(E323="Arbeitstag",1,0)))) -> 0
A324: 46702 | B324: Donnerstag | D324: =IF($K$4<>"gültig","Eingabe prüfen",INDEX($B$7:$H$7,1,WEEKDAY(A324,2))) -> Ja | E324: =IF($K$4<>"gültig","Eingabe prüfen",IF(D324="Nein","Regulär frei",IF(C324<>"","Feiertag",IF(OR(AND(A324=DATE(2027,12,24),$B$5="Ja"),AND(A324=DATE(2027,12,31),$E$5="Ja")),"Betrieblich frei","Arbeitstag")))) -> Arbeitstag | G324: =IF($K$4<>"gültig","Eingabe prüfen",IF(F324="",0,IF(UPPER(TRIM(F324))<>"U","Eingabe prüfen",IF(E324="Arbeitstag",1,0)))) -> 0
A325: 46703 | B325: Freitag | D325: =IF($K$4<>"gültig","Eingabe prüfen",INDEX($B$7:$H$7,1,WEEKDAY(A325,2))) -> Ja | E325: =IF($K$4<>"gültig","Eingabe prüfen",IF(D325="Nein","Regulär frei",IF(C325<>"","Feiertag",IF(OR(AND(A325=DATE(2027,12,24),$B$5="Ja"),AND(A325=DATE(2027,12,31),$E$5="Ja")),"Betrieblich frei","Arbeitstag")))) -> Arbeitstag | G325: =IF($K$4<>"gültig","Eingabe prüfen",IF(F325="",0,IF(UPPER(TRIM(F325))<>"U","Eingabe prüfen",IF(E325="Arbeitstag",1,0)))) -> 0
... A367: 46745 | B367: Freitag | D367: =IF($K$4<>"gültig","Eingabe prüfen",INDEX($B$7:$H$7,1,WEEKDAY(A367,2))) -> Ja | E367: =IF($K$4<>"gültig","Eingabe prüfen",IF(D367="Nein","Regulär frei",IF(C367<>"","Feiertag",IF(OR(AND(A367=DATE(2027,12,24),$B$5="Ja"),AND(A367=DATE(2027,12,31),$E$5="Ja")),"Betrieblich frei","Arbeitstag")))) -> Arbeitstag | G367: =IF($K$4<>"gültig","Eingabe prüfen",IF(F367="",0,IF(UPPER(TRIM(F367))<>"U","Eingabe prüfen",IF(E367="Arbeitstag",1,0)))) -> 0
A368: 46746 | B368: Samstag | C368: 1. Weihnachtstag | D368: =IF($K$4<>"gültig","Eingabe prüfen",INDEX($B$7:$H$7,1,WEEKDAY(A368,2))) -> Nein | E368: =IF($K$4<>"gültig","Eingabe prüfen",IF(D368="Nein","Regulär frei",IF(C368<>"","Feiertag",IF(OR(AND(A368=DATE(2027,12,24),$B$5="Ja"),AND(A368=DATE(2027,12,31),$E$5="Ja")),"Betrieblich frei","Arbeitstag")))) -> Regulär frei | G368: =IF($K$4<>"gültig","Eingabe prüfen",IF(F368="",0,IF(UPPER(TRIM(F368))<>"U","Eingabe prüfen",IF(E368="Arbeitstag",1,0)))) -> 0
A369: 46747 | B369: Sonntag | C369: 2. Weihnachtstag | D369: =IF($K$4<>"gültig","Eingabe prüfen",INDEX($B$7:$H$7,1,WEEKDAY(A369,2))) -> Nein | E369: =IF($K$4<>"gültig","Eingabe prüfen",IF(D369="Nein","Regulär frei",IF(C369<>"","Feiertag",IF(OR(AND(A369=DATE(2027,12,24),$B$5="Ja"),AND(A369=DATE(2027,12,31),$E$5="Ja")),"Betrieblich frei","Arbeitstag")))) -> Regulär frei | G369: =IF($K$4<>"gültig","Eingabe prüfen",IF(F369="",0,IF(UPPER(TRIM(F369))<>"U","Eingabe prüfen",IF(E369="Arbeitstag",1,0)))) -> 0
A370: 46748 | B370: Montag | D370: =IF($K$4<>"gültig","Eingabe prüfen",INDEX($B$7:$H$7,1,WEEKDAY(A370,2))) -> Ja | E370: =IF($K$4<>"gültig","Eingabe prüfen",IF(D370="Nein","Regulär frei",IF(C370<>"","Feiertag",IF(OR(AND(A370=DATE(2027,12,24),$B$5="Ja"),AND(A370=DATE(2027,12,31),$E$5="Ja")),"Betrieblich frei","Arbeitstag")))) -> Arbeitstag | G370: =IF($K$4<>"gültig","Eingabe prüfen",IF(F370="",0,IF(UPPER(TRIM(F370))<>"U","Eingabe prüfen",IF(E370="Arbeitstag",1,0)))) -> 0
A371: 46749 | B371: Dienstag | D371: =IF($K$4<>"gültig","Eingabe prüfen",INDEX($B$7:$H$7,1,WEEKDAY(A371,2))) -> Ja | E371: =IF($K$4<>"gültig","Eingabe prüfen",IF(D371="Nein","Regulär frei",IF(C371<>"","Feiertag",IF(OR(AND(A371=DATE(2027,12,24),$B$5="Ja"),AND(A371=DATE(2027,12,31),$E$5="Ja")),"Betrieblich frei","Arbeitstag")))) -> Arbeitstag | G371: =IF($K$4<>"gültig","Eingabe prüfen",IF(F371="",0,IF(UPPER(TRIM(F371))<>"U","Eingabe prüfen",IF(E371="Arbeitstag",1,0)))) -> 0
...

Sheet Jahresübersicht
A2: Urlaubsplaner 2027: Bremen
A4: Einträge auf Plan. | I4: Verplant | L4: =Plan!E4 -> 0 | Q4: Übrig | T4: =Plan!H4 -> 30
A6: U: Urlaubstag. F: gesetzlicher Feiertag. frei: regulär oder betrieblich frei.
A8: Januar | I8: Februar | Q8: März
A9: Mo | B9: Di | C9: Mi | D9: Do | E9: Fr | F9: Sa | G9: So | I9: Mo | J9: Di | K9: Mi | L9: Do | M9: Fr | N9: Sa | O9: So | Q9: Mo | R9: Di | S9: Mi | T9: Do | U9: Fr | V9: Sa | W9: So
E10: 46388 | F10: 46389 | G10: 46390 | I10: 46419 | J10: 46420 | K10: 46421 | L10: 46422 | M10: 46423 | N10: 46424 | O10: 46425 | Q10: 46447 | R10: 46448 | S10: 46449 | T10: 46450 | U10: 46451 | V10: 46452 | W10: 46453
E11: =IF(INDEX(Plan!$G$10:$G$374,MATCH(E10,Plan!$A$10:$A$374,0))="Eingabe prüfen","?",IF(INDEX(Plan!$G$10:$G$374,MATCH(E10,Plan!$A$10:$A$374,0))=1,"U",IF(INDEX(Plan!$C$10:$C$374,MATCH(E10,Plan!$A$10:$A$374,0))<>"","F",IF(INDEX(Plan!$E$10:$E$374,MATCH(E10,Plan!$A$10:$A$374,0))="Arbeitstag","","frei")))) -> F | F11: =IF(INDEX(Plan!$G$10:$G$374,MATCH(F10,Plan!$A$10:$A$374,0))="Eingabe prüfen","?",IF(INDEX(Plan!$G$10:$G$374,MATCH(F10,Plan!$A$10:$A$374,0))=1,"U",IF(INDEX(Plan!$C$10:$C$374,MATCH(F10,Plan!$A$10:$A$374,0))<>"","F",IF(INDEX(Plan!$E$10:$E$374,MATCH(F10,Plan!$A$10:$A$374,0))="Arbeitstag","","frei")))) -> frei | G11: =IF(INDEX(Plan!$G$10:$G$374,MATCH(G10,Plan!$A$10:$A$374,0))="Eingabe prüfen","?",IF(INDEX(Plan!$G$10:$G$374,MATCH(G10,Plan!$A$10:$A$374,0))=1,"U",IF(INDEX(Plan!$C$10:$C$374,MATCH(G10,Plan!$A$10:$A$374,0))<>"","F",IF(INDEX(Plan!$E$10:$E$374,MATCH(G10,Plan!$A$10:$A$374,0))="Arbeitstag","","frei")))) -> frei | I11: =IF(INDEX(Plan!$G$10:$G$374,MATCH(I10,Plan!$A$10:$A$374,0))="Eingabe prüfen","?",IF(INDEX(Plan!$G$10:$G$374,MATCH(I10,Plan!$A$10:$A$374,0))=1,"U",IF(INDEX(Plan!$C$10:$C$374,MATCH(I10,Plan!$A$10:$A$374,0))<>"","F",IF(INDEX(Plan!$E$10:$E$374,MATCH(I10,Plan!$A$10:$A$374,0))="Arbeitstag","","frei")))) | J11: =IF(INDEX(Plan!$G$10:$G$374,MATCH(J10,Plan!$A$10:$A$374,0))="Eingabe prüfen","?",IF(INDEX(Plan!$G$10:$G$374,MATCH(J10,Plan!$A$10:$A$374,0))=1,"U",IF(INDEX(Plan!$C$10:$C$374,MATCH(J10,Plan!$A$10:$A$374,0))<>"","F",IF(INDEX(Plan!$E$10:$E$374,MATCH(J10,Plan!$A$10:$A$374,0))="Arbeitstag","","frei")))) | K11: =IF(INDEX(Plan!$G$10:$G$374,MATCH(K10,Plan!$A$10:$A$374,0))="Eingabe prüfen","?",IF(INDEX(Plan!$G$10:$G$374,MATCH(K10,Plan!$A$10:$A$374,0))=1,"U",IF(INDEX(Plan!$C$10:$C$374,MATCH(K10,Plan!$A$10:$A$374,0))<>"","F",IF(INDEX(Plan!$E$10:$E$374,MATCH(K10,Plan!$A$10:$A$374,0))="Arbeitstag","","frei")))) | L11: =IF(INDEX(Plan!$G$10:$G$374,MATCH(L10,Plan!$A$10:$A$374,0))="Eingabe prüfen","?",IF(INDEX(Plan!$G$10:$G$374,MATCH(L10,Plan!$A$10:$A$374,0))=1,"U",IF(INDEX(Plan!$C$10:$C$374,MATCH(L10,Plan!$A$10:$A$374,0))<>"","F",IF(INDEX(Plan!$E$10:$E$374,MATCH(L10,Plan!$A$10:$A$374,0))="Arbeitstag","","frei")))) | M11: =IF(INDEX(Plan!$G$10:$G$374,MATCH(M10,Plan!$A$10:$A$374,0))="Eingabe prüfen","?",IF(INDEX(Plan!$G$10:$G$374,MATCH(M10,Plan!$A$10:$A$374,0))=1,"U",IF(INDEX(Plan!$C$10:$C$374,MATCH(M10,Plan!$A$10:$A$374,0))<>"","F",IF(INDEX(Plan!$E$10:$E$374,MATCH(M10,Plan!$A$10:$A$374,0))="Arbeitstag","","frei")))) | N11: =IF(INDEX(Plan!$G$10:$G$374,MATCH(N10,Plan!$A$10:$A$374,0))="Eingabe prüfen","?",IF(INDEX(Plan!$G$10:$G$374,MATCH(N10,Plan!$A$10:$A$374,0))=1,"U",IF(INDEX(Plan!$C$10:$C$374,MATCH(N10,Plan!$A$10:$A$374,0))<>"","F",IF(INDEX(Plan!$E$10:$E$374,MATCH(N10,Plan!$A$10:$A$374,0))="Arbeitstag","","frei")))) -> frei | O11: =IF(INDEX(Plan!$G$10:$G$374,MATCH(O10,Plan!$A$10:$A$374,0))="Eingabe prüfen","?",IF(INDEX(Plan!$G$10:$G$374,MATCH(O10,Plan!$A$10:$A$374,0))=1,"U",IF(INDEX(Plan!$C$10:$C$374,MATCH(O10,Plan!$A$10:$A$374,0))<>"","F",IF(INDEX(Plan!$E$10:$E$374,MATCH(O10,Plan!$A$10:$A$374,0))="Arbeitstag","","frei")))) -> frei | Q11: =IF(INDEX(Plan!$G$10:$G$374,MATCH(Q10,Plan!$A$10:$A$374,0))="Eingabe prüfen","?",IF(INDEX(Plan!$G$10:$G$374,MATCH(Q10,Plan!$A$10:$A$374,0))=1,"U",IF(INDEX(Plan!$C$10:$C$374,MATCH(Q10,Plan!$A$10:$A$374,0))<>"","F",IF(INDEX(Plan!$E$10:$E$374,MATCH(Q10,Plan!$A$10:$A$374,0))="Arbeitstag","","frei")))) | R11: =IF(INDEX(Plan!$G$10:$G$374,MATCH(R10,Plan!$A$10:$A$374,0))="Eingabe prüfen","?",IF(INDEX(Plan!$G$10:$G$374,MATCH(R10,Plan!$A$10:$A$374,0))=1,"U",IF(INDEX(Plan!$C$10:$C$374,MATCH(R10,Plan!$A$10:$A$374,0))<>"","F",IF(INDEX(Plan!$E$10:$E$374,MATCH(R10,Plan!$A$10:$A$374,0))="Arbeitstag","","frei")))) | S11: =IF(INDEX(Plan!$G$10:$G$374,MATCH(S10,Plan!$A$10:$A$374,0))="Eingabe prüfen","?",IF(INDEX(Plan!$G$10:$G$374,MATCH(S10,Plan!$A$10:$A$374,0))=1,"U",IF(INDEX(Plan!$C$10:$C$374,MATCH(S10,Plan!$A$10:$A$374,0))<>"","F",IF(INDEX(Plan!$E$10:$E$374,MATCH(S10,Plan!$A$10:$A$374,0))="Arbeitstag","","frei")))) | T11: =IF(INDEX(Plan!$G$10:$G$374,MATCH(T10,Plan!$A$10:$A$374,0))="Eingabe prüfen","?",IF(INDEX(Plan!$G$10:$G$374,MATCH(T10,Plan!$A$10:$A$374,0))=1,"U",IF(INDEX(Plan!$C$10:$C$374,MATCH(T10,Plan!$A$10:$A$374,0))<>"","F",IF(INDEX(Plan!$E$10:$E$374,MATCH(T10,Plan!$A$10:$A$374,0))="Arbeitstag","","frei")))) | U11: =IF(INDEX(Plan!$G$10:$G$374,MATCH(U10,Plan!$A$10:$A$374,0))="Eingabe prüfen","?",IF(INDEX(Plan!$G$10:$G$374,MATCH(U10,Plan!$A$10:$A$374,0))=1,"U",IF(INDEX(Plan!$C$10:$C$374,MATCH(U10,Plan!$A$10:$A$374,0))<>"","F",IF(INDEX(Plan!$E$10:$E$374,MATCH(U10,Plan!$A$10:$A$374,0))="Arbeitstag","","frei")))) | V11: =IF(INDEX(Plan!$G$10:$G$374,MATCH(V10,Plan!$A$10:$A$374,0))="Eingabe prüfen","?",IF(INDEX(Plan!$G$10:$G$374,MATCH(V10,Plan!$A$10:$A$374,0))=1,"U",IF(INDEX(Plan!$C$10:$C$374,MATCH(V10,Plan!$A$10:$A$374,0))<>"","F",IF(INDEX(Plan!$E$10:$E$374,MATCH(V10,Plan!$A$10:$A$374,0))="Arbeitstag","","frei")))) -> frei | W11: =IF(INDEX(Plan!$G$10:$G$374,MATCH(W10,Plan!$A$10:$A$374,0))="Eingabe prüfen","?",IF(INDEX(Plan!$G$10:$G$374,MATCH(W10,Plan!$A$10:$A$374,0))=1,"U",IF(INDEX(Plan!$C$10:$C$374,MATCH(W10,Plan!$A$10:$A$374,0))<>"","F",IF(INDEX(Plan!$E$10:$E$374,MATCH(W10,Plan!$A$10:$A$374,0))="Arbeitstag","","frei")))) -> frei
A12: 46391 | B12: 46392 | C12: 46393 | D12: 46394 | E12: 46395 | F12: 46396 | G12: 46397 | I12: 46426 | J12: 46427 | K12: 46428 | L12: 46429 | M12: 46430 | N12: 46431 | O12: 46432 | Q12: 46454 | R12: 46455 | S12: 46456 | T12: 46457 | U12: 46458 | V12: 46459 | W12: 46460
A13: =IF(INDEX(Plan!$G$10:$G$374,MATCH(A12,Plan!$A$10:$A$374,0))="Eingabe prüfen","?",IF(INDEX(Plan!$G$10:$G$374,MATCH(A12,Plan!$A$10:$A$374,0))=1,"U",IF(INDEX(Plan!$C$10:$C$374,MATCH(A12,Plan!$A$10:$A$374,0))<>"","F",IF(INDEX(Plan!$E$10:$E$374,MATCH(A12,Plan!$A$10:$A$374,0))="Arbeitstag","","frei")))) | B13: =IF(INDEX(Plan!$G$10:$G$374,MATCH(B12,Plan!$A$10:$A$374,0))="Eingabe prüfen","?",IF(INDEX(Plan!$G$10:$G$374,MATCH(B12,Plan!$A$10:$A$374,0))=1,"U",IF(INDEX(Plan!$C$10:$C$374,MATCH(B12,Plan!$A$10:$A$374,0))<>"","F",IF(INDEX(Plan!$E$10:$E$374,MATCH(B12,Plan!$A$10:$A$374,0))="Arbeitstag","","frei")))) | C13: =IF(INDEX(Plan!$G$10:$G$374,MATCH(C12,Plan!$A$10:$A$374,0))="Eingabe prüfen","?",IF(INDEX(Plan!$G$10:$G$374,MATCH(C12,Plan!$A$10:$A$374,0))=1,"U",IF(INDEX(Plan!$C$10:$C$374,MATCH(C12,Plan!$A$10:$A$374,0))<>"","F",IF(INDEX(Plan!$E$10:$E$374,MATCH(C12,Plan!$A$10:$A$374,0))="Arbeitstag","","frei")))) | D13: =IF(INDEX(Plan!$G$10:$G$374,MATCH(D12,Plan!$A$10:$A$374,0))="Eingabe prüfen","?",IF(INDEX(Plan!$G$10:$G$374,MATCH(D12,Plan!$A$10:$A$374,0))=1,"U",IF(INDEX(Plan!$C$10:$C$374,MATCH(D12,Plan!$A$10:$A$374,0))<>"","F",IF(INDEX(Plan!$E$10:$E$374,MATCH(D12,Plan!$A$10:$A$374,0))="Arbeitstag","","frei")))) | E13: =IF(INDEX(Plan!$G$10:$G$374,MATCH(E12,Plan!$A$10:$A$374,0))="Eingabe prüfen","?",IF(INDEX(Plan!$G$10:$G$374,MATCH(E12,Plan!$A$10:$A$374,0))=1,"U",IF(INDEX(Plan!$C$10:$C$374,MATCH(E12,Plan!$A$10:$A$374,0))<>"","F",IF(INDEX(Plan!$E$10:$E$374,MATCH(E12,Plan!$A$10:$A$374,0))="Arbeitstag","","frei")))) | F13: =IF(INDEX(Plan!$G$10:$G$374,MATCH(F12,Plan!$A$10:$A$374,0))="Eingabe prüfen","?",IF(INDEX(Plan!$G$10:$G$374,MATCH(F12,Plan!$A$10:$A$374,0))=1,"U",IF(INDEX(Plan!$C$10:$C$374,MATCH(F12,Plan!$A$10:$A$374,0))<>"","F",IF(INDEX(Plan!$E$10:$E$374,MATCH(F12,Plan!$A$10:$A$374,0))="Arbeitstag","","frei")))) -> frei | G13: =IF(INDEX(Plan!$G$10:$G$374,MATCH(G12,Plan!$A$10:$A$374,0))="Eingabe prüfen","?",IF(INDEX(Plan!$G$10:$G$374,MATCH(G12,Plan!$A$10:$A$374,0))=1,"U",IF(INDEX(Plan!$C$10:$C$374,MATCH(G12,Plan!$A$10:$A$374,0))<>"","F",IF(INDEX(Plan!$E$10:$E$374,MATCH(G12,Plan!$A$10:$A$374,0))="Arbeitstag","","frei")))) -> frei | I13: =IF(INDEX(Plan!$G$10:$G$374,MATCH(I12,Plan!$A$10:$A$374,0))="Eingabe prüfen","?",IF(INDEX(Plan!$G$10:$G$374,MATCH(I12,Plan!$A$10:$A$374,0))=1,"U",IF(INDEX(Plan!$C$10:$C$374,MATCH(I12,Plan!$A$10:$A$374,0))<>"","F",IF(INDEX(Plan!$E$10:$E$374,MATCH(I12,Plan!$A$10:$A$374,0))="Arbeitstag","","frei")))) | J13: =IF(INDEX(Plan!$G$10:$G$374,MATCH(J12,Plan!$A$10:$A$374,0))="Eingabe prüfen","?",IF(INDEX(Plan!$G$10:$G$374,MATCH(J12,Plan!$A$10:$A$374,0))=1,"U",IF(INDEX(Plan!$C$10:$C$374,MATCH(J12,Plan!$A$10:$A$374,0))<>"","F",IF(INDEX(Plan!$E$10:$E$374,MATCH(J12,Plan!$A$10:$A$374,0))="Arbeitstag","","frei")))) | K13: =IF(INDEX(Plan!$G$10:$G$374,MATCH(K12,Plan!$A$10:$A$374,0))="Eingabe prüfen","?",IF(INDEX(Plan!$G$10:$G$374,MATCH(K12,Plan!$A$10:$A$374,0))=1,"U",IF(INDEX(Plan!$C$10:$C$374,MATCH(K12,Plan!$A$10:$A$374,0))<>"","F",IF(INDEX(Plan!$E$10:$E$374,MATCH(K12,Plan!$A$10:$A$374,0))="Arbeitstag","","frei")))) | L13: =IF(INDEX(Plan!$G$10:$G$374,MATCH(L12,Plan!$A$10:$A$374,0))="Eingabe prüfen","?",IF(INDEX(Plan!$G$10:$G$374,MATCH(L12,Plan!$A$10:$A$374,0))=1,"U",IF(INDEX(Plan!$C$10:$C$374,MATCH(L12,Plan!$A$10:$A$374,0))<>"","F",IF(INDEX(Plan!$E$10:$E$374,MATCH(L12,Plan!$A$10:$A$374,0))="Arbeitstag","","frei")))) | M13: =IF(INDEX(Plan!$G$10:$G$374,MATCH(M12,Plan!$A$10:$A$374,0))="Eingabe prüfen","?",IF(INDEX(Plan!$G$10:$G$374,MATCH(M12,Plan!$A$10:$A$374,0))=1,"U",IF(INDEX(Plan!$C$10:$C$374,MATCH(M12,Plan!$A$10:$A$374,0))<>"","F",IF(INDEX(Plan!$E$10:$E$374,MATCH(M12,Plan!$A$10:$A$374,0))="Arbeitstag","","frei")))) | N13: =IF(INDEX(Plan!$G$10:$G$374,MATCH(N12,Plan!$A$10:$A$374,0))="Eingabe prüfen","?",IF(INDEX(Plan!$G$10:$G$374,MATCH(N12,Plan!$A$10:$A$374,0))=1,"U",IF(INDEX(Plan!$C$10:$C$374,MATCH(N12,Plan!$A$10:$A$374,0))<>"","F",IF(INDEX(Plan!$E$10:$E$374,MATCH(N12,Plan!$A$10:$A$374,0))="Arbeitstag","","frei")))) -> frei | O13: =IF(INDEX(Plan!$G$10:$G$374,MATCH(O12,Plan!$A$10:$A$374,0))="Eingabe prüfen","?",IF(INDEX(Plan!$G$10:$G$374,MATCH(O12,Plan!$A$10:$A$374,0))=1,"U",IF(INDEX(Plan!$C$10:$C$374,MATCH(O12,Plan!$A$10:$A$374,0))<>"","F",IF(INDEX(Plan!$E$10:$E$374,MATCH(O12,Plan!$A$10:$A$374,0))="Arbeitstag","","frei")))) -> frei | Q13: =IF(INDEX(Plan!$G$10:$G$374,MATCH(Q12,Plan!$A$10:$A$374,0))="Eingabe prüfen","?",IF(INDEX(Plan!$G$10:$G$374,MATCH(Q12,Plan!$A$10:$A$374,0))=1,"U",IF(INDEX(Plan!$C$10:$C$374,MATCH(Q12,Plan!$A$10:$A$374,0))<>"","F",IF(INDEX(Plan!$E$10:$E$374,MATCH(Q12,Plan!$A$10:$A$374,0))="Arbeitstag","","frei")))) | R13: =IF(INDEX(Plan!$G$10:$G$374,MATCH(R12,Plan!$A$10:$A$374,0))="Eingabe prüfen","?",IF(INDEX(Plan!$G$10:$G$374,MATCH(R12,Plan!$A$10:$A$374,0))=1,"U",IF(INDEX(Plan!$C$10:$C$374,MATCH(R12,Plan!$A$10:$A$374,0))<>"","F",IF(INDEX(Plan!$E$10:$E$374,MATCH(R12,Plan!$A$10:$A$374,0))="Arbeitstag","","frei")))) | S13: =IF(INDEX(Plan!$G$10:$G$374,MATCH(S12,Plan!$A$10:$A$374,0))="Eingabe prüfen","?",IF(INDEX(Plan!$G$10:$G$374,MATCH(S12,Plan!$A$10:$A$374,0))=1,"U",IF(INDEX(Plan!$C$10:$C$374,MATCH(S12,Plan!$A$10:$A$374,0))<>"","F",IF(INDEX(Plan!$E$10:$E$374,MATCH(S12,Plan!$A$10:$A$374,0))="Arbeitstag","","frei")))) | T13: =IF(INDEX(Plan!$G$10:$G$374,MATCH(T12,Plan!$A$10:$A$374,0))="Eingabe prüfen","?",IF(INDEX(Plan!$G$10:$G$374,MATCH(T12,Plan!$A$10:$A$374,0))=1,"U",IF(INDEX(Plan!$C$10:$C$374,MATCH(T12,Plan!$A$10:$A$374,0))<>"","F",IF(INDEX(Plan!$E$10:$E$374,MATCH(T12,Plan!$A$10:$A$374,0))="Arbeitstag","","frei")))) | U13: =IF(INDEX(Plan!$G$10:$G$374,MATCH(U12,Plan!$A$10:$A$374,0))="Eingabe prüfen","?",IF(INDEX(Plan!$G$10:$G$374,MATCH(U12,Plan!$A$10:$A$374,0))=1,"U",IF(INDEX(Plan!$C$10:$C$374,MATCH(U12,Plan!$A$10:$A$374,0))<>"","F",IF(INDEX(Plan!$E$10:$E$374,MATCH(U12,Plan!$A$10:$A$374,0))="Arbeitstag","","frei")))) | V13: =IF(INDEX(Plan!$G$10:$G$374,MATCH(V12,Plan!$A$10:$A$374,0))="Eingabe prüfen","?",IF(INDEX(Plan!$G$10:$G$374,MATCH(V12,Plan!$A$10:$A$374,0))=1,"U",IF(INDEX(Plan!$C$10:$C$374,MATCH(V12,Plan!$A$10:$A$374,0))<>"","F",IF(INDEX(Plan!$E$10:$E$374,MATCH(V12,Plan!$A$10:$A$374,0))="Arbeitstag","","frei")))) -> frei | W13: =IF(INDEX(Plan!$G$10:$G$374,MATCH(W12,Plan!$A$10:$A$374,0))="Eingabe prüfen","?",IF(INDEX(Plan!$G$10:$G$374,MATCH(W12,Plan!$A$10:$A$374,0))=1,"U",IF(INDEX(Plan!$C$10:$C$374,MATCH(W12,Plan!$A$10:$A$374,0))<>"","F",IF(INDEX(Plan!$E$10:$E$374,MATCH(W12,Plan!$A$10:$A$374,0))="Arbeitstag","","frei")))) -> frei
A14: 46398 | B14: 46399 | C14: 46400 | D14: 46401 | E14: 46402 | F14: 46403 | G14: 46404 | I14: 46433 | J14: 46434 | K14: 46435 | L14: 46436 | M14: 46437 | N14: 46438 | O14: 46439 | Q14: 46461 | R14: 46462 | S14: 46463 | T14: 46464 | U14: 46465 | V14: 46466 | W14: 46467
A15: =IF(INDEX(Plan!$G$10:$G$374,MATCH(A14,Plan!$A$10:$A$374,0))="Eingabe prüfen","?",IF(INDEX(Plan!$G$10:$G$374,MATCH(A14,Plan!$A$10:$A$374,0))=1,"U",IF(INDEX(Plan!$C$10:$C$374,MATCH(A14,Plan!$A$10:$A$374,0))<>"","F",IF(INDEX(Plan!$E$10:$E$374,MATCH(A14,Plan!$A$10:$A$374,0))="Arbeitstag","","frei")))) | B15: =IF(INDEX(Plan!$G$10:$G$374,MATCH(B14,Plan!$A$10:$A$374,0))="Eingabe prüfen","?",IF(INDEX(Plan!$G$10:$G$374,MATCH(B14,Plan!$A$10:$A$374,0))=1,"U",IF(INDEX(Plan!$C$10:$C$374,MATCH(B14,Plan!$A$10:$A$374,0))<>"","F",IF(INDEX(Plan!$E$10:$E$374,MATCH(B14,Plan!$A$10:$A$374,0))="Arbeitstag","","frei")))) | C15: =IF(INDEX(Plan!$G$10:$G$374,MATCH(C14,Plan!$A$10:$A$374,0))="Eingabe prüfen","?",IF(INDEX(Plan!$G$10:$G$374,MATCH(C14,Plan!$A$10:$A$374,0))=1,"U",IF(INDEX(Plan!$C$10:$C$374,MATCH(C14,Plan!$A$10:$A$374,0))<>"","F",IF(INDEX(Plan!$E$10:$E$374,MATCH(C14,Plan!$A$10:$A$374,0))="Arbeitstag","","frei")))) | D15: =IF(INDEX(Plan!$G$10:$G$374,MATCH(D14,Plan!$A$10:$A$374,0))="Eingabe prüfen","?",IF(INDEX(Plan!$G$10:$G$374,MATCH(D14,Plan!$A$10:$A$374,0))=1,"U",IF(INDEX(Plan!$C$10:$C$374,MATCH(D14,Plan!$A$10:$A$374,0))<>"","F",IF(INDEX(Plan!$E$10:$E$374,MATCH(D14,Plan!$A$10:$A$374,0))="Arbeitstag","","frei")))) | E15: =IF(INDEX(Plan!$G$10:$G$374,MATCH(E14,Plan!$A$10:$A$374,0))="Eingabe prüfen","?",IF(INDEX(Plan!$G$10:$G$374,MATCH(E14,Plan!$A$10:$A$374,0))=1,"U",IF(INDEX(Plan!$C$10:$C$374,MATCH(E14,Plan!$A$10:$A$374,0))<>"","F",IF(INDEX(Plan!$E$10:$E$374,MATCH(E14,Plan!$A$10:$A$374,0))="Arbeitstag","","frei")))) | F15: =IF(INDEX(Plan!$G$10:$G$374,MATCH(F14,Plan!$A$10:$A$374,0))="Eingabe prüfen","?",IF(INDEX(Plan!$G$10:$G$374,MATCH(F14,Plan!$A$10:$A$374,0))=1,"U",IF(INDEX(Plan!$C$10:$C$374,MATCH(F14,Plan!$A$10:$A$374,0))<>"","F",IF(INDEX(Plan!$E$10:$E$374,MATCH(F14,Plan!$A$10:$A$374,0))="Arbeitstag","","frei")))) -> frei | G15: =IF(INDEX(Plan!$G$10:$G$374,MATCH(G14,Plan!$A$10:$A$374,0))="Eingabe prüfen","?",IF(INDEX(Plan!$G$10:$G$374,MATCH(G14,Plan!$A$10:$A$374,0))=1,"U",IF(INDEX(Plan!$C$10:$C$374,MATCH(G14,Plan!$A$10:$A$374,0))<>"","F",IF(INDEX(Plan!$E$10:$E$374,MATCH(G14,Plan!$A$10:$A$374,0))="Arbeitstag","","frei")))) -> frei | I15: =IF(INDEX(Plan!$G$10:$G$374,MATCH(I14,Plan!$A$10:$A$374,0))="Eingabe prüfen","?",IF(INDEX(Plan!$G$10:$G$374,MATCH(I14,Plan!$A$10:$A$374,0))=1,"U",IF(INDEX(Plan!$C$10:$C$374,MATCH(I14,Plan!$A$10:$A$374,0))<>"","F",IF(INDEX(Plan!$E$10:$E$374,MATCH(I14,Plan!$A$10:$A$374,0))="Arbeitstag","","frei")))) | J15: =IF(INDEX(Plan!$G$10:$G$374,MATCH(J14,Plan!$A$10:$A$374,0))="Eingabe prüfen","?",IF(INDEX(Plan!$G$10:$G$374,MATCH(J14,Plan!$A$10:$A$374,0))=1,"U",IF(INDEX(Plan!$C$10:$C$374,MATCH(J14,Plan!$A$10:$A$374,0))<>"","F",IF(INDEX(Plan!$E$10:$E$374,MATCH(J14,Plan!$A$10:$A$374,0))="Arbeitstag","","frei")))) | K15: =IF(INDEX(Plan!$G$10:$G$374,MATCH(K14,Plan!$A$10:$A$374,0))="Eingabe prüfen","?",IF(INDEX(Plan!$G$10:$G$374,MATCH(K14,Plan!$A$10:$A$374,0))=1,"U",IF(INDEX(Plan!$C$10:$C$374,MATCH(K14,Plan!$A$10:$A$374,0))<>"","F",IF(INDEX(Plan!$E$10:$E$374,MATCH(K14,Plan!$A$10:$A$374,0))="Arbeitstag","","frei")))) | L15: =IF(INDEX(Plan!$G$10:$G$374,MATCH(L14,Plan!$A$10:$A$374,0))="Eingabe prüfen","?",IF(INDEX(Plan!$G$10:$G$374,MATCH(L14,Plan!$A$10:$A$374,0))=1,"U",IF(INDEX(Plan!$C$10:$C$374,MATCH(L14,Plan!$A$10:$A$374,0))<>"","F",IF(INDEX(Plan!$E$10:$E$374,MATCH(L14,Plan!$A$10:$A$374,0))="Arbeitstag","","frei")))) | M15: =IF(INDEX(Plan!$G$10:$G$374,MATCH(M14,Plan!$A$10:$A$374,0))="Eingabe prüfen","?",IF(INDEX(Plan!$G$10:$G$374,MATCH(M14,Plan!$A$10:$A$374,0))=1,"U",IF(INDEX(Plan!$C$10:$C$374,MATCH(M14,Plan!$A$10:$A$374,0))<>"","F",IF(INDEX(Plan!$E$10:$E$374,MATCH(M14,Plan!$A$10:$A$374,0))="Arbeitstag","","frei")))) | N15: =IF(INDEX(Plan!$G$10:$G$374,MATCH(N14,Plan!$A$10:$A$374,0))="Eingabe prüfen","?",IF(INDEX(Plan!$G$10:$G$374,MATCH(N14,Plan!$A$10:$A$374,0))=1,"U",IF(INDEX(Plan!$C$10:$C$374,MATCH(N14,Plan!$A$10:$A$374,0))<>"","F",IF(INDEX(Plan!$E$10:$E$374,MATCH(N14,Plan!$A$10:$A$374,0))="Arbeitstag","","frei")))) -> frei | O15: =IF(INDEX(Plan!$G$10:$G$374,MATCH(O14,Plan!$A$10:$A$374,0))="Eingabe prüfen","?",IF(INDEX(Plan!$G$10:$G$374,MATCH(O14,Plan!$A$10:$A$374,0))=1,"U",IF(INDEX(Plan!$C$10:$C$374,MATCH(O14,Plan!$A$10:$A$374,0))<>"","F",IF(INDEX(Plan!$E$10:$E$374,MATCH(O14,Plan!$A$10:$A$374,0))="Arbeitstag","","frei")))) -> frei | Q15: =IF(INDEX(Plan!$G$10:$G$374,MATCH(Q14,Plan!$A$10:$A$374,0))="Eingabe prüfen","?",IF(INDEX(Plan!$G$10:$G$374,MATCH(Q14,Plan!$A$10:$A$374,0))=1,"U",IF(INDEX(Plan!$C$10:$C$374,MATCH(Q14,Plan!$A$10:$A$374,0))<>"","F",IF(INDEX(Plan!$E$10:$E$374,MATCH(Q14,Plan!$A$10:$A$374,0))="Arbeitstag","","frei")))) | R15: =IF(INDEX(Plan!$G$10:$G$374,MATCH(R14,Plan!$A$10:$A$374,0))="Eingabe prüfen","?",IF(INDEX(Plan!$G$10:$G$374,MATCH(R14,Plan!$A$10:$A$374,0))=1,"U",IF(INDEX(Plan!$C$10:$C$374,MATCH(R14,Plan!$A$10:$A$374,0))<>"","F",IF(INDEX(Plan!$E$10:$E$374,MATCH(R14,Plan!$A$10:$A$374,0))="Arbeitstag","","frei")))) | S15: =IF(INDEX(Plan!$G$10:$G$374,MATCH(S14,Plan!$A$10:$A$374,0))="Eingabe prüfen","?",IF(INDEX(Plan!$G$10:$G$374,MATCH(S14,Plan!$A$10:$A$374,0))=1,"U",IF(INDEX(Plan!$C$10:$C$374,MATCH(S14,Plan!$A$10:$A$374,0))<>"","F",IF(INDEX(Plan!$E$10:$E$374,MATCH(S14,Plan!$A$10:$A$374,0))="Arbeitstag","","frei")))) | T15: =IF(INDEX(Plan!$G$10:$G$374,MATCH(T14,Plan!$A$10:$A$374,0))="Eingabe prüfen","?",IF(INDEX(Plan!$G$10:$G$374,MATCH(T14,Plan!$A$10:$A$374,0))=1,"U",IF(INDEX(Plan!$C$10:$C$374,MATCH(T14,Plan!$A$10:$A$374,0))<>"","F",IF(INDEX(Plan!$E$10:$E$374,MATCH(T14,Plan!$A$10:$A$374,0))="Arbeitstag","","frei")))) | U15: =IF(INDEX(Plan!$G$10:$G$374,MATCH(U14,Plan!$A$10:$A$374,0))="Eingabe prüfen","?",IF(INDEX(Plan!$G$10:$G$374,MATCH(U14,Plan!$A$10:$A$374,0))=1,"U",IF(INDEX(Plan!$C$10:$C$374,MATCH(U14,Plan!$A$10:$A$374,0))<>"","F",IF(INDEX(Plan!$E$10:$E$374,MATCH(U14,Plan!$A$10:$A$374,0))="Arbeitstag","","frei")))) | V15: =IF(INDEX(Plan!$G$10:$G$374,MATCH(V14,Plan!$A$10:$A$374,0))="Eingabe prüfen","?",IF(INDEX(Plan!$G$10:$G$374,MATCH(V14,Plan!$A$10:$A$374,0))=1,"U",IF(INDEX(Plan!$C$10:$C$374,MATCH(V14,Plan!$A$10:$A$374,0))<>"","F",IF(INDEX(Plan!$E$10:$E$374,MATCH(V14,Plan!$A$10:$A$374,0))="Arbeitstag","","frei")))) -> frei | W15: =IF(INDEX(Plan!$G$10:$G$374,MATCH(W14,Plan!$A$10:$A$374,0))="Eingabe prüfen","?",IF(INDEX(Plan!$G$10:$G$374,MATCH(W14,Plan!$A$10:$A$374,0))=1,"U",IF(INDEX(Plan!$C$10:$C$374,MATCH(W14,Plan!$A$10:$A$374,0))<>"","F",IF(INDEX(Plan!$E$10:$E$374,MATCH(W14,Plan!$A$10:$A$374,0))="Arbeitstag","","frei")))) -> frei
A16: 46405 | B16: 46406 | C16: 46407 | D16: 46408 | E16: 46409 | F16: 46410 | G16: 46411 | I16: 46440 | J16: 46441 | K16: 46442 | L16: 46443 | M16: 46444 | N16: 46445 | O16: 46446 | Q16: 46468 | R16: 46469 | S16: 46470 | T16: 46471 | U16: 46472 | V16: 46473 | W16: 46474
A17: =IF(INDEX(Plan!$G$10:$G$374,MATCH(A16,Plan!$A$10:$A$374,0))="Eingabe prüfen","?",IF(INDEX(Plan!$G$10:$G$374,MATCH(A16,Plan!$A$10:$A$374,0))=1,"U",IF(INDEX(Plan!$C$10:$C$374,MATCH(A16,Plan!$A$10:$A$374,0))<>"","F",IF(INDEX(Plan!$E$10:$E$374,MATCH(A16,Plan!$A$10:$A$374,0))="Arbeitstag","","frei")))) | B17: =IF(INDEX(Plan!$G$10:$G$374,MATCH(B16,Plan!$A$10:$A$374,0))="Eingabe prüfen","?",IF(INDEX(Plan!$G$10:$G$374,MATCH(B16,Plan!$A$10:$A$374,0))=1,"U",IF(INDEX(Plan!$C$10:$C$374,MATCH(B16,Plan!$A$10:$A$374,0))<>"","F",IF(INDEX(Plan!$E$10:$E$374,MATCH(B16,Plan!$A$10:$A$374,0))="Arbeitstag","","frei")))) | C17: =IF(INDEX(Plan!$G$10:$G$374,MATCH(C16,Plan!$A$10:$A$374,0))="Eingabe prüfen","?",IF(INDEX(Plan!$G$10:$G$374,MATCH(C16,Plan!$A$10:$A$374,0))=1,"U",IF(INDEX(Plan!$C$10:$C$374,MATCH(C16,Plan!$A$10:$A$374,0))<>"","F",IF(INDEX(Plan!$E$10:$E$374,MATCH(C16,Plan!$A$10:$A$374,0))="Arbeitstag","","frei")))) | D17: =IF(INDEX(Plan!$G$10:$G$374,MATCH(D16,Plan!$A$10:$A$374,0))="Eingabe prüfen","?",IF(INDEX(Plan!$G$10:$G$374,MATCH(D16,Plan!$A$10:$A$374,0))=1,"U",IF(INDEX(Plan!$C$10:$C$374,MATCH(D16,Plan!$A$10:$A$374,0))<>"","F",IF(INDEX(Plan!$E$10:$E$374,MATCH(D16,Plan!$A$10:$A$374,0))="Arbeitstag","","frei")))) | E17: =IF(INDEX(Plan!$G$10:$G$374,MATCH(E16,Plan!$A$10:$A$374,0))="Eingabe prüfen","?",IF(INDEX(Plan!$G$10:$G$374,MATCH(E16,Plan!$A$10:$A$374,0))=1,"U",IF(INDEX(Plan!$C$10:$C$374,MATCH(E16,Plan!$A$10:$A$374,0))<>"","F",IF(INDEX(Plan!$E$10:$E$374,MATCH(E16,Plan!$A$10:$A$374,0))="Arbeitstag","","frei")))) | F17: =IF(INDEX(Plan!$G$10:$G$374,MATCH(F16,Plan!$A$10:$A$374,0))="Eingabe prüfen","?",IF(INDEX(Plan!$G$10:$G$374,MATCH(F16,Plan!$A$10:$A$374,0))=1,"U",IF(INDEX(Plan!$C$10:$C$374,MATCH(F16,Plan!$A$10:$A$374,0))<>"","F",IF(INDEX(Plan!$E$10:$E$374,MATCH(F16,Plan!$A$10:$A$374,0))="Arbeitstag","","frei")))) -> frei | G17: =IF(INDEX(Plan!$G$10:$G$374,MATCH(G16,Plan!$A$10:$A$374,0))="Eingabe prüfen","?",IF(INDEX(Plan!$G$10:$G$374,MATCH(G16,Plan!$A$10:$A$374,0))=1,"U",IF(INDEX(Plan!$C$10:$C$374,MATCH(G16,Plan!$A$10:$A$374,0))<>"","F",IF(INDEX(Plan!$E$10:$E$374,MATCH(G16,Plan!$A$10:$A$374,0))="Arbeitstag","","frei")))) -> frei | I17: =IF(INDEX(Plan!$G$10:$G$374,MATCH(I16,Plan!$A$10:$A$374,0))="Eingabe prüfen","?",IF(INDEX(Plan!$G$10:$G$374,MATCH(I16,Plan!$A$10:$A$374,0))=1,"U",IF(INDEX(Plan!$C$10:$C$374,MATCH(I16,Plan!$A$10:$A$374,0))<>"","F",IF(INDEX(Plan!$E$10:$E$374,MATCH(I16,Plan!$A$10:$A$374,0))="Arbeitstag","","frei")))) | J17: =IF(INDEX(Plan!$G$10:$G$374,MATCH(J16,Plan!$A$10:$A$374,0))="Eingabe prüfen","?",IF(INDEX(Plan!$G$10:$G$374,MATCH(J16,Plan!$A$10:$A$374,0))=1,"U",IF(INDEX(Plan!$C$10:$C$374,MATCH(J16,Plan!$A$10:$A$374,0))<>"","F",IF(INDEX(Plan!$E$10:$E$374,MATCH(J16,Plan!$A$10:$A$374,0))="Arbeitstag","","frei")))) | K17: =IF(INDEX(Plan!$G$10:$G$374,MATCH(K16,Plan!$A$10:$A$374,0))="Eingabe prüfen","?",IF(INDEX(Plan!$G$10:$G$374,MATCH(K16,Plan!$A$10:$A$374,0))=1,"U",IF(INDEX(Plan!$C$10:$C$374,MATCH(K16,Plan!$A$10:$A$374,0))<>"","F",IF(INDEX(Plan!$E$10:$E$374,MATCH(K16,Plan!$A$10:$A$374,0))="Arbeitstag","","frei")))) | L17: =IF(INDEX(Plan!$G$10:$G$374,MATCH(L16,Plan!$A$10:$A$374,0))="Eingabe prüfen","?",IF(INDEX(Plan!$G$10:$G$374,MATCH(L16,Plan!$A$10:$A$374,0))=1,"U",IF(INDEX(Plan!$C$10:$C$374,MATCH(L16,Plan!$A$10:$A$374,0))<>"","F",IF(INDEX(Plan!$E$10:$E$374,MATCH(L16,Plan!$A$10:$A$374,0))="Arbeitstag","","frei")))) | M17: =IF(INDEX(Plan!$G$10:$G$374,MATCH(M16,Plan!$A$10:$A$374,0))="Eingabe prüfen","?",IF(INDEX(Plan!$G$10:$G$374,MATCH(M16,Plan!$A$10:$A$374,0))=1,"U",IF(INDEX(Plan!$C$10:$C$374,MATCH(M16,Plan!$A$10:$A$374,0))<>"","F",IF(INDEX(Plan!$E$10:$E$374,MATCH(M16,Plan!$A$10:$A$374,0))="Arbeitstag","","frei")))) | N17: =IF(INDEX(Plan!$G$10:$G$374,MATCH(N16,Plan!$A$10:$A$374,0))="Eingabe prüfen","?",IF(INDEX(Plan!$G$10:$G$374,MATCH(N16,Plan!$A$10:$A$374,0))=1,"U",IF(INDEX(Plan!$C$10:$C$374,MATCH(N16,Plan!$A$10:$A$374,0))<>"","F",IF(INDEX(Plan!$E$10:$E$374,MATCH(N16,Plan!$A$10:$A$374,0))="Arbeitstag","","frei")))) -> frei | O17: =IF(INDEX(Plan!$G$10:$G$374,MATCH(O16,Plan!$A$10:$A$374,0))="Eingabe prüfen","?",IF(INDEX(Plan!$G$10:$G$374,MATCH(O16,Plan!$A$10:$A$374,0))=1,"U",IF(INDEX(Plan!$C$10:$C$374,MATCH(O16,Plan!$A$10:$A$374,0))<>"","F",IF(INDEX(Plan!$E$10:$E$374,MATCH(O16,Plan!$A$10:$A$374,0))="Arbeitstag","","frei")))) -> frei | Q17: =IF(INDEX(Plan!$G$10:$G$374,MATCH(Q16,Plan!$A$10:$A$374,0))="Eingabe prüfen","?",IF(INDEX(Plan!$G$10:$G$374,MATCH(Q16,Plan!$A$10:$A$374,0))=1,"U",IF(INDEX(Plan!$C$10:$C$374,MATCH(Q16,Plan!$A$10:$A$374,0))<>"","F",IF(INDEX(Plan!$E$10:$E$374,MATCH(Q16,Plan!$A$10:$A$374,0))="Arbeitstag","","frei")))) | R17: =IF(INDEX(Plan!$G$10:$G$374,MATCH(R16,Plan!$A$10:$A$374,0))="Eingabe prüfen","?",IF(INDEX(Plan!$G$10:$G$374,MATCH(R16,Plan!$A$10:$A$374,0))=1,"U",IF(INDEX(Plan!$C$10:$C$374,MATCH(R16,Plan!$A$10:$A$374,0))<>"","F",IF(INDEX(Plan!$E$10:$E$374,MATCH(R16,Plan!$A$10:$A$374,0))="Arbeitstag","","frei")))) | S17: =IF(INDEX(Plan!$G$10:$G$374,MATCH(S16,Plan!$A$10:$A$374,0))="Eingabe prüfen","?",IF(INDEX(Plan!$G$10:$G$374,MATCH(S16,Plan!$A$10:$A$374,0))=1,"U",IF(INDEX(Plan!$C$10:$C$374,MATCH(S16,Plan!$A$10:$A$374,0))<>"","F",IF(INDEX(Plan!$E$10:$E$374,MATCH(S16,Plan!$A$10:$A$374,0))="Arbeitstag","","frei")))) | T17: =IF(INDEX(Plan!$G$10:$G$374,MATCH(T16,Plan!$A$10:$A$374,0))="Eingabe prüfen","?",IF(INDEX(Plan!$G$10:$G$374,MATCH(T16,Plan!$A$10:$A$374,0))=1,"U",IF(INDEX(Plan!$C$10:$C$374,MATCH(T16,Plan!$A$10:$A$374,0))<>"","F",IF(INDEX(Plan!$E$10:$E$374,MATCH(T16,Plan!$A$10:$A$374,0))="Arbeitstag","","frei")))) | U17: =IF(INDEX(Plan!$G$10:$G$374,MATCH(U16,Plan!$A$10:$A$374,0))="Eingabe prüfen","?",IF(INDEX(Plan!$G$10:$G$374,MATCH(U16,Plan!$A$10:$A$374,0))=1,"U",IF(INDEX(Plan!$C$10:$C$374,MATCH(U16,Plan!$A$10:$A$374,0))<>"","F",IF(INDEX(Plan!$E$10:$E$374,MATCH(U16,Plan!$A$10:$A$374,0))="Arbeitstag","","frei")))) -> F | V17: =IF(INDEX(Plan!$G$10:$G$374,MATCH(V16,Plan!$A$10:$A$374,0))="Eingabe prüfen","?",IF(INDEX(Plan!$G$10:$G$374,MATCH(V16,Plan!$A$10:$A$374,0))=1,"U",IF(INDEX(Plan!$C$10:$C$374,MATCH(V16,Plan!$A$10:$A$374,0))<>"","F",IF(INDEX(Plan!$E$10:$E$374,MATCH(V16,Plan!$A$10:$A$374,0))="Arbeitstag","","frei")))) -> frei | W17: =IF(INDEX(Plan!$G$10:$G$374,MATCH(W16,Plan!$A$10:$A$374,0))="Eingabe prüfen","?",IF(INDEX(Plan!$G$10:$G$374,MATCH(W16,Plan!$A$10:$A$374,0))=1,"U",IF(INDEX(Plan!$C$10:$C$374,MATCH(W16,Plan!$A$10:$A$374,0))<>"","F",IF(INDEX(Plan!$E$10:$E$374,MATCH(W16,Plan!$A$10:$A$374,0))="Arbeitstag","","frei")))) -> frei
A18: 46412 | B18: 46413 | C18: 46414 | D18: 46415 | E18: 46416 | F18: 46417 | G18: 46418 | Q18: 46475 | R18: 46476 | S18: 46477
A19: =IF(INDEX(Plan!$G$10:$G$374,MATCH(A18,Plan!$A$10:$A$374,0))="Eingabe prüfen","?",IF(INDEX(Plan!$G$10:$G$374,MATCH(A18,Plan!$A$10:$A$374,0))=1,"U",IF(INDEX(Plan!$C$10:$C$374,MATCH(A18,Plan!$A$10:$A$374,0))<>"","F",IF(INDEX(Plan!$E$10:$E$374,MATCH(A18,Plan!$A$10:$A$374,0))="Arbeitstag","","frei")))) | B19: =IF(INDEX(Plan!$G$10:$G$374,MATCH(B18,Plan!$A$10:$A$374,0))="Eingabe prüfen","?",IF(INDEX(Plan!$G$10:$G$374,MATCH(B18,Plan!$A$10:$A$374,0))=1,"U",IF(INDEX(Plan!$C$10:$C$374,MATCH(B18,Plan!$A$10:$A$374,0))<>"","F",IF(INDEX(Plan!$E$10:$E$374,MATCH(B18,Plan!$A$10:$A$374,0))="Arbeitstag","","frei")))) | C19: =IF(INDEX(Plan!$G$10:$G$374,MATCH(C18,Plan!$A$10:$A$374,0))="Eingabe prüfen","?",IF(INDEX(Plan!$G$10:$G$374,MATCH(C18,Plan!$A$10:$A$374,0))=1,"U",IF(INDEX(Plan!$C$10:$C$374,MATCH(C18,Plan!$A$10:$A$374,0))<>"","F",IF(INDEX(Plan!$E$10:$E$374,MATCH(C18,Plan!$A$10:$A$374,0))="Arbeitstag","","frei")))) | D19: =IF(INDEX(Plan!$G$10:$G$374,MATCH(D18,Plan!$A$10:$A$374,0))="Eingabe prüfen","?",IF(INDEX(Plan!$G$10:$G$374,MATCH(D18,Plan!$A$10:$A$374,0))=1,"U",IF(INDEX(Plan!$C$10:$C$374,MATCH(D18,Plan!$A$10:$A$374,0))<>"","F",IF(INDEX(Plan!$E$10:$E$374,MATCH(D18,Plan!$A$10:$A$374,0))="Arbeitstag","","frei")))) | E19: =IF(INDEX(Plan!$G$10:$G$374,MATCH(E18,Plan!$A$10:$A$374,0))="Eingabe prüfen","?",IF(INDEX(Plan!$G$10:$G$374,MATCH(E18,Plan!$A$10:$A$374,0))=1,"U",IF(INDEX(Plan!$C$10:$C$374,MATCH(E18,Plan!$A$10:$A$374,0))<>"","F",IF(INDEX(Plan!$E$10:$E$374,MATCH(E18,Plan!$A$10:$A$374,0))="Arbeitstag","","frei")))) | F19: =IF(INDEX(Plan!$G$10:$G$374,MATCH(F18,Plan!$A$10:$A$374,0))="Eingabe prüfen","?",IF(INDEX(Plan!$G$10:$G$374,MATCH(F18,Plan!$A$10:$A$374,0))=1,"U",IF(INDEX(Plan!$C$10:$C$374,MATCH(F18,Plan!$A$10:$A$374,0))<>"","F",IF(INDEX(Plan!$E$10:$E$374,MATCH(F18,Plan!$A$10:$A$374,0))="Arbeitstag","","frei")))) -> frei | G19: =IF(INDEX(Plan!$G$10:$G$374,MATCH(G18,Plan!$A$10:$A$374,0))="Eingabe prüfen","?",IF(INDEX(Plan!$G$10:$G$374,MATCH(G18,Plan!$A$10:$A$374,0))=1,"U",IF(INDEX(Plan!$C$10:$C$374,MATCH(G18,Plan!$A$10:$A$374,0))<>"","F",IF(INDEX(Plan!$E$10:$E$374,MATCH(G18,Plan!$A$10:$A$374,0))="Arbeitstag","","frei")))) -> frei | Q19: =IF(INDEX(Plan!$G$10:$G$374,MATCH(Q18,Plan!$A$10:$A$374,0))="Eingabe prüfen","?",IF(INDEX(Plan!$G$10:$G$374,MATCH(Q18,Plan!$A$10:$A$374,0))=1,"U",IF(INDEX(Plan!$C$10:$C$374,MATCH(Q18,Plan!$A$10:$A$374,0))<>"","F",IF(INDEX(Plan!$E$10:$E$374,MATCH(Q18,Plan!$A$10:$A$374,0))="Arbeitstag","","frei")))) -> F | R19: =IF(INDEX(Plan!$G$10:$G$374,MATCH(R18,Plan!$A$10:$A$374,0))="Eingabe prüfen","?",IF(INDEX(Plan!$G$10:$G$374,MATCH(R18,Plan!$A$10:$A$374,0))=1,"U",IF(INDEX(Plan!$C$10:$C$374,MATCH(R18,Plan!$A$10:$A$374,0))<>"","F",IF(INDEX(Plan!$E$10:$E$374,MATCH(R18,Plan!$A$10:$A$374,0))="Arbeitstag","","frei")))) | S19: =IF(INDEX(Plan!$G$10:$G$374,MATCH(S18,Plan!$A$10:$A$374,0))="Eingabe prüfen","?",IF(INDEX(Plan!$G$10:$G$374,MATCH(S18,Plan!$A$10:$A$374,0))=1,"U",IF(INDEX(Plan!$C$10:$C$374,MATCH(S18,Plan!$A$10:$A$374,0))<>"","F",IF(INDEX(Plan!$E$10:$E$374,MATCH(S18,Plan!$A$10:$A$374,0))="Arbeitstag","","frei"))))
A24: April | I24: Mai | Q24: Juni
A25: Mo | B25: Di | C25: Mi | D25: Do | E25: Fr | F25: Sa | G25: So | I25: Mo | J25: Di | K25: Mi | L25: Do | M25: Fr | N25: Sa | O25: So | Q25: Mo | R25: Di | S25: Mi | T25: Do | U25: Fr | V25: Sa | W25: So
D26: 46478 | E26: 46479 | F26: 46480 | G26: 46481 | N26: 46508 | O26: 46509 | R26: 46539 | S26: 46540 | T26: 46541 | U26: 46542 | V26: 46543 | W26: 46544
D27: =IF(INDEX(Plan!$G$10:$G$374,MATCH(D26,Plan!$A$10:$A$374,0))="Eingabe prüfen","?",IF(INDEX(Plan!$G$10:$G$374,MATCH(D26,Plan!$A$10:$A$374,0))=1,"U",IF(INDEX(Plan!$C$10:$C$374,MATCH(D26,Plan!$A$10:$A$374,0))<>"","F",IF(INDEX(Plan!$E$10:$E$374,MATCH(D26,Plan!$A$10:$A$374,0))="Arbeitstag","","frei")))) | E27: =IF(INDEX(Plan!$G$10:$G$374,MATCH(E26,Plan!$A$10:$A$374,0))="Eingabe prüfen","?",IF(INDEX(Plan!$G$10:$G$374,MATCH(E26,Plan!$A$10:$A$374,0))=1,"U",IF(INDEX(Plan!$C$10:$C$374,MATCH(E26,Plan!$A$10:$A$374,0))<>"","F",IF(INDEX(Plan!$E$10:$E$374,MATCH(E26,Plan!$A$10:$A$374,0))="Arbeitstag","","frei")))) | F27: =IF(INDEX(Plan!$G$10:$G$374,MATCH(F26,Plan!$A$10:$A$374,0))="Eingabe prüfen","?",IF(INDEX(Plan!$G$10:$G$374,MATCH(F26,Plan!$A$10:$A$374,0))=1,"U",IF(INDEX(Plan!$C$10:$C$374,MATCH(F26,Plan!$A$10:$A$374,0))<>"","F",IF(INDEX(Plan!$E$10:$E$374,MATCH(F26,Plan!$A$10:$A$374,0))="Arbeitstag","","frei")))) -> frei | G27: =IF(INDEX(Plan!$G$10:$G$374,MATCH(G26,Plan!$A$10:$A$374,0))="Eingabe prüfen","?",IF(INDEX(Plan!$G$10:$G$374,MATCH(G26,Plan!$A$10:$A$374,0))=1,"U",IF(INDEX(Plan!$C$10:$C$374,MATCH(G26,Plan!$A$10:$A$374,0))<>"","F",IF(INDEX(Plan!$E$10:$E$374,MATCH(G26,Plan!$A$10:$A$374,0))="Arbeitstag","","frei")))) -> frei | N27: =IF(INDEX(Plan!$G$10:$G$374,MATCH(N26,Plan!$A$10:$A$374,0))="Eingabe prüfen","?",IF(INDEX(Plan!$G$10:$G$374,MATCH(N26,Plan!$A$10:$A$374,0))=1,"U",IF(INDEX(Plan!$C$10:$C$374,MATCH(N26,Plan!$A$10:$A$374,0))<>"","F",IF(INDEX(Plan!$E$10:$E$374,MATCH(N26,Plan!$A$10:$A$374,0))="Arbeitstag","","frei")))) -> F | O27: =IF(INDEX(Plan!$G$10:$G$374,MATCH(O26,Plan!$A$10:$A$374,0))="Eingabe prüfen","?",IF(INDEX(Plan!$G$10:$G$374,MATCH(O26,Plan!$A$10:$A$374,0))=1,"U",IF(INDEX(Plan!$C$10:$C$374,MATCH(O26,Plan!$A$10:$A$374,0))<>"","F",IF(INDEX(Plan!$E$10:$E$374,MATCH(O26,Plan!$A$10:$A$374,0))="Arbeitstag","","frei")))) -> frei | R27: =IF(INDEX(Plan!$G$10:$G$374,MATCH(R26,Plan!$A$10:$A$374,0))="Eingabe prüfen","?",IF(INDEX(Plan!$G$10:$G$374,MATCH(R26,Plan!$A$10:$A$374,0))=1,"U",IF(INDEX(Plan!$C$10:$C$374,MATCH(R26,Plan!$A$10:$A$374,0))<>"","F",IF(INDEX(Plan!$E$10:$E$374,MATCH(R26,Plan!$A$10:$A$374,0))="Arbeitstag","","frei")))) | S27: =IF(INDEX(Plan!$G$10:$G$374,MATCH(S26,Plan!$A$10:$A$374,0))="Eingabe prüfen","?",IF(INDEX(Plan!$G$10:$G$374,MATCH(S26,Plan!$A$10:$A$374,0))=1,"U",IF(INDEX(Plan!$C$10:$C$374,MATCH(S26,Plan!$A$10:$A$374,0))<>"","F",IF(INDEX(Plan!$E$10:$E$374,MATCH(S26,Plan!$A$10:$A$374,0))="Arbeitstag","","frei")))) | T27: =IF(INDEX(Plan!$G$10:$G$374,MATCH(T26,Plan!$A$10:$A$374,0))="Eingabe prüfen","?",IF(INDEX(Plan!$G$10:$G$374,MATCH(T26,Plan!$A$10:$A$374,0))=1,"U",IF(INDEX(Plan!$C$10:$C$374,MATCH(T26,Plan!$A$10:$A$374,0))<>"","F",IF(INDEX(Plan!$E$10:$E$374,MATCH(T26,Plan!$A$10:$A$374,0))="Arbeitstag","","frei")))) | U27: =IF(INDEX(Plan!$G$10:$G$374,MATCH(U26,Plan!$A$10:$A$374,0))="Eingabe prüfen","?",IF(INDEX(Plan!$G$10:$G$374,MATCH(U26,Plan!$A$10:$A$374,0))=1,"U",IF(INDEX(Plan!$C$10:$C$374,MATCH(U26,Plan!$A$10:$A$374,0))<>"","F",IF(INDEX(Plan!$E$10:$E$374,MATCH(U26,Plan!$A$10:$A$374,0))="Arbeitstag","","frei")))) | V27: =IF(INDEX(Plan!$G$10:$G$374,MATCH(V26,Plan!$A$10:$A$374,0))="Eingabe prüfen","?",IF(INDEX(Plan!$G$10:$G$374,MATCH(V26,Plan!$A$10:$A$374,0))=1,"U",IF(INDEX(Plan!$C$10:$C$374,MATCH(V26,Plan!$A$10:$A$374,0))<>"","F",IF(INDEX(Plan!$E$10:$E$374,MATCH(V26,Plan!$A$10:$A$374,0))="Arbeitstag","","frei")))) -> frei | W27: =IF(INDEX(Plan!$G$10:$G$374,MATCH(W26,Plan!$A$10:$A$374,0))="Eingabe prüfen","?",IF(INDEX(Plan!$G$10:$G$374,MATCH(W26,Plan!$A$10:$A$374,0))=1,"U",IF(INDEX(Plan!$C$10:$C$374,MATCH(W26,Plan!$A$10:$A$374,0))<>"","F",IF(INDEX(Plan!$E$10:$E$374,MATCH(W26,Plan!$A$10:$A$374,0))="Arbeitstag","","frei")))) -> frei
A28: 46482 | B28: 46483 | C28: 46484 | D28: 46485 | E28: 46486 | F28: 46487 | G28: 46488 | I28: 46510 | J28: 46511 | K28: 46512 | L28: 46513 | M28: 46514 | N28: 46515 | O28: 46516 | Q28: 46545 | R28: 46546 | S28: 46547 | T28: 46548 | U28: 46549 | V28: 46550 | W28: 46551
A29: =IF(INDEX(Plan!$G$10:$G$374,MATCH(A28,Plan!$A$10:$A$374,0))="Eingabe prüfen","?",IF(INDEX(Plan!$G$10:$G$374,MATCH(A28,Plan!$A$10:$A$374,0))=1,"U",IF(INDEX(Plan!$C$10:$C$374,MATCH(A28,Plan!$A$10:$A$374,0))<>"","F",IF(INDEX(Plan!$E$10:$E$374,MATCH(A28,Plan!$A$10:$A$374,0))="Arbeitstag","","frei")))) | B29: =IF(INDEX(Plan!$G$10:$G$374,MATCH(B28,Plan!$A$10:$A$374,0))="Eingabe prüfen","?",IF(INDEX(Plan!$G$10:$G$374,MATCH(B28,Plan!$A$10:$A$374,0))=1,"U",IF(INDEX(Plan!$C$10:$C$374,MATCH(B28,Plan!$A$10:$A$374,0))<>"","F",IF(INDEX(Plan!$E$10:$E$374,MATCH(B28,Plan!$A$10:$A$374,0))="Arbeitstag","","frei")))) | C29: =IF(INDEX(Plan!$G$10:$G$374,MATCH(C28,Plan!$A$10:$A$374,0))="Eingabe prüfen","?",IF(INDEX(Plan!$G$10:$G$374,MATCH(C28,Plan!$A$10:$A$374,0))=1,"U",IF(INDEX(Plan!$C$10:$C$374,MATCH(C28,Plan!$A$10:$A$374,0))<>"","F",IF(INDEX(Plan!$E$10:$E$374,MATCH(C28,Plan!$A$10:$A$374,0))="Arbeitstag","","frei")))) | D29: =IF(INDEX(Plan!$G$10:$G$374,MATCH(D28,Plan!$A$10:$A$374,0))="Eingabe prüfen","?",IF(INDEX(Plan!$G$10:$G$374,MATCH(D28,Plan!$A$10:$A$374,0))=1,"U",IF(INDEX(Plan!$C$10:$C$374,MATCH(D28,Plan!$A$10:$A$374,0))<>"","F",IF(INDEX(Plan!$E$10:$E$374,MATCH(D28,Plan!$A$10:$A$374,0))="Arbeitstag","","frei")))) | E29: =IF(INDEX(Plan!$G$10:$G$374,MATCH(E28,Plan!$A$10:$A$374,0))="Eingabe prüfen","?",IF(INDEX(Plan!$G$10:$G$374,MATCH(E28,Plan!$A$10:$A$374,0))=1,"U",IF(INDEX(Plan!$C$10:$C$374,MATCH(E28,Plan!$A$10:$A$374,0))<>"","F",IF(INDEX(Plan!$E$10:$E$374,MATCH(E28,Plan!$A$10:$A$374,0))="Arbeitstag","","frei")))) | F29: =IF(INDEX(Plan!$G$10:$G$374,MATCH(F28,Plan!$A$10:$A$374,0))="Eingabe prüfen","?",IF(INDEX(Plan!$G$10:$G$374,MATCH(F28,Plan!$A$10:$A$374,0))=1,"U",IF(INDEX(Plan!$C$10:$C$374,MATCH(F28,Plan!$A$10:$A$374,0))<>"","F",IF(INDEX(Plan!$E$10:$E$374,MATCH(F28,Plan!$A$10:$A$374,0))="Arbeitstag","","frei")))) -> frei | G29: =IF(INDEX(Plan!$G$10:$G$374,MATCH(G28,Plan!$A$10:$A$374,0))="Eingabe prüfen","?",IF(INDEX(Plan!$G$10:$G$374,MATCH(G28,Plan!$A$10:$A$374,0))=1,"U",IF(INDEX(Plan!$C$10:$C$374,MATCH(G28,Plan!$A$10:$A$374,0))<>"","F",IF(INDEX(Plan!$E$10:$E$374,MATCH(G28,Plan!$A$10:$A$374,0))="Arbeitstag","","frei")))) -> frei | I29: =IF(INDEX(Plan!$G$10:$G$374,MATCH(I28,Plan!$A$10:$A$374,0))="Eingabe prüfen","?",IF(INDEX(Plan!$G$10:$G$374,MATCH(I28,Plan!$A$10:$A$374,0))=1,"U",IF(INDEX(Plan!$C$10:$C$374,MATCH(I28,Plan!$A$10:$A$374,0))<>"","F",IF(INDEX(Plan!$E$10:$E$374,MATCH(I28,Plan!$A$10:$A$374,0))="Arbeitstag","","frei")))) | J29: =IF(INDEX(Plan!$G$10:$G$374,MATCH(J28,Plan!$A$10:$A$374,0))="Eingabe prüfen","?",IF(INDEX(Plan!$G$10:$G$374,MATCH(J28,Plan!$A$10:$A$374,0))=1,"U",IF(INDEX(Plan!$C$10:$C$374,MATCH(J28,Plan!$A$10:$A$374,0))<>"","F",IF(INDEX(Plan!$E$10:$E$374,MATCH(J28,Plan!$A$10:$A$374,0))="Arbeitstag","","frei")))) | K29: =IF(INDEX(Plan!$G$10:$G$374,MATCH(K28,Plan!$A$10:$A$374,0))="Eingabe prüfen","?",IF(INDEX(Plan!$G$10:$G$374,MATCH(K28,Plan!$A$10:$A$374,0))=1,"U",IF(INDEX(Plan!$C$10:$C$374,MATCH(K28,Plan!$A$10:$A$374,0))<>"","F",IF(INDEX(Plan!$E$10:$E$374,MATCH(K28,Plan!$A$10:$A$374,0))="Arbeitstag","","frei")))) | L29: =IF(INDEX(Plan!$G$10:$G$374,MATCH(L28,Plan!$A$10:$A$374,0))="Eingabe prüfen","?",IF(INDEX(Plan!$G$10:$G$374,MATCH(L28,Plan!$A$10:$A$374,0))=1,"U",IF(INDEX(Plan!$C$10:$C$374,MATCH(L28,Plan!$A$10:$A$374,0))<>"","F",IF(INDEX(Plan!$E$10:$E$374,MATCH(L28,Plan!$A$10:$A$374,0))="Arbeitstag","","frei")))) -> F | M29: =IF(INDEX(Plan!$G$10:$G$374,MATCH(M28,Plan!$A$10:$A$374,0))="Eingabe prüfen","?",IF(INDEX(Plan!$G$10:$G$374,MATCH(M28,Plan!$A$10:$A$374,0))=1,"U",IF(INDEX(Plan!$C$10:$C$374,MATCH(M28,Plan!$A$10:$A$374,0))<>"","F",IF(INDEX(Plan!$E$10:$E$374,MATCH(M28,Plan!$A$10:$A$374,0))="Arbeitstag","","frei")))) | N29: =IF(INDEX(Plan!$G$10:$G$374,MATCH(N28,Plan!$A$10:$A$374,0))="Eingabe prüfen","?",IF(INDEX(Plan!$G$10:$G$374,MATCH(N28,Plan!$A$10:$A$374,0))=1,"U",IF(INDEX(Plan!$C$10:$C$374,MATCH(N28,Plan!$A$10:$A$374,0))<>"","F",IF(INDEX(Plan!$E$10:$E$374,MATCH(N28,Plan!$A$10:$A$374,0))="Arbeitstag","","frei")))) -> frei | O29: =IF(INDEX(Plan!$G$10:$G$374,MATCH(O28,Plan!$A$10:$A$374,0))="Eingabe prüfen","?",IF(INDEX(Plan!$G$10:$G$374,MATCH(O28,Plan!$A$10:$A$374,0))=1,"U",IF(INDEX(Plan!$C$10:$C$374,MATCH(O28,Plan!$A$10:$A$374,0))<>"","F",IF(INDEX(Plan!$E$10:$E$374,MATCH(O28,Plan!$A$10:$A$374,0))="Arbeitstag","","frei")))) -> frei | Q29: =IF(INDEX(Plan!$G$10:$G$374,MATCH(Q28,Plan!$A$10:$A$374,0))="Eingabe prüfen","?",IF(INDEX(Plan!$G$10:$G$374,MATCH(Q28,Plan!$A$10:$A$374,0))=1,"U",IF(INDEX(Plan!$C$10:$C$374,MATCH(Q28,Plan!$A$10:$A$374,0))<>"","F",IF(INDEX(Plan!$E$10:$E$374,MATCH(Q28,Plan!$A$10:$A$374,0))="Arbeitstag","","frei")))) | R29: =IF(INDEX(Plan!$G$10:$G$374,MATCH(R28,Plan!$A$10:$A$374,0))="Eingabe prüfen","?",IF(INDEX(Plan!$G$10:$G$374,MATCH(R28,Plan!$A$10:$A$374,0))=1,"U",IF(INDEX(Plan!$C$10:$C$374,MATCH(R28,Plan!$A$10:$A$374,0))<>"","F",IF(INDEX(Plan!$E$10:$E$374,MATCH(R28,Plan!$A$10:$A$374,0))="Arbeitstag","","frei")))) | S29: =IF(INDEX(Plan!$G$10:$G$374,MATCH(S28,Plan!$A$10:$A$374,0))="Eingabe prüfen","?",IF(INDEX(Plan!$G$10:$G$374,MATCH(S28,Plan!$A$10:$A$374,0))=1,"U",IF(INDEX(Plan!$C$10:$C$374,MATCH(S28,Plan!$A$10:$A$374,0))<>"","F",IF(INDEX(Plan!$E$10:$E$374,MATCH(S28,Plan!$A$10:$A$374,0))="Arbeitstag","","frei")))) | T29: =IF(INDEX(Plan!$G$10:$G$374,MATCH(T28,Plan!$A$10:$A$374,0))="Eingabe prüfen","?",IF(INDEX(Plan!$G$10:$G$374,MATCH(T28,Plan!$A$10:$A$374,0))=1,"U",IF(INDEX(Plan!$C$10:$C$374,MATCH(T28,Plan!$A$10:$A$374,0))<>"","F",IF(INDEX(Plan!$E$10:$E$374,MATCH(T28,Plan!$A$10:$A$374,0))="Arbeitstag","","frei")))) | U29: =IF(INDEX(Plan!$G$10:$G$374,MATCH(U28,Plan!$A$10:$A$374,0))="Eingabe prüfen","?",IF(INDEX(Plan!$G$10:$G$374,MATCH(U28,Plan!$A$10:$A$374,0))=1,"U",IF(INDEX(Plan!$C$10:$C$374,MATCH(U28,Plan!$A$10:$A$374,0))<>"","F",IF(INDEX(Plan!$E$10:$E$374,MATCH(U28,Plan!$A$10:$A$374,0))="Arbeitstag","","frei")))) | V29: =IF(INDEX(Plan!$G$10:$G$374,MATCH(V28,Plan!$A$10:$A$374,0))="Eingabe prüfen","?",IF(INDEX(Plan!$G$10:$G$374,MATCH(V28,Plan!$A$10:$A$374,0))=1,"U",IF(INDEX(Plan!$C$10:$C$374,MATCH(V28,Plan!$A$10:$A$374,0))<>"","F",IF(INDEX(Plan!$E$10:$E$374,MATCH(V28,Plan!$A$10:$A$374,0))="Arbeitstag","","frei")))) -> frei | W29: =IF(INDEX(Plan!$G$10:$G$374,MATCH(W28,Plan!$A$10:$A$374,0))="Eingabe prüfen","?",IF(INDEX(Plan!$G$10:$G$374,MATCH(W28,Plan!$A$10:$A$374,0))=1,"U",IF(INDEX(Plan!$C$10:$C$374,MATCH(W28,Plan!$A$10:$A$374,0))<>"","F",IF(INDEX(Plan!$E$10:$E$374,MATCH(W28,Plan!$A$10:$A$374,0))="Arbeitstag","","frei")))) -> frei
A30: 46489 | B30: 46490 | C30: 46491 | D30: 46492 | E30: 46493 | F30: 46494 | G30: 46495 | I30: 46517 | J30: 46518 | K30: 46519 | L30: 46520 | M30: 46521 | N30: 46522 | O30: 46523 | Q30: 46552 | R30: 46553 | S30: 46554 | T30: 46555 | U30: 46556 | V30: 46557 | W30: 46558
A31: =IF(INDEX(Plan!$G$10:$G$374,MATCH(A30,Plan!$A$10:$A$374,0))="Eingabe prüfen","?",IF(INDEX(Plan!$G$10:$G$374,MATCH(A30,Plan!$A$10:$A$374,0))=1,"U",IF(INDEX(Plan!$C$10:$C$374,MATCH(A30,Plan!$A$10:$A$374,0))<>"","F",IF(INDEX(Plan!$E$10:$E$374,MATCH(A30,Plan!$A$10:$A$374,0))="Arbeitstag","","frei")))) | B31: =IF(INDEX(Plan!$G$10:$G$374,MATCH(B30,Plan!$A$10:$A$374,0))="Eingabe prüfen","?",IF(INDEX(Plan!$G$10:$G$374,MATCH(B30,Plan!$A$10:$A$374,0))=1,"U",IF(INDEX(Plan!$C$10:$C$374,MATCH(B30,Plan!$A$10:$A$374,0))<>"","F",IF(INDEX(Plan!$E$10:$E$374,MATCH(B30,Plan!$A$10:$A$374,0))="Arbeitstag","","frei")))) | C31: =IF(INDEX(Plan!$G$10:$G$374,MATCH(C30,Plan!$A$10:$A$374,0))="Eingabe prüfen","?",IF(INDEX(Plan!$G$10:$G$374,MATCH(C30,Plan!$A$10:$A$374,0))=1,"U",IF(INDEX(Plan!$C$10:$C$374,MATCH(C30,Plan!$A$10:$A$374,0))<>"","F",IF(INDEX(Plan!$E$10:$E$374,MATCH(C30,Plan!$A$10:$A$374,0))="Arbeitstag","","frei")))) | D31: =IF(INDEX(Plan!$G$10:$G$374,MATCH(D30,Plan!$A$10:$A$374,0))="Eingabe prüfen","?",IF(INDEX(Plan!$G$10:$G$374,MATCH(D30,Plan!$A$10:$A$374,0))=1,"U",IF(INDEX(Plan!$C$10:$C$374,MATCH(D30,Plan!$A$10:$A$374,0))<>"","F",IF(INDEX(Plan!$E$10:$E$374,MATCH(D30,Plan!$A$10:$A$374,0))="Arbeitstag","","frei")))) | E31: =IF(INDEX(Plan!$G$10:$G$374,MATCH(E30,Plan!$A$10:$A$374,0))="Eingabe prüfen","?",IF(INDEX(Plan!$G$10:$G$374,MATCH(E30,Plan!$A$10:$A$374,0))=1,"U",IF(INDEX(Plan!$C$10:$C$374,MATCH(E30,Plan!$A$10:$A$374,0))<>"","F",IF(INDEX(Plan!$E$10:$E$374,MATCH(E30,Plan!$A$10:$A$374,0))="Arbeitstag","","frei")))) | F31: =IF(INDEX(Plan!$G$10:$G$374,MATCH(F30,Plan!$A$10:$A$374,0))="Eingabe prüfen","?",IF(INDEX(Plan!$G$10:$G$374,MATCH(F30,Plan!$A$10:$A$374,0))=1,"U",IF(INDEX(Plan!$C$10:$C$374,MATCH(F30,Plan!$A$10:$A$374,0))<>"","F",IF(INDEX(Plan!$E$10:$E$374,MATCH(F30,Plan!$A$10:$A$374,0))="Arbeitstag","","frei")))) -> frei | G31: =IF(INDEX(Plan!$G$10:$G$374,MATCH(G30,Plan!$A$10:$A$374,0))="Eingabe prüfen","?",IF(INDEX(Plan!$G$10:$G$374,MATCH(G30,Plan!$A$10:$A$374,0))=1,"U",IF(INDEX(Plan!$C$10:$C$374,MATCH(G30,Plan!$A$10:$A$374,0))<>"","F",IF(INDEX(Plan!$E$10:$E$374,MATCH(G30,Plan!$A$10:$A$374,0))="Arbeitstag","","frei")))) -> frei | I31: =IF(INDEX(Plan!$G$10:$G$374,MATCH(I30,Plan!$A$10:$A$374,0))="Eingabe prüfen","?",IF(INDEX(Plan!$G$10:$G$374,MATCH(I30,Plan!$A$10:$A$374,0))=1,"U",IF(INDEX(Plan!$C$10:$C$374,MATCH(I30,Plan!$A$10:$A$374,0))<>"","F",IF(INDEX(Plan!$E$10:$E$374,MATCH(I30,Plan!$A$10:$A$374,0))="Arbeitstag","","frei")))) | J31: =IF(INDEX(Plan!$G$10:$G$374,MATCH(J30,Plan!$A$10:$A$374,0))="Eingabe prüfen","?",IF(INDEX(Plan!$G$10:$G$374,MATCH(J30,Plan!$A$10:$A$374,0))=1,"U",IF(INDEX(Plan!$C$10:$C$374,MATCH(J30,Plan!$A$10:$A$374,0))<>"","F",IF(INDEX(Plan!$E$10:$E$374,MATCH(J30,Plan!$A$10:$A$374,0))="Arbeitstag","","frei")))) | K31: =IF(INDEX(Plan!$G$10:$G$374,MATCH(K30,Plan!$A$10:$A$374,0))="Eingabe prüfen","?",IF(INDEX(Plan!$G$10:$G$374,MATCH(K30,Plan!$A$10:$A$374,0))=1,"U",IF(INDEX(Plan!$C$10:$C$374,MATCH(K30,Plan!$A$10:$A$374,0))<>"","F",IF(INDEX(Plan!$E$10:$E$374,MATCH(K30,Plan!$A$10:$A$374,0))="Arbeitstag","","frei")))) | L31: =IF(INDEX(Plan!$G$10:$G$374,MATCH(L30,Plan!$A$10:$A$374,0))="Eingabe prüfen","?",IF(INDEX(Plan!$G$10:$G$374,MATCH(L30,Plan!$A$10:$A$374,0))=1,"U",IF(INDEX(Plan!$C$10:$C$374,MATCH(L30,Plan!$A$10:$A$374,0))<>"","F",IF(INDEX(Plan!$E$10:$E$374,MATCH(L30,Plan!$A$10:$A$374,0))="Arbeitstag","","frei")))) | M31: =IF(INDEX(Plan!$G$10:$G$374,MATCH(M30,Plan!$A$10:$A$374,0))="Eingabe prüfen","?",IF(INDEX(Plan!$G$10:$G$374,MATCH(M30,Plan!$A$10:$A$374,0))=1,"U",IF(INDEX(Plan!$C$10:$C$374,MATCH(M30,Plan!$A$10:$A$374,0))<>"","F",IF(INDEX(Plan!$E$10:$E$374,MATCH(M30,Plan!$A$10:$A$374,0))="Arbeitstag","","frei")))) | N31: =IF(INDEX(Plan!$G$10:$G$374,MATCH(N30,Plan!$A$10:$A$374,0))="Eingabe prüfen","?",IF(INDEX(Plan!$G$10:$G$374,MATCH(N30,Plan!$A$10:$A$374,0))=1,"U",IF(INDEX(Plan!$C$10:$C$374,MATCH(N30,Plan!$A$10:$A$374,0))<>"","F",IF(INDEX(Plan!$E$10:$E$374,MATCH(N30,Plan!$A$10:$A$374,0))="Arbeitstag","","frei")))) -> frei | O31: =IF(INDEX(Plan!$G$10:$G$374,MATCH(O30,Plan!$A$10:$A$374,0))="Eingabe prüfen","?",IF(INDEX(Plan!$G$10:$G$374,MATCH(O30,Plan!$A$10:$A$374,0))=1,"U",IF(INDEX(Plan!$C$10:$C$374,MATCH(O30,Plan!$A$10:$A$374,0))<>"","F",IF(INDEX(Plan!$E$10:$E$374,MATCH(O30,Plan!$A$10:$A$374,0))="Arbeitstag","","frei")))) -> frei | Q31: =IF(INDEX(Plan!$G$10:$G$374,MATCH(Q30,Plan!$A$10:$A$374,0))="Eingabe prüfen","?",IF(INDEX(Plan!$G$10:$G$374,MATCH(Q30,Plan!$A$10:$A$374,0))=1,"U",IF(INDEX(Plan!$C$10:$C$374,MATCH(Q30,Plan!$A$10:$A$374,0))<>"","F",IF(INDEX(Plan!$E$10:$E$374,MATCH(Q30,Plan!$A$10:$A$374,0))="Arbeitstag","","frei")))) | R31: =IF(INDEX(Plan!$G$10:$G$374,MATCH(R30,Plan!$A$10:$A$374,0))="Eingabe prüfen","?",IF(INDEX(Plan!$G$10:$G$374,MATCH(R30,Plan!$A$10:$A$374,0))=1,"U",IF(INDEX(Plan!$C$10:$C$374,MATCH(R30,Plan!$A$10:$A$374,0))<>"","F",IF(INDEX(Plan!$E$10:$E$374,MATCH(R30,Plan!$A$10:$A$374,0))="Arbeitstag","","frei")))) | S31: =IF(INDEX(Plan!$G$10:$G$374,MATCH(S30,Plan!$A$10:$A$374,0))="Eingabe prüfen","?",IF(INDEX(Plan!$G$10:$G$374,MATCH(S30,Plan!$A$10:$A$374,0))=1,"U",IF(INDEX(Plan!$C$10:$C$374,MATCH(S30,Plan!$A$10:$A$374,0))<>"","F",IF(INDEX(Plan!$E$10:$E$374,MATCH(S30,Plan!$A$10:$A$374,0))="Arbeitstag","","frei")))) | T31: =IF(INDEX(Plan!$G$10:$G$374,MATCH(T30,Plan!$A$10:$A$374,0))="Eingabe prüfen","?",IF(INDEX(Plan!$G$10:$G$374,MATCH(T30,Plan!$A$10:$A$374,0))=1,"U",IF(INDEX(Plan!$C$10:$C$374,MATCH(T30,Plan!$A$10:$A$374,0))<>"","F",IF(INDEX(Plan!$E$10:$E$374,MATCH(T30,Plan!$A$10:$A$374,0))="Arbeitstag","","frei")))) | U31: =IF(INDEX(Plan!$G$10:$G$374,MATCH(U30,Plan!$A$10:$A$374,0))="Eingabe prüfen","?",IF(INDEX(Plan!$G$10:$G$374,MATCH(U30,Plan!$A$10:$A$374,0))=1,"U",IF(INDEX(Plan!$C$10:$C$374,MATCH(U30,Plan!$A$10:$A$374,0))<>"","F",IF(INDEX(Plan!$E$10:$E$374,MATCH(U30,Plan!$A$10:$A$374,0))="Arbeitstag","","frei")))) | V31: =IF(INDEX(Plan!$G$10:$G$374,MATCH(V30,Plan!$A$10:$A$374,0))="Eingabe prüfen","?",IF(INDEX(Plan!$G$10:$G$374,MATCH(V30,Plan!$A$10:$A$374,0))=1,"U",IF(INDEX(Plan!$C$10:$C$374,MATCH(V30,Plan!$A$10:$A$374,0))<>"","F",IF(INDEX(Plan!$E$10:$E$374,MATCH(V30,Plan!$A$10:$A$374,0))="Arbeitstag","","frei")))) -> frei | W31: =IF(INDEX(Plan!$G$10:$G$374,MATCH(W30,Plan!$A$10:$A$374,0))="Eingabe prüfen","?",IF(INDEX(Plan!$G$10:$G$374,MATCH(W30,Plan!$A$10:$A$374,0))=1,"U",IF(INDEX(Plan!$C$10:$C$374,MATCH(W30,Plan!$A$10:$A$374,0))<>"","F",IF(INDEX(Plan!$E$10:$E$374,MATCH(W30,Plan!$A$10:$A$374,0))="Arbeitstag","","frei")))) -> frei
A32: 46496 | B32: 46497 | C32: 46498 | D32: 46499 | E32: 46500 | F32: 46501 | G32: 46502 | I32: 46524 | J32: 46525 | K32: 46526 | L32: 46527 | M32: 46528 | N32: 46529 | O32: 46530 | Q32: 46559 | R32: 46560 | S32: 46561 | T32: 46562 | U32: 46563 | V32: 46564 | W32: 46565
A33: =IF(INDEX(Plan!$G$10:$G$374,MATCH(A32,Plan!$A$10:$A$374,0))="Eingabe prüfen","?",IF(INDEX(Plan!$G$10:$G$374,MATCH(A32,Plan!$A$10:$A$374,0))=1,"U",IF(INDEX(Plan!$C$10:$C$374,MATCH(A32,Plan!$A$10:$A$374,0))<>"","F",IF(INDEX(Plan!$E$10:$E$374,MATCH(A32,Plan!$A$10:$A$374,0))="Arbeitstag","","frei")))) | B33: =IF(INDEX(Plan!$G$10:$G$374,MATCH(B32,Plan!$A$10:$A$374,0))="Eingabe prüfen","?",IF(INDEX(Plan!$G$10:$G$374,MATCH(B32,Plan!$A$10:$A$374,0))=1,"U",IF(INDEX(Plan!$C$10:$C$374,MATCH(B32,Plan!$A$10:$A$374,0))<>"","F",IF(INDEX(Plan!$E$10:$E$374,MATCH(B32,Plan!$A$10:$A$374,0))="Arbeitstag","","frei")))) | C33: =IF(INDEX(Plan!$G$10:$G$374,MATCH(C32,Plan!$A$10:$A$374,0))="Eingabe prüfen","?",IF(INDEX(Plan!$G$10:$G$374,MATCH(C32,Plan!$A$10:$A$374,0))=1,"U",IF(INDEX(Plan!$C$10:$C$374,MATCH(C32,Plan!$A$10:$A$374,0))<>"","F",IF(INDEX(Plan!$E$10:$E$374,MATCH(C32,Plan!$A$10:$A$374,0))="Arbeitstag","","frei")))) | D33: =IF(INDEX(Plan!$G$10:$G$374,MATCH(D32,Plan!$A$10:$A$374,0))="Eingabe prüfen","?",IF(INDEX(Plan!$G$10:$G$374,MATCH(D32,Plan!$A$10:$A$374,0))=1,"U",IF(INDEX(Plan!$C$10:$C$374,MATCH(D32,Plan!$A$10:$A$374,0))<>"","F",IF(INDEX(Plan!$E$10:$E$374,MATCH(D32,Plan!$A$10:$A$374,0))="Arbeitstag","","frei")))) | E33: =IF(INDEX(Plan!$G$10:$G$374,MATCH(E32,Plan!$A$10:$A$374,0))="Eingabe prüfen","?",IF(INDEX(Plan!$G$10:$G$374,MATCH(E32,Plan!$A$10:$A$374,0))=1,"U",IF(INDEX(Plan!$C$10:$C$374,MATCH(E32,Plan!$A$10:$A$374,0))<>"","F",IF(INDEX(Plan!$E$10:$E$374,MATCH(E32,Plan!$A$10:$A$374,0))="Arbeitstag","","frei")))) | F33: =IF(INDEX(Plan!$G$10:$G$374,MATCH(F32,Plan!$A$10:$A$374,0))="Eingabe prüfen","?",IF(INDEX(Plan!$G$10:$G$374,MATCH(F32,Plan!$A$10:$A$374,0))=1,"U",IF(INDEX(Plan!$C$10:$C$374,MATCH(F32,Plan!$A$10:$A$374,0))<>"","F",IF(INDEX(Plan!$E$10:$E$374,MATCH(F32,Plan!$A$10:$A$374,0))="Arbeitstag","","frei")))) -> frei | G33: =IF(INDEX(Plan!$G$10:$G$374,MATCH(G32,Plan!$A$10:$A$374,0))="Eingabe prüfen","?",IF(INDEX(Plan!$G$10:$G$374,MATCH(G32,Plan!$A$10:$A$374,0))=1,"U",IF(INDEX(Plan!$C$10:$C$374,MATCH(G32,Plan!$A$10:$A$374,0))<>"","F",IF(INDEX(Plan!$E$10:$E$374,MATCH(G32,Plan!$A$10:$A$374,0))="Arbeitstag","","frei")))) -> frei | I33: =IF(INDEX(Plan!$G$10:$G$374,MATCH(I32,Plan!$A$10:$A$374,0))="Eingabe prüfen","?",IF(INDEX(Plan!$G$10:$G$374,MATCH(I32,Plan!$A$10:$A$374,0))=1,"U",IF(INDEX(Plan!$C$10:$C$374,MATCH(I32,Plan!$A$10:$A$374,0))<>"","F",IF(INDEX(Plan!$E$10:$E$374,MATCH(I32,Plan!$A$10:$A$374,0))="Arbeitstag","","frei")))) -> F | J33: =IF(INDEX(Plan!$G$10:$G$374,MATCH(J32,Plan!$A$10:$A$374,0))="Eingabe prüfen","?",IF(INDEX(Plan!$G$10:$G$374,MATCH(J32,Plan!$A$10:$A$374,0))=1,"U",IF(INDEX(Plan!$C$10:$C$374,MATCH(J32,Plan!$A$10:$A$374,0))<>"","F",IF(INDEX(Plan!$E$10:$E$374,MATCH(J32,Plan!$A$10:$A$374,0))="Arbeitstag","","frei")))) | K33: =IF(INDEX(Plan!$G$10:$G$374,MATCH(K32,Plan!$A$10:$A$374,0))="Eingabe prüfen","?",IF(INDEX(Plan!$G$10:$G$374,MATCH(K32,Plan!$A$10:$A$374,0))=1,"U",IF(INDEX(Plan!$C$10:$C$374,MATCH(K32,Plan!$A$10:$A$374,0))<>"","F",IF(INDEX(Plan!$E$10:$E$374,MATCH(K32,Plan!$A$10:$A$374,0))="Arbeitstag","","frei")))) | L33: =IF(INDEX(Plan!$G$10:$G$374,MATCH(L32,Plan!$A$10:$A$374,0))="Eingabe prüfen","?",IF(INDEX(Plan!$G$10:$G$374,MATCH(L32,Plan!$A$10:$A$374,0))=1,"U",IF(INDEX(Plan!$C$10:$C$374,MATCH(L32,Plan!$A$10:$A$374,0))<>"","F",IF(INDEX(Plan!$E$10:$E$374,MATCH(L32,Plan!$A$10:$A$374,0))="Arbeitstag","","frei")))) | M33: =IF(INDEX(Plan!$G$10:$G$374,MATCH(M32,Plan!$A$10:$A$374,0))="Eingabe prüfen","?",IF(INDEX(Plan!$G$10:$G$374,MATCH(M32,Plan!$A$10:$A$374,0))=1,"U",IF(INDEX(Plan!$C$10:$C$374,MATCH(M32,Plan!$A$10:$A$374,0))<>"","F",IF(INDEX(Plan!$E$10:$E$374,MATCH(M32,Plan!$A$10:$A$374,0))="Arbeitstag","","frei")))) | N33: =IF(INDEX(Plan!$G$10:$G$374,MATCH(N32,Plan!$A$10:$A$374,0))="Eingabe prüfen","?",IF(INDEX(Plan!$G$10:$G$374,MATCH(N32,Plan!$A$10:$A$374,0))=1,"U",IF(INDEX(Plan!$C$10:$C$374,MATCH(N32,Plan!$A$10:$A$374,0))<>"","F",IF(INDEX(Plan!$E$10:$E$374,MATCH(N32,Plan!$A$10:$A$374,0))="Arbeitstag","","frei")))) -> frei | O33: =IF(INDEX(Plan!$G$10:$G$374,MATCH(O32,Plan!$A$10:$A$374,0))="Eingabe prüfen","?",IF(INDEX(Plan!$G$10:$G$374,MATCH(O32,Plan!$A$10:$A$374,0))=1,"U",IF(INDEX(Plan!$C$10:$C$374,MATCH(O32,Plan!$A$10:$A$374,0))<>"","F",IF(INDEX(Plan!$E$10:$E$374,MATCH(O32,Plan!$A$10:$A$374,0))="Arbeitstag","","frei")))) -> frei | Q33: =IF(INDEX(Plan!$G$10:$G$374,MATCH(Q32,Plan!$A$10:$A$374,0))="Eingabe prüfen","?",IF(INDEX(Plan!$G$10:$G$374,MATCH(Q32,Plan!$A$10:$A$374,0))=1,"U",IF(INDEX(Plan!$C$10:$C$374,MATCH(Q32,Plan!$A$10:$A$374,0))<>"","F",IF(INDEX(Plan!$E$10:$E$374,MATCH(Q32,Plan!$A$10:$A$374,0))="Arbeitstag","","frei")))) | R33: =IF(INDEX(Plan!$G$10:$G$374,MATCH(R32,Plan!$A$10:$A$374,0))="Eingabe prüfen","?",IF(INDEX(Plan!$G$10:$G$374,MATCH(R32,Plan!$A$10:$A$374,0))=1,"U",IF(INDEX(Plan!$C$10:$C$374,MATCH(R32,Plan!$A$10:$A$374,0))<>"","F",IF(INDEX(Plan!$E$10:$E$374,MATCH(R32,Plan!$A$10:$A$374,0))="Arbeitstag","","frei")))) | S33: =IF(INDEX(Plan!$G$10:$G$374,MATCH(S32,Plan!$A$10:$A$374,0))="Eingabe prüfen","?",IF(INDEX(Plan!$G$10:$G$374,MATCH(S32,Plan!$A$10:$A$374,0))=1,"U",IF(INDEX(Plan!$C$10:$C$374,MATCH(S32,Plan!$A$10:$A$374,0))<>"","F",IF(INDEX(Plan!$E$10:$E$374,MATCH(S32,Plan!$A$10:$A$374,0))="Arbeitstag","","frei")))) | T33: =IF(INDEX(Plan!$G$10:$G$374,MATCH(T32,Plan!$A$10:$A$374,0))="Eingabe prüfen","?",IF(INDEX(Plan!$G$10:$G$374,MATCH(T32,Plan!$A$10:$A$374,0))=1,"U",IF(INDEX(Plan!$C$10:$C$374,MATCH(T32,Plan!$A$10:$A$374,0))<>"","F",IF(INDEX(Plan!$E$10:$E$374,MATCH(T32,Plan!$A$10:$A$374,0))="Arbeitstag","","frei")))) | U33: =IF(INDEX(Plan!$G$10:$G$374,MATCH(U32,Plan!$A$10:$A$374,0))="Eingabe prüfen","?",IF(INDEX(Plan!$G$10:$G$374,MATCH(U32,Plan!$A$10:$A$374,0))=1,"U",IF(INDEX(Plan!$C$10:$C$374,MATCH(U32,Plan!$A$10:$A$374,0))<>"","F",IF(INDEX(Plan!$E$10:$E$374,MATCH(U32,Plan!$A$10:$A$374,0))="Arbeitstag","","frei")))) | V33: =IF(INDEX(Plan!$G$10:$G$374,MATCH(V32,Plan!$A$10:$A$374,0))="Eingabe prüfen","?",IF(INDEX(Plan!$G$10:$G$374,MATCH(V32,Plan!$A$10:$A$374,0))=1,"U",IF(INDEX(Plan!$C$10:$C$374,MATCH(V32,Plan!$A$10:$A$374,0))<>"","F",IF(INDEX(Plan!$E$10:$E$374,MATCH(V32,Plan!$A$10:$A$374,0))="Arbeitstag","","frei")))) -> frei | W33: =IF(INDEX(Plan!$G$10:$G$374,MATCH(W32,Plan!$A$10:$A$374,0))="Eingabe prüfen","?",IF(INDEX(Plan!$G$10:$G$374,MATCH(W32,Plan!$A$10:$A$374,0))=1,"U",IF(INDEX(Plan!$C$10:$C$374,MATCH(W32,Plan!$A$10:$A$374,0))<>"","F",IF(INDEX(Plan!$E$10:$E$374,MATCH(W32,Plan!$A$10:$A$374,0))="Arbeitstag","","frei")))) -> frei
A34: 46503 | B34: 46504 | C34: 46505 | D34: 46506 | E34: 46507 | I34: 46531 | J34: 46532 | K34: 46533 | L34: 46534 | M34: 46535 | N34: 46536 | O34: 46537 | Q34: 46566 | R34: 46567 | S34: 46568
A35: =IF(INDEX(Plan!$G$10:$G$374,MATCH(A34,Plan!$A$10:$A$374,0))="Eingabe prüfen","?",IF(INDEX(Plan!$G$10:$G$374,MATCH(A34,Plan!$A$10:$A$374,0))=1,"U",IF(INDEX(Plan!$C$10:$C$374,MATCH(A34,Plan!$A$10:$A$374,0))<>"","F",IF(INDEX(Plan!$E$10:$E$374,MATCH(A34,Plan!$A$10:$A$374,0))="Arbeitstag","","frei")))) | B35: =IF(INDEX(Plan!$G$10:$G$374,MATCH(B34,Plan!$A$10:$A$374,0))="Eingabe prüfen","?",IF(INDEX(Plan!$G$10:$G$374,MATCH(B34,Plan!$A$10:$A$374,0))=1,"U",IF(INDEX(Plan!$C$10:$C$374,MATCH(B34,Plan!$A$10:$A$374,0))<>"","F",IF(INDEX(Plan!$E$10:$E$374,MATCH(B34,Plan!$A$10:$A$374,0))="Arbeitstag","","frei")))) | C35: =IF(INDEX(Plan!$G$10:$G$374,MATCH(C34,Plan!$A$10:$A$374,0))="Eingabe prüfen","?",IF(INDEX(Plan!$G$10:$G$374,MATCH(C34,Plan!$A$10:$A$374,0))=1,"U",IF(INDEX(Plan!$C$10:$C$374,MATCH(C34,Plan!$A$10:$A$374,0))<>"","F",IF(INDEX(Plan!$E$10:$E$374,MATCH(C34,Plan!$A$10:$A$374,0))="Arbeitstag","","frei")))) | D35: =IF(INDEX(Plan!$G$10:$G$374,MATCH(D34,Plan!$A$10:$A$374,0))="Eingabe prüfen","?",IF(INDEX(Plan!$G$10:$G$374,MATCH(D34,Plan!$A$10:$A$374,0))=1,"U",IF(INDEX(Plan!$C$10:$C$374,MATCH(D34,Plan!$A$10:$A$374,0))<>"","F",IF(INDEX(Plan!$E$10:$E$374,MATCH(D34,Plan!$A$10:$A$374,0))="Arbeitstag","","frei")))) | E35: =IF(INDEX(Plan!$G$10:$G$374,MATCH(E34,Plan!$A$10:$A$374,0))="Eingabe prüfen","?",IF(INDEX(Plan!$G$10:$G$374,MATCH(E34,Plan!$A$10:$A$374,0))=1,"U",IF(INDEX(Plan!$C$10:$C$374,MATCH(E34,Plan!$A$10:$A$374,0))<>"","F",IF(INDEX(Plan!$E$10:$E$374,MATCH(E34,Plan!$A$10:$A$374,0))="Arbeitstag","","frei")))) | I35: =IF(INDEX(Plan!$G$10:$G$374,MATCH(I34,Plan!$A$10:$A$374,0))="Eingabe prüfen","?",IF(INDEX(Plan!$G$10:$G$374,MATCH(I34,Plan!$A$10:$A$374,0))=1,"U",IF(INDEX(Plan!$C$10:$C$374,MATCH(I34,Plan!$A$10:$A$374,0))<>"","F",IF(INDEX(Plan!$E$10:$E$374,MATCH(I34,Plan!$A$10:$A$374,0))="Arbeitstag","","frei")))) | J35: =IF(INDEX(Plan!$G$10:$G$374,MATCH(J34,Plan!$A$10:$A$374,0))="Eingabe prüfen","?",IF(INDEX(Plan!$G$10:$G$374,MATCH(J34,Plan!$A$10:$A$374,0))=1,"U",IF(INDEX(Plan!$C$10:$C$374,MATCH(J34,Plan!$A$10:$A$374,0))<>"","F",IF(INDEX(Plan!$E$10:$E$374,MATCH(J34,Plan!$A$10:$A$374,0))="Arbeitstag","","frei")))) | K35: =IF(INDEX(Plan!$G$10:$G$374,MATCH(K34,Plan!$A$10:$A$374,0))="Eingabe prüfen","?",IF(INDEX(Plan!$G$10:$G$374,MATCH(K34,Plan!$A$10:$A$374,0))=1,"U",IF(INDEX(Plan!$C$10:$C$374,MATCH(K34,Plan!$A$10:$A$374,0))<>"","F",IF(INDEX(Plan!$E$10:$E$374,MATCH(K34,Plan!$A$10:$A$374,0))="Arbeitstag","","frei")))) | L35: =IF(INDEX(Plan!$G$10:$G$374,MATCH(L34,Plan!$A$10:$A$374,0))="Eingabe prüfen","?",IF(INDEX(Plan!$G$10:$G$374,MATCH(L34,Plan!$A$10:$A$374,0))=1,"U",IF(INDEX(Plan!$C$10:$C$374,MATCH(L34,Plan!$A$10:$A$374,0))<>"","F",IF(INDEX(Plan!$E$10:$E$374,MATCH(L34,Plan!$A$10:$A$374,0))="Arbeitstag","","frei")))) | M35: =IF(INDEX(Plan!$G$10:$G$374,MATCH(M34,Plan!$A$10:$A$374,0))="Eingabe prüfen","?",IF(INDEX(Plan!$G$10:$G$374,MATCH(M34,Plan!$A$10:$A$374,0))=1,"U",IF(INDEX(Plan!$C$10:$C$374,MATCH(M34,Plan!$A$10:$A$374,0))<>"","F",IF(INDEX(Plan!$E$10:$E$374,MATCH(M34,Plan!$A$10:$A$374,0))="Arbeitstag","","frei")))) | N35: =IF(INDEX(Plan!$G$10:$G$374,MATCH(N34,Plan!$A$10:$A$374,0))="Eingabe prüfen","?",IF(INDEX(Plan!$G$10:$G$374,MATCH(N34,Plan!$A$10:$A$374,0))=1,"U",IF(INDEX(Plan!$C$10:$C$374,MATCH(N34,Plan!$A$10:$A$374,0))<>"","F",IF(INDEX(Plan!$E$10:$E$374,MATCH(N34,Plan!$A$10:$A$374,0))="Arbeitstag","","frei")))) -> frei | O35: =IF(INDEX(Plan!$G$10:$G$374,MATCH(O34,Plan!$A$10:$A$374,0))="Eingabe prüfen","?",IF(INDEX(Plan!$G$10:$G$374,MATCH(O34,Plan!$A$10:$A$374,0))=1,"U",IF(INDEX(Plan!$C$10:$C$374,MATCH(O34,Plan!$A$10:$A$374,0))<>"","F",IF(INDEX(Plan!$E$10:$E$374,MATCH(O34,Plan!$A$10:$A$374,0))="Arbeitstag","","frei")))) -> frei | Q35: =IF(INDEX(Plan!$G$10:$G$374,MATCH(Q34,Plan!$A$10:$A$374,0))="Eingabe prüfen","?",IF(INDEX(Plan!$G$10:$G$374,MATCH(Q34,Plan!$A$10:$A$374,0))=1,"U",IF(INDEX(Plan!$C$10:$C$374,MATCH(Q34,Plan!$A$10:$A$374,0))<>"","F",IF(INDEX(Plan!$E$10:$E$374,MATCH(Q34,Plan!$A$10:$A$374,0))="Arbeitstag","","frei")))) | R35: =IF(INDEX(Plan!$G$10:$G$374,MATCH(R34,Plan!$A$10:$A$374,0))="Eingabe prüfen","?",IF(INDEX(Plan!$G$10:$G$374,MATCH(R34,Plan!$A$10:$A$374,0))=1,"U",IF(INDEX(Plan!$C$10:$C$374,MATCH(R34,Plan!$A$10:$A$374,0))<>"","F",IF(INDEX(Plan!$E$10:$E$374,MATCH(R34,Plan!$A$10:$A$374,0))="Arbeitstag","","frei")))) | S35: =IF(INDEX(Plan!$G$10:$G$374,MATCH(S34,Plan!$A$10:$A$374,0))="Eingabe prüfen","?",IF(INDEX(Plan!$G$10:$G$374,MATCH(S34,Plan!$A$10:$A$374,0))=1,"U",IF(INDEX(Plan!$C$10:$C$374,MATCH(S34,Plan!$A$10:$A$374,0))<>"","F",IF(INDEX(Plan!$E$10:$E$374,MATCH(S34,Plan!$A$10:$A$374,0))="Arbeitstag","","frei"))))
I36: 46538
I37: =IF(INDEX(Plan!$G$10:$G$374,MATCH(I36,Plan!$A$10:$A$374,0))="Eingabe prüfen","?",IF(INDEX(Plan!$G$10:$G$374,MATCH(I36,Plan!$A$10:$A$374,0))=1,"U",IF(INDEX(Plan!$C$10:$C$374,MATCH(I36,Plan!$A$10:$A$374,0))<>"","F",IF(INDEX(Plan!$E$10:$E$374,MATCH(I36,Plan!$A$10:$A$374,0))="Arbeitstag","","frei"))))
A39: Stand: 13.10.2026. Landesweite Feiertage. Quellen und Grenzen: Plan. klarbelegt.de
A44: Urlaubsplaner 2027: Bremen
A46: Einträge auf Plan. | I46: Verplant | L46: =Plan!E4 -> 0 | Q46: Übrig | T46: =Plan!H4 -> 30
A48: U: Urlaubstag. F: gesetzlicher Feiertag. frei: regulär oder betrieblich frei.
A50: Juli | I50: August | Q50: September
A51: Mo | B51: Di | C51: Mi | D51: Do | E51: Fr | F51: Sa | G51: So | I51: Mo | J51: Di | K51: Mi | L51: Do | M51: Fr | N51: Sa | O51: So | Q51: Mo | R51: Di | S51: Mi | T51: Do | U51: Fr | V51: Sa | W51: So
D52: 46569 | E52: 46570 | F52: 46571 | G52: 46572 | O52: 46600 | S52: 46631 | T52: 46632 | U52: 46633 | V52: 46634 | W52: 46635
D53: =IF(INDEX(Plan!$G$10:$G$374,MATCH(D52,Plan!$A$10:$A$374,0))="Eingabe prüfen","?",IF(INDEX(Plan!$G$10:$G$374,MATCH(D52,Plan!$A$10:$A$374,0))=1,"U",IF(INDEX(Plan!$C$10:$C$374,MATCH(D52,Plan!$A$10:$A$374,0))<>"","F",IF(INDEX(Plan!$E$10:$E$374,MATCH(D52,Plan!$A$10:$A$374,0))="Arbeitstag","","frei")))) | E53: =IF(INDEX(Plan!$G$10:$G$374,MATCH(E52,Plan!$A$10:$A$374,0))="Eingabe prüfen","?",IF(INDEX(Plan!$G$10:$G$374,MATCH(E52,Plan!$A$10:$A$374,0))=1,"U",IF(INDEX(Plan!$C$10:$C$374,MATCH(E52,Plan!$A$10:$A$374,0))<>"","F",IF(INDEX(Plan!$E$10:$E$374,MATCH(E52,Plan!$A$10:$A$374,0))="Arbeitstag","","frei")))) | F53: =IF(INDEX(Plan!$G$10:$G$374,MATCH(F52,Plan!$A$10:$A$374,0))="Eingabe prüfen","?",IF(INDEX(Plan!$G$10:$G$374,MATCH(F52,Plan!$A$10:$A$374,0))=1,"U",IF(INDEX(Plan!$C$10:$C$374,MATCH(F52,Plan!$A$10:$A$374,0))<>"","F",IF(INDEX(Plan!$E$10:$E$374,MATCH(F52,Plan!$A$10:$A$374,0))="Arbeitstag","","frei")))) -> frei | G53: =IF(INDEX(Plan!$G$10:$G$374,MATCH(G52,Plan!$A$10:$A$374,0))="Eingabe prüfen","?",IF(INDEX(Plan!$G$10:$G$374,MATCH(G52,Plan!$A$10:$A$374,0))=1,"U",IF(INDEX(Plan!$C$10:$C$374,MATCH(G52,Plan!$A$10:$A$374,0))<>"","F",IF(INDEX(Plan!$E$10:$E$374,MATCH(G52,Plan!$A$10:$A$374,0))="Arbeitstag","","frei")))) -> frei | O53: =IF(INDEX(Plan!$G$10:$G$374,MATCH(O52,Plan!$A$10:$A$374,0))="Eingabe prüfen","?",IF(INDEX(Plan!$G$10:$G$374,MATCH(O52,Plan!$A$10:$A$374,0))=1,"U",IF(INDEX(Plan!$C$10:$C$374,MATCH(O52,Plan!$A$10:$A$374,0))<>"","F",IF(INDEX(Plan!$E$10:$E$374,MATCH(O52,Plan!$A$10:$A$374,0))="Arbeitstag","","frei")))) -> frei | S53: =IF(INDEX(Plan!$G$10:$G$374,MATCH(S52,Plan!$A$10:$A$374,0))="Eingabe prüfen","?",IF(INDEX(Plan!$G$10:$G$374,MATCH(S52,Plan!$A$10:$A$374,0))=1,"U",IF(INDEX(Plan!$C$10:$C$374,MATCH(S52,Plan!$A$10:$A$374,0))<>"","F",IF(INDEX(Plan!$E$10:$E$374,MATCH(S52,Plan!$A$10:$A$374,0))="Arbeitstag","","frei")))) | T53: =IF(INDEX(Plan!$G$10:$G$374,MATCH(T52,Plan!$A$10:$A$374,0))="Eingabe prüfen","?",IF(INDEX(Plan!$G$10:$G$374,MATCH(T52,Plan!$A$10:$A$374,0))=1,"U",IF(INDEX(Plan!$C$10:$C$374,MATCH(T52,Plan!$A$10:$A$374,0))<>"","F",IF(INDEX(Plan!$E$10:$E$374,MATCH(T52,Plan!$A$10:$A$374,0))="Arbeitstag","","frei")))) | U53: =IF(INDEX(Plan!$G$10:$G$374,MATCH(U52,Plan!$A$10:$A$374,0))="Eingabe prüfen","?",IF(INDEX(Plan!$G$10:$G$374,MATCH(U52,Plan!$A$10:$A$374,0))=1,"U",IF(INDEX(Plan!$C$10:$C$374,MATCH(U52,Plan!$A$10:$A$374,0))<>"","F",IF(INDEX(Plan!$E$10:$E$374,MATCH(U52,Plan!$A$10:$A$374,0))="Arbeitstag","","frei")))) | V53: =IF(INDEX(Plan!$G$10:$G$374,MATCH(V52,Plan!$A$10:$A$374,0))="Eingabe prüfen","?",IF(INDEX(Plan!$G$10:$G$374,MATCH(V52,Plan!$A$10:$A$374,0))=1,"U",IF(INDEX(Plan!$C$10:$C$374,MATCH(V52,Plan!$A$10:$A$374,0))<>"","F",IF(INDEX(Plan!$E$10:$E$374,MATCH(V52,Plan!$A$10:$A$374,0))="Arbeitstag","","frei")))) -> frei | W53: =IF(INDEX(Plan!$G$10:$G$374,MATCH(W52,Plan!$A$10:$A$374,0))="Eingabe prüfen","?",IF(INDEX(Plan!$G$10:$G$374,MATCH(W52,Plan!$A$10:$A$374,0))=1,"U",IF(INDEX(Plan!$C$10:$C$374,MATCH(W52,Plan!$A$10:$A$374,0))<>"","F",IF(INDEX(Plan!$E$10:$E$374,MATCH(W52,Plan!$A$10:$A$374,0))="Arbeitstag","","frei")))) -> frei
A54: 46573 | B54: 46574 | C54: 46575 | D54: 46576 | E54: 46577 | F54: 46578 | G54: 46579 | I54: 46601 | J54: 46602 | K54: 46603 | L54: 46604 | M54: 46605 | N54: 46606 | O54: 46607 | Q54: 46636 | R54: 46637 | S54: 46638 | T54: 46639 | U54: 46640 | V54: 46641 | W54: 46642
A55: =IF(INDEX(Plan!$G$10:$G$374,MATCH(A54,Plan!$A$10:$A$374,0))="Eingabe prüfen","?",IF(INDEX(Plan!$G$10:$G$374,MATCH(A54,Plan!$A$10:$A$374,0))=1,"U",IF(INDEX(Plan!$C$10:$C$374,MATCH(A54,Plan!$A$10:$A$374,0))<>"","F",IF(INDEX(Plan!$E$10:$E$374,MATCH(A54,Plan!$A$10:$A$374,0))="Arbeitstag","","frei")))) | B55: =IF(INDEX(Plan!$G$10:$G$374,MATCH(B54,Plan!$A$10:$A$374,0))="Eingabe prüfen","?",IF(INDEX(Plan!$G$10:$G$374,MATCH(B54,Plan!$A$10:$A$374,0))=1,"U",IF(INDEX(Plan!$C$10:$C$374,MATCH(B54,Plan!$A$10:$A$374,0))<>"","F",IF(INDEX(Plan!$E$10:$E$374,MATCH(B54,Plan!$A$10:$A$374,0))="Arbeitstag","","frei")))) | C55: =IF(INDEX(Plan!$G$10:$G$374,MATCH(C54,Plan!$A$10:$A$374,0))="Eingabe prüfen","?",IF(INDEX(Plan!$G$10:$G$374,MATCH(C54,Plan!$A$10:$A$374,0))=1,"U",IF(INDEX(Plan!$C$10:$C$374,MATCH(C54,Plan!$A$10:$A$374,0))<>"","F",IF(INDEX(Plan!$E$10:$E$374,MATCH(C54,Plan!$A$10:$A$374,0))="Arbeitstag","","frei")))) | D55: =IF(INDEX(Plan!$G$10:$G$374,MATCH(D54,Plan!$A$10:$A$374,0))="Eingabe prüfen","?",IF(INDEX(Plan!$G$10:$G$374,MATCH(D54,Plan!$A$10:$A$374,0))=1,"U",IF(INDEX(Plan!$C$10:$C$374,MATCH(D54,Plan!$A$10:$A$374,0))<>"","F",IF(INDEX(Plan!$E$10:$E$374,MATCH(D54,Plan!$A$10:$A$374,0))="Arbeitstag","","frei")))) | E55: =IF(INDEX(Plan!$G$10:$G$374,MATCH(E54,Plan!$A$10:$A$374,0))="Eingabe prüfen","?",IF(INDEX(Plan!$G$10:$G$374,MATCH(E54,Plan!$A$10:$A$374,0))=1,"U",IF(INDEX(Plan!$C$10:$C$374,MATCH(E54,Plan!$A$10:$A$374,0))<>"","F",IF(INDEX(Plan!$E$10:$E$374,MATCH(E54,Plan!$A$10:$A$374,0))="Arbeitstag","","frei")))) | F55: =IF(INDEX(Plan!$G$10:$G$374,MATCH(F54,Plan!$A$10:$A$374,0))="Eingabe prüfen","?",IF(INDEX(Plan!$G$10:$G$374,MATCH(F54,Plan!$A$10:$A$374,0))=1,"U",IF(INDEX(Plan!$C$10:$C$374,MATCH(F54,Plan!$A$10:$A$374,0))<>"","F",IF(INDEX(Plan!$E$10:$E$374,MATCH(F54,Plan!$A$10:$A$374,0))="Arbeitstag","","frei")))) -> frei | G55: =IF(INDEX(Plan!$G$10:$G$374,MATCH(G54,Plan!$A$10:$A$374,0))="Eingabe prüfen","?",IF(INDEX(Plan!$G$10:$G$374,MATCH(G54,Plan!$A$10:$A$374,0))=1,"U",IF(INDEX(Plan!$C$10:$C$374,MATCH(G54,Plan!$A$10:$A$374,0))<>"","F",IF(INDEX(Plan!$E$10:$E$374,MATCH(G54,Plan!$A$10:$A$374,0))="Arbeitstag","","frei")))) -> frei | I55: =IF(INDEX(Plan!$G$10:$G$374,MATCH(I54,Plan!$A$10:$A$374,0))="Eingabe prüfen","?",IF(INDEX(Plan!$G$10:$G$374,MATCH(I54,Plan!$A$10:$A$374,0))=1,"U",IF(INDEX(Plan!$C$10:$C$374,MATCH(I54,Plan!$A$10:$A$374,0))<>"","F",IF(INDEX(Plan!$E$10:$E$374,MATCH(I54,Plan!$A$10:$A$374,0))="Arbeitstag","","frei")))) | J55: =IF(INDEX(Plan!$G$10:$G$374,MATCH(J54,Plan!$A$10:$A$374,0))="Eingabe prüfen","?",IF(INDEX(Plan!$G$10:$G$374,MATCH(J54,Plan!$A$10:$A$374,0))=1,"U",IF(INDEX(Plan!$C$10:$C$374,MATCH(J54,Plan!$A$10:$A$374,0))<>"","F",IF(INDEX(Plan!$E$10:$E$374,MATCH(J54,Plan!$A$10:$A$374,0))="Arbeitstag","","frei")))) | K55: =IF(INDEX(Plan!$G$10:$G$374,MATCH(K54,Plan!$A$10:$A$374,0))="Eingabe prüfen","?",IF(INDEX(Plan!$G$10:$G$374,MATCH(K54,Plan!$A$10:$A$374,0))=1,"U",IF(INDEX(Plan!$C$10:$C$374,MATCH(K54,Plan!$A$10:$A$374,0))<>"","F",IF(INDEX(Plan!$E$10:$E$374,MATCH(K54,Plan!$A$10:$A$374,0))="Arbeitstag","","frei")))) | L55: =IF(INDEX(Plan!$G$10:$G$374,MATCH(L54,Plan!$A$10:$A$374,0))="Eingabe prüfen","?",IF(INDEX(Plan!$G$10:$G$374,MATCH(L54,Plan!$A$10:$A$374,0))=1,"U",IF(INDEX(Plan!$C$10:$C$374,MATCH(L54,Plan!$A$10:$A$374,0))<>"","F",IF(INDEX(Plan!$E$10:$E$374,MATCH(L54,Plan!$A$10:$A$374,0))="Arbeitstag","","frei")))) | M55: =IF(INDEX(Plan!$G$10:$G$374,MATCH(M54,Plan!$A$10:$A$374,0))="Eingabe prüfen","?",IF(INDEX(Plan!$G$10:$G$374,MATCH(M54,Plan!$A$10:$A$374,0))=1,"U",IF(INDEX(Plan!$C$10:$C$374,MATCH(M54,Plan!$A$10:$A$374,0))<>"","F",IF(INDEX(Plan!$E$10:$E$374,MATCH(M54,Plan!$A$10:$A$374,0))="Arbeitstag","","frei")))) | N55: =IF(INDEX(Plan!$G$10:$G$374,MATCH(N54,Plan!$A$10:$A$374,0))="Eingabe prüfen","?",IF(INDEX(Plan!$G$10:$G$374,MATCH(N54,Plan!$A$10:$A$374,0))=1,"U",IF(INDEX(Plan!$C$10:$C$374,MATCH(N54,Plan!$A$10:$A$374,0))<>"","F",IF(INDEX(Plan!$E$10:$E$374,MATCH(N54,Plan!$A$10:$A$374,0))="Arbeitstag","","frei")))) -> frei | O55: =IF(INDEX(Plan!$G$10:$G$374,MATCH(O54,Plan!$A$10:$A$374,0))="Eingabe prüfen","?",IF(INDEX(Plan!$G$10:$G$374,MATCH(O54,Plan!$A$10:$A$374,0))=1,"U",IF(INDEX(Plan!$C$10:$C$374,MATCH(O54,Plan!$A$10:$A$374,0))<>"","F",IF(INDEX(Plan!$E$10:$E$374,MATCH(O54,Plan!$A$10:$A$374,0))="Arbeitstag","","frei")))) -> frei | Q55: =IF(INDEX(Plan!$G$10:$G$374,MATCH(Q54,Plan!$A$10:$A$374,0))="Eingabe prüfen","?",IF(INDEX(Plan!$G$10:$G$374,MATCH(Q54,Plan!$A$10:$A$374,0))=1,"U",IF(INDEX(Plan!$C$10:$C$374,MATCH(Q54,Plan!$A$10:$A$374,0))<>"","F",IF(INDEX(Plan!$E$10:$E$374,MATCH(Q54,Plan!$A$10:$A$374,0))="Arbeitstag","","frei")))) | R55: =IF(INDEX(Plan!$G$10:$G$374,MATCH(R54,Plan!$A$10:$A$374,0))="Eingabe prüfen","?",IF(INDEX(Plan!$G$10:$G$374,MATCH(R54,Plan!$A$10:$A$374,0))=1,"U",IF(INDEX(Plan!$C$10:$C$374,MATCH(R54,Plan!$A$10:$A$374,0))<>"","F",IF(INDEX(Plan!$E$10:$E$374,MATCH(R54,Plan!$A$10:$A$374,0))="Arbeitstag","","frei")))) | S55: =IF(INDEX(Plan!$G$10:$G$374,MATCH(S54,Plan!$A$10:$A$374,0))="Eingabe prüfen","?",IF(INDEX(Plan!$G$10:$G$374,MATCH(S54,Plan!$A$10:$A$374,0))=1,"U",IF(INDEX(Plan!$C$10:$C$374,MATCH(S54,Plan!$A$10:$A$374,0))<>"","F",IF(INDEX(Plan!$E$10:$E$374,MATCH(S54,Plan!$A$10:$A$374,0))="Arbeitstag","","frei")))) | T55: =IF(INDEX(Plan!$G$10:$G$374,MATCH(T54,Plan!$A$10:$A$374,0))="Eingabe prüfen","?",IF(INDEX(Plan!$G$10:$G$374,MATCH(T54,Plan!$A$10:$A$374,0))=1,"U",IF(INDEX(Plan!$C$10:$C$374,MATCH(T54,Plan!$A$10:$A$374,0))<>"","F",IF(INDEX(Plan!$E$10:$E$374,MATCH(T54,Plan!$A$10:$A$374,0))="Arbeitstag","","frei")))) | U55: =IF(INDEX(Plan!$G$10:$G$374,MATCH(U54,Plan!$A$10:$A$374,0))="Eingabe prüfen","?",IF(INDEX(Plan!$G$10:$G$374,MATCH(U54,Plan!$A$10:$A$374,0))=1,"U",IF(INDEX(Plan!$C$10:$C$374,MATCH(U54,Plan!$A$10:$A$374,0))<>"","F",IF(INDEX(Plan!$E$10:$E$374,MATCH(U54,Plan!$A$10:$A$374,0))="Arbeitstag","","frei")))) | V55: =IF(INDEX(Plan!$G$10:$G$374,MATCH(V54,Plan!$A$10:$A$374,0))="Eingabe prüfen","?",IF(INDEX(Plan!$G$10:$G$374,MATCH(V54,Plan!$A$10:$A$374,0))=1,"U",IF(INDEX(Plan!$C$10:$C$374,MATCH(V54,Plan!$A$10:$A$374,0))<>"","F",IF(INDEX(Plan!$E$10:$E$374,MATCH(V54,Plan!$A$10:$A$374,0))="Arbeitstag","","frei")))) -> frei | W55: =IF(INDEX(Plan!$G$10:$G$374,MATCH(W54,Plan!$A$10:$A$374,0))="Eingabe prüfen","?",IF(INDEX(Plan!$G$10:$G$374,MATCH(W54,Plan!$A$10:$A$374,0))=1,"U",IF(INDEX(Plan!$C$10:$C$374,MATCH(W54,Plan!$A$10:$A$374,0))<>"","F",IF(INDEX(Plan!$E$10:$E$374,MATCH(W54,Plan!$A$10:$A$374,0))="Arbeitstag","","frei")))) -> frei
A56: 46580 | B56: 46581 | C56: 46582 | D56: 46583 | E56: 46584 | F56: 46585 | G56: 46586 | I56: 46608 | J56: 46609 | K56: 46610 | L56: 46611 | M56: 46612 | N56: 46613 | O56: 46614 | Q56: 46643 | R56: 46644 | S56: 46645 | T56: 46646 | U56: 46647 | V56: 46648 | W56: 46649
A57: =IF(INDEX(Plan!$G$10:$G$374,MATCH(A56,Plan!$A$10:$A$374,0))="Eingabe prüfen","?",IF(INDEX(Plan!$G$10:$G$374,MATCH(A56,Plan!$A$10:$A$374,0))=1,"U",IF(INDEX(Plan!$C$10:$C$374,MATCH(A56,Plan!$A$10:$A$374,0))<>"","F",IF(INDEX(Plan!$E$10:$E$374,MATCH(A56,Plan!$A$10:$A$374,0))="Arbeitstag","","frei")))) | B57: =IF(INDEX(Plan!$G$10:$G$374,MATCH(B56,Plan!$A$10:$A$374,0))="Eingabe prüfen","?",IF(INDEX(Plan!$G$10:$G$374,MATCH(B56,Plan!$A$10:$A$374,0))=1,"U",IF(INDEX(Plan!$C$10:$C$374,MATCH(B56,Plan!$A$10:$A$374,0))<>"","F",IF(INDEX(Plan!$E$10:$E$374,MATCH(B56,Plan!$A$10:$A$374,0))="Arbeitstag","","frei")))) | C57: =IF(INDEX(Plan!$G$10:$G$374,MATCH(C56,Plan!$A$10:$A$374,0))="Eingabe prüfen","?",IF(INDEX(Plan!$G$10:$G$374,MATCH(C56,Plan!$A$10:$A$374,0))=1,"U",IF(INDEX(Plan!$C$10:$C$374,MATCH(C56,Plan!$A$10:$A$374,0))<>"","F",IF(INDEX(Plan!$E$10:$E$374,MATCH(C56,Plan!$A$10:$A$374,0))="Arbeitstag","","frei")))) | D57: =IF(INDEX(Plan!$G$10:$G$374,MATCH(D56,Plan!$A$10:$A$374,0))="Eingabe prüfen","?",IF(INDEX(Plan!$G$10:$G$374,MATCH(D56,Plan!$A$10:$A$374,0))=1,"U",IF(INDEX(Plan!$C$10:$C$374,MATCH(D56,Plan!$A$10:$A$374,0))<>"","F",IF(INDEX(Plan!$E$10:$E$374,MATCH(D56,Plan!$A$10:$A$374,0))="Arbeitstag","","frei")))) | E57: =IF(INDEX(Plan!$G$10:$G$374,MATCH(E56,Plan!$A$10:$A$374,0))="Eingabe prüfen","?",IF(INDEX(Plan!$G$10:$G$374,MATCH(E56,Plan!$A$10:$A$374,0))=1,"U",IF(INDEX(Plan!$C$10:$C$374,MATCH(E56,Plan!$A$10:$A$374,0))<>"","F",IF(INDEX(Plan!$E$10:$E$374,MATCH(E56,Plan!$A$10:$A$374,0))="Arbeitstag","","frei")))) | F57: =IF(INDEX(Plan!$G$10:$G$374,MATCH(F56,Plan!$A$10:$A$374,0))="Eingabe prüfen","?",IF(INDEX(Plan!$G$10:$G$374,MATCH(F56,Plan!$A$10:$A$374,0))=1,"U",IF(INDEX(Plan!$C$10:$C$374,MATCH(F56,Plan!$A$10:$A$374,0))<>"","F",IF(INDEX(Plan!$E$10:$E$374,MATCH(F56,Plan!$A$10:$A$374,0))="Arbeitstag","","frei")))) -> frei | G57: =IF(INDEX(Plan!$G$10:$G$374,MATCH(G56,Plan!$A$10:$A$374,0))="Eingabe prüfen","?",IF(INDEX(Plan!$G$10:$G$374,MATCH(G56,Plan!$A$10:$A$374,0))=1,"U",IF(INDEX(Plan!$C$10:$C$374,MATCH(G56,Plan!$A$10:$A$374,0))<>"","F",IF(INDEX(Plan!$E$10:$E$374,MATCH(G56,Plan!$A$10:$A$374,0))="Arbeitstag","","frei")))) -> frei | I57: =IF(INDEX(Plan!$G$10:$G$374,MATCH(I56,Plan!$A$10:$A$374,0))="Eingabe prüfen","?",IF(INDEX(Plan!$G$10:$G$374,MATCH(I56,Plan!$A$10:$A$374,0))=1,"U",IF(INDEX(Plan!$C$10:$C$374,MATCH(I56,Plan!$A$10:$A$374,0))<>"","F",IF(INDEX(Plan!$E$10:$E$374,MATCH(I56,Plan!$A$10:$A$374,0))="Arbeitstag","","frei")))) | J57: =IF(INDEX(Plan!$G$10:$G$374,MATCH(J56,Plan!$A$10:$A$374,0))="Eingabe prüfen","?",IF(INDEX(Plan!$G$10:$G$374,MATCH(J56,Plan!$A$10:$A$374,0))=1,"U",IF(INDEX(Plan!$C$10:$C$374,MATCH(J56,Plan!$A$10:$A$374,0))<>"","F",IF(INDEX(Plan!$E$10:$E$374,MATCH(J56,Plan!$A$10:$A$374,0))="Arbeitstag","","frei")))) | K57: =IF(INDEX(Plan!$G$10:$G$374,MATCH(K56,Plan!$A$10:$A$374,0))="Eingabe prüfen","?",IF(INDEX(Plan!$G$10:$G$374,MATCH(K56,Plan!$A$10:$A$374,0))=1,"U",IF(INDEX(Plan!$C$10:$C$374,MATCH(K56,Plan!$A$10:$A$374,0))<>"","F",IF(INDEX(Plan!$E$10:$E$374,MATCH(K56,Plan!$A$10:$A$374,0))="Arbeitstag","","frei")))) | L57: =IF(INDEX(Plan!$G$10:$G$374,MATCH(L56,Plan!$A$10:$A$374,0))="Eingabe prüfen","?",IF(INDEX(Plan!$G$10:$G$374,MATCH(L56,Plan!$A$10:$A$374,0))=1,"U",IF(INDEX(Plan!$C$10:$C$374,MATCH(L56,Plan!$A$10:$A$374,0))<>"","F",IF(INDEX(Plan!$E$10:$E$374,MATCH(L56,Plan!$A$10:$A$374,0))="Arbeitstag","","frei")))) | M57: =IF(INDEX(Plan!$G$10:$G$374,MATCH(M56,Plan!$A$10:$A$374,0))="Eingabe prüfen","?",IF(INDEX(Plan!$G$10:$G$374,MATCH(M56,Plan!$A$10:$A$374,0))=1,"U",IF(INDEX(Plan!$C$10:$C$374,MATCH(M56,Plan!$A$10:$A$374,0))<>"","F",IF(INDEX(Plan!$E$10:$E$374,MATCH(M56,Plan!$A$10:$A$374,0))="Arbeitstag","","frei")))) | N57: =IF(INDEX(Plan!$G$10:$G$374,MATCH(N56,Plan!$A$10:$A$374,0))="Eingabe prüfen","?",IF(INDEX(Plan!$G$10:$G$374,MATCH(N56,Plan!$A$10:$A$374,0))=1,"U",IF(INDEX(Plan!$C$10:$C$374,MATCH(N56,Plan!$A$10:$A$374,0))<>"","F",IF(INDEX(Plan!$E$10:$E$374,MATCH(N56,Plan!$A$10:$A$374,0))="Arbeitstag","","frei")))) -> frei | O57: =IF(INDEX(Plan!$G$10:$G$374,MATCH(O56,Plan!$A$10:$A$374,0))="Eingabe prüfen","?",IF(INDEX(Plan!$G$10:$G$374,MATCH(O56,Plan!$A$10:$A$374,0))=1,"U",IF(INDEX(Plan!$C$10:$C$374,MATCH(O56,Plan!$A$10:$A$374,0))<>"","F",IF(INDEX(Plan!$E$10:$E$374,MATCH(O56,Plan!$A$10:$A$374,0))="Arbeitstag","","frei")))) -> frei | Q57: =IF(INDEX(Plan!$G$10:$G$374,MATCH(Q56,Plan!$A$10:$A$374,0))="Eingabe prüfen","?",IF(INDEX(Plan!$G$10:$G$374,MATCH(Q56,Plan!$A$10:$A$374,0))=1,"U",IF(INDEX(Plan!$C$10:$C$374,MATCH(Q56,Plan!$A$10:$A$374,0))<>"","F",IF(INDEX(Plan!$E$10:$E$374,MATCH(Q56,Plan!$A$10:$A$374,0))="Arbeitstag","","frei")))) | R57: =IF(INDEX(Plan!$G$10:$G$374,MATCH(R56,Plan!$A$10:$A$374,0))="Eingabe prüfen","?",IF(INDEX(Plan!$G$10:$G$374,MATCH(R56,Plan!$A$10:$A$374,0))=1,"U",IF(INDEX(Plan!$C$10:$C$374,MATCH(R56,Plan!$A$10:$A$374,0))<>"","F",IF(INDEX(Plan!$E$10:$E$374,MATCH(R56,Plan!$A$10:$A$374,0))="Arbeitstag","","frei")))) | S57: =IF(INDEX(Plan!$G$10:$G$374,MATCH(S56,Plan!$A$10:$A$374,0))="Eingabe prüfen","?",IF(INDEX(Plan!$G$10:$G$374,MATCH(S56,Plan!$A$10:$A$374,0))=1,"U",IF(INDEX(Plan!$C$10:$C$374,MATCH(S56,Plan!$A$10:$A$374,0))<>"","F",IF(INDEX(Plan!$E$10:$E$374,MATCH(S56,Plan!$A$10:$A$374,0))="Arbeitstag","","frei")))) | T57: =IF(INDEX(Plan!$G$10:$G$374,MATCH(T56,Plan!$A$10:$A$374,0))="Eingabe prüfen","?",IF(INDEX(Plan!$G$10:$G$374,MATCH(T56,Plan!$A$10:$A$374,0))=1,"U",IF(INDEX(Plan!$C$10:$C$374,MATCH(T56,Plan!$A$10:$A$374,0))<>"","F",IF(INDEX(Plan!$E$10:$E$374,MATCH(T56,Plan!$A$10:$A$374,0))="Arbeitstag","","frei")))) | U57: =IF(INDEX(Plan!$G$10:$G$374,MATCH(U56,Plan!$A$10:$A$374,0))="Eingabe prüfen","?",IF(INDEX(Plan!$G$10:$G$374,MATCH(U56,Plan!$A$10:$A$374,0))=1,"U",IF(INDEX(Plan!$C$10:$C$374,MATCH(U56,Plan!$A$10:$A$374,0))<>"","F",IF(INDEX(Plan!$E$10:$E$374,MATCH(U56,Plan!$A$10:$A$374,0))="Arbeitstag","","frei")))) | V57: =IF(INDEX(Plan!$G$10:$G$374,MATCH(V56,Plan!$A$10:$A$374,0))="Eingabe prüfen","?",IF(INDEX(Plan!$G$10:$G$374,MATCH(V56,Plan!$A$10:$A$374,0))=1,"U",IF(INDEX(Plan!$C$10:$C$374,MATCH(V56,Plan!$A$10:$A$374,0))<>"","F",IF(INDEX(Plan!$E$10:$E$374,MATCH(V56,Plan!$A$10:$A$374,0))="Arbeitstag","","frei")))) -> frei | W57: =IF(INDEX(Plan!$G$10:$G$374,MATCH(W56,Plan!$A$10:$A$374,0))="Eingabe prüfen","?",IF(INDEX(Plan!$G$10:$G$374,MATCH(W56,Plan!$A$10:$A$374,0))=1,"U",IF(INDEX(Plan!$C$10:$C$374,MATCH(W56,Plan!$A$10:$A$374,0))<>"","F",IF(INDEX(Plan!$E$10:$E$374,MATCH(W56,Plan!$A$10:$A$374,0))="Arbeitstag","","frei")))) -> frei
A58: 46587 | B58: 46588 | C58: 46589 | D58: 46590 | E58: 46591 | F58: 46592 | G58: 46593 | I58: 46615 | J58: 46616 | K58: 46617 | L58: 46618 | M58: 46619 | N58: 46620 | O58: 46621 | Q58: 46650 | R58: 46651 | S58: 46652 | T58: 46653 | U58: 46654 | V58: 46655 | W58: 46656
A59: =IF(INDEX(Plan!$G$10:$G$374,MATCH(A58,Plan!$A$10:$A$374,0))="Eingabe prüfen","?",IF(INDEX(Plan!$G$10:$G$374,MATCH(A58,Plan!$A$10:$A$374,0))=1,"U",IF(INDEX(Plan!$C$10:$C$374,MATCH(A58,Plan!$A$10:$A$374,0))<>"","F",IF(INDEX(Plan!$E$10:$E$374,MATCH(A58,Plan!$A$10:$A$374,0))="Arbeitstag","","frei")))) | B59: =IF(INDEX(Plan!$G$10:$G$374,MATCH(B58,Plan!$A$10:$A$374,0))="Eingabe prüfen","?",IF(INDEX(Plan!$G$10:$G$374,MATCH(B58,Plan!$A$10:$A$374,0))=1,"U",IF(INDEX(Plan!$C$10:$C$374,MATCH(B58,Plan!$A$10:$A$374,0))<>"","F",IF(INDEX(Plan!$E$10:$E$374,MATCH(B58,Plan!$A$10:$A$374,0))="Arbeitstag","","frei")))) | C59: =IF(INDEX(Plan!$G$10:$G$374,MATCH(C58,Plan!$A$10:$A$374,0))="Eingabe prüfen","?",IF(INDEX(Plan!$G$10:$G$374,MATCH(C58,Plan!$A$10:$A$374,0))=1,"U",IF(INDEX(Plan!$C$10:$C$374,MATCH(C58,Plan!$A$10:$A$374,0))<>"","F",IF(INDEX(Plan!$E$10:$E$374,MATCH(C58,Plan!$A$10:$A$374,0))="Arbeitstag","","frei")))) | D59: =IF(INDEX(Plan!$G$10:$G$374,MATCH(D58,Plan!$A$10:$A$374,0))="Eingabe prüfen","?",IF(INDEX(Plan!$G$10:$G$374,MATCH(D58,Plan!$A$10:$A$374,0))=1,"U",IF(INDEX(Plan!$C$10:$C$374,MATCH(D58,Plan!$A$10:$A$374,0))<>"","F",IF(INDEX(Plan!$E$10:$E$374,MATCH(D58,Plan!$A$10:$A$374,0))="Arbeitstag","","frei")))) | E59: =IF(INDEX(Plan!$G$10:$G$374,MATCH(E58,Plan!$A$10:$A$374,0))="Eingabe prüfen","?",IF(INDEX(Plan!$G$10:$G$374,MATCH(E58,Plan!$A$10:$A$374,0))=1,"U",IF(INDEX(Plan!$C$10:$C$374,MATCH(E58,Plan!$A$10:$A$374,0))<>"","F",IF(INDEX(Plan!$E$10:$E$374,MATCH(E58,Plan!$A$10:$A$374,0))="Arbeitstag","","frei")))) | F59: =IF(INDEX(Plan!$G$10:$G$374,MATCH(F58,Plan!$A$10:$A$374,0))="Eingabe prüfen","?",IF(INDEX(Plan!$G$10:$G$374,MATCH(F58,Plan!$A$10:$A$374,0))=1,"U",IF(INDEX(Plan!$C$10:$C$374,MATCH(F58,Plan!$A$10:$A$374,0))<>"","F",IF(INDEX(Plan!$E$10:$E$374,MATCH(F58,Plan!$A$10:$A$374,0))="Arbeitstag","","frei")))) -> frei | G59: =IF(INDEX(Plan!$G$10:$G$374,MATCH(G58,Plan!$A$10:$A$374,0))="Eingabe prüfen","?",IF(INDEX(Plan!$G$10:$G$374,MATCH(G58,Plan!$A$10:$A$374,0))=1,"U",IF(INDEX(Plan!$C$10:$C$374,MATCH(G58,Plan!$A$10:$A$374,0))<>"","F",IF(INDEX(Plan!$E$10:$E$374,MATCH(G58,Plan!$A$10:$A$374,0))="Arbeitstag","","frei")))) -> frei | I59: =IF(INDEX(Plan!$G$10:$G$374,MATCH(I58,Plan!$A$10:$A$374,0))="Eingabe prüfen","?",IF(INDEX(Plan!$G$10:$G$374,MATCH(I58,Plan!$A$10:$A$374,0))=1,"U",IF(INDEX(Plan!$C$10:$C$374,MATCH(I58,Plan!$A$10:$A$374,0))<>"","F",IF(INDEX(Plan!$E$10:$E$374,MATCH(I58,Plan!$A$10:$A$374,0))="Arbeitstag","","frei")))) | J59: =IF(INDEX(Plan!$G$10:$G$374,MATCH(J58,Plan!$A$10:$A$374,0))="Eingabe prüfen","?",IF(INDEX(Plan!$G$10:$G$374,MATCH(J58,Plan!$A$10:$A$374,0))=1,"U",IF(INDEX(Plan!$C$10:$C$374,MATCH(J58,Plan!$A$10:$A$374,0))<>"","F",IF(INDEX(Plan!$E$10:$E$374,MATCH(J58,Plan!$A$10:$A$374,0))="Arbeitstag","","frei")))) | K59: =IF(INDEX(Plan!$G$10:$G$374,MATCH(K58,Plan!$A$10:$A$374,0))="Eingabe prüfen","?",IF(INDEX(Plan!$G$10:$G$374,MATCH(K58,Plan!$A$10:$A$374,0))=1,"U",IF(INDEX(Plan!$C$10:$C$374,MATCH(K58,Plan!$A$10:$A$374,0))<>"","F",IF(INDEX(Plan!$E$10:$E$374,MATCH(K58,Plan!$A$10:$A$374,0))="Arbeitstag","","frei")))) | L59: =IF(INDEX(Plan!$G$10:$G$374,MATCH(L58,Plan!$A$10:$A$374,0))="Eingabe prüfen","?",IF(INDEX(Plan!$G$10:$G$374,MATCH(L58,Plan!$A$10:$A$374,0))=1,"U",IF(INDEX(Plan!$C$10:$C$374,MATCH(L58,Plan!$A$10:$A$374,0))<>"","F",IF(INDEX(Plan!$E$10:$E$374,MATCH(L58,Plan!$A$10:$A$374,0))="Arbeitstag","","frei")))) | M59: =IF(INDEX(Plan!$G$10:$G$374,MATCH(M58,Plan!$A$10:$A$374,0))="Eingabe prüfen","?",IF(INDEX(Plan!$G$10:$G$374,MATCH(M58,Plan!$A$10:$A$374,0))=1,"U",IF(INDEX(Plan!$C$10:$C$374,MATCH(M58,Plan!$A$10:$A$374,0))<>"","F",IF(INDEX(Plan!$E$10:$E$374,MATCH(M58,Plan!$A$10:$A$374,0))="Arbeitstag","","frei")))) | N59: =IF(INDEX(Plan!$G$10:$G$374,MATCH(N58,Plan!$A$10:$A$374,0))="Eingabe prüfen","?",IF(INDEX(Plan!$G$10:$G$374,MATCH(N58,Plan!$A$10:$A$374,0))=1,"U",IF(INDEX(Plan!$C$10:$C$374,MATCH(N58,Plan!$A$10:$A$374,0))<>"","F",IF(INDEX(Plan!$E$10:$E$374,MATCH(N58,Plan!$A$10:$A$374,0))="Arbeitstag","","frei")))) -> frei | O59: =IF(INDEX(Plan!$G$10:$G$374,MATCH(O58,Plan!$A$10:$A$374,0))="Eingabe prüfen","?",IF(INDEX(Plan!$G$10:$G$374,MATCH(O58,Plan!$A$10:$A$374,0))=1,"U",IF(INDEX(Plan!$C$10:$C$374,MATCH(O58,Plan!$A$10:$A$374,0))<>"","F",IF(INDEX(Plan!$E$10:$E$374,MATCH(O58,Plan!$A$10:$A$374,0))="Arbeitstag","","frei")))) -> frei | Q59: =IF(INDEX(Plan!$G$10:$G$374,MATCH(Q58,Plan!$A$10:$A$374,0))="Eingabe prüfen","?",IF(INDEX(Plan!$G$10:$G$374,MATCH(Q58,Plan!$A$10:$A$374,0))=1,"U",IF(INDEX(Plan!$C$10:$C$374,MATCH(Q58,Plan!$A$10:$A$374,0))<>"","F",IF(INDEX(Plan!$E$10:$E$374,MATCH(Q58,Plan!$A$10:$A$374,0))="Arbeitstag","","frei")))) | R59: =IF(INDEX(Plan!$G$10:$G$374,MATCH(R58,Plan!$A$10:$A$374,0))="Eingabe prüfen","?",IF(INDEX(Plan!$G$10:$G$374,MATCH(R58,Plan!$A$10:$A$374,0))=1,"U",IF(INDEX(Plan!$C$10:$C$374,MATCH(R58,Plan!$A$10:$A$374,0))<>"","F",IF(INDEX(Plan!$E$10:$E$374,MATCH(R58,Plan!$A$10:$A$374,0))="Arbeitstag","","frei")))) | S59: =IF(INDEX(Plan!$G$10:$G$374,MATCH(S58,Plan!$A$10:$A$374,0))="Eingabe prüfen","?",IF(INDEX(Plan!$G$10:$G$374,MATCH(S58,Plan!$A$10:$A$374,0))=1,"U",IF(INDEX(Plan!$C$10:$C$374,MATCH(S58,Plan!$A$10:$A$374,0))<>"","F",IF(INDEX(Plan!$E$10:$E$374,MATCH(S58,Plan!$A$10:$A$374,0))="Arbeitstag","","frei")))) | T59: =IF(INDEX(Plan!$G$10:$G$374,MATCH(T58,Plan!$A$10:$A$374,0))="Eingabe prüfen","?",IF(INDEX(Plan!$G$10:$G$374,MATCH(T58,Plan!$A$10:$A$374,0))=1,"U",IF(INDEX(Plan!$C$10:$C$374,MATCH(T58,Plan!$A$10:$A$374,0))<>"","F",IF(INDEX(Plan!$E$10:$E$374,MATCH(T58,Plan!$A$10:$A$374,0))="Arbeitstag","","frei")))) | U59: =IF(INDEX(Plan!$G$10:$G$374,MATCH(U58,Plan!$A$10:$A$374,0))="Eingabe prüfen","?",IF(INDEX(Plan!$G$10:$G$374,MATCH(U58,Plan!$A$10:$A$374,0))=1,"U",IF(INDEX(Plan!$C$10:$C$374,MATCH(U58,Plan!$A$10:$A$374,0))<>"","F",IF(INDEX(Plan!$E$10:$E$374,MATCH(U58,Plan!$A$10:$A$374,0))="Arbeitstag","","frei")))) | V59: =IF(INDEX(Plan!$G$10:$G$374,MATCH(V58,Plan!$A$10:$A$374,0))="Eingabe prüfen","?",IF(INDEX(Plan!$G$10:$G$374,MATCH(V58,Plan!$A$10:$A$374,0))=1,"U",IF(INDEX(Plan!$C$10:$C$374,MATCH(V58,Plan!$A$10:$A$374,0))<>"","F",IF(INDEX(Plan!$E$10:$E$374,MATCH(V58,Plan!$A$10:$A$374,0))="Arbeitstag","","frei")))) -> frei | W59: =IF(INDEX(Plan!$G$10:$G$374,MATCH(W58,Plan!$A$10:$A$374,0))="Eingabe prüfen","?",IF(INDEX(Plan!$G$10:$G$374,MATCH(W58,Plan!$A$10:$A$374,0))=1,"U",IF(INDEX(Plan!$C$10:$C$374,MATCH(W58,Plan!$A$10:$A$374,0))<>"","F",IF(INDEX(Plan!$E$10:$E$374,MATCH(W58,Plan!$A$10:$A$374,0))="Arbeitstag","","frei")))) -> frei
A60: 46594 | B60: 46595 | C60: 46596 | D60: 46597 | E60: 46598 | F60: 46599 | I60: 46622 | J60: 46623 | K60: 46624 | L60: 46625 | M60: 46626 | N60: 46627 | O60: 46628 | Q60: 46657 | R60: 46658 | S60: 46659 | T60: 46660
A61: =IF(INDEX(Plan!$G$10:$G$374,MATCH(A60,Plan!$A$10:$A$374,0))="Eingabe prüfen","?",IF(INDEX(Plan!$G$10:$G$374,MATCH(A60,Plan!$A$10:$A$374,0))=1,"U",IF(INDEX(Plan!$C$10:$C$374,MATCH(A60,Plan!$A$10:$A$374,0))<>"","F",IF(INDEX(Plan!$E$10:$E$374,MATCH(A60,Plan!$A$10:$A$374,0))="Arbeitstag","","frei")))) | B61: =IF(INDEX(Plan!$G$10:$G$374,MATCH(B60,Plan!$A$10:$A$374,0))="Eingabe prüfen","?",IF(INDEX(Plan!$G$10:$G$374,MATCH(B60,Plan!$A$10:$A$374,0))=1,"U",IF(INDEX(Plan!$C$10:$C$374,MATCH(B60,Plan!$A$10:$A$374,0))<>"","F",IF(INDEX(Plan!$E$10:$E$374,MATCH(B60,Plan!$A$10:$A$374,0))="Arbeitstag","","frei")))) | C61: =IF(INDEX(Plan!$G$10:$G$374,MATCH(C60,Plan!$A$10:$A$374,0))="Eingabe prüfen","?",IF(INDEX(Plan!$G$10:$G$374,MATCH(C60,Plan!$A$10:$A$374,0))=1,"U",IF(INDEX(Plan!$C$10:$C$374,MATCH(C60,Plan!$A$10:$A$374,0))<>"","F",IF(INDEX(Plan!$E$10:$E$374,MATCH(C60,Plan!$A$10:$A$374,0))="Arbeitstag","","frei")))) | D61: =IF(INDEX(Plan!$G$10:$G$374,MATCH(D60,Plan!$A$10:$A$374,0))="Eingabe prüfen","?",IF(INDEX(Plan!$G$10:$G$374,MATCH(D60,Plan!$A$10:$A$374,0))=1,"U",IF(INDEX(Plan!$C$10:$C$374,MATCH(D60,Plan!$A$10:$A$374,0))<>"","F",IF(INDEX(Plan!$E$10:$E$374,MATCH(D60,Plan!$A$10:$A$374,0))="Arbeitstag","","frei")))) | E61: =IF(INDEX(Plan!$G$10:$G$374,MATCH(E60,Plan!$A$10:$A$374,0))="Eingabe prüfen","?",IF(INDEX(Plan!$G$10:$G$374,MATCH(E60,Plan!$A$10:$A$374,0))=1,"U",IF(INDEX(Plan!$C$10:$C$374,MATCH(E60,Plan!$A$10:$A$374,0))<>"","F",IF(INDEX(Plan!$E$10:$E$374,MATCH(E60,Plan!$A$10:$A$374,0))="Arbeitstag","","frei")))) | F61: =IF(INDEX(Plan!$G$10:$G$374,MATCH(F60,Plan!$A$10:$A$374,0))="Eingabe prüfen","?",IF(INDEX(Plan!$G$10:$G$374,MATCH(F60,Plan!$A$10:$A$374,0))=1,"U",IF(INDEX(Plan!$C$10:$C$374,MATCH(F60,Plan!$A$10:$A$374,0))<>"","F",IF(INDEX(Plan!$E$10:$E$374,MATCH(F60,Plan!$A$10:$A$374,0))="Arbeitstag","","frei")))) -> frei | I61: =IF(INDEX(Plan!$G$10:$G$374,MATCH(I60,Plan!$A$10:$A$374,0))="Eingabe prüfen","?",IF(INDEX(Plan!$G$10:$G$374,MATCH(I60,Plan!$A$10:$A$374,0))=1,"U",IF(INDEX(Plan!$C$10:$C$374,MATCH(I60,Plan!$A$10:$A$374,0))<>"","F",IF(INDEX(Plan!$E$10:$E$374,MATCH(I60,Plan!$A$10:$A$374,0))="Arbeitstag","","frei")))) | J61: =IF(INDEX(Plan!$G$10:$G$374,MATCH(J60,Plan!$A$10:$A$374,0))="Eingabe prüfen","?",IF(INDEX(Plan!$G$10:$G$374,MATCH(J60,Plan!$A$10:$A$374,0))=1,"U",IF(INDEX(Plan!$C$10:$C$374,MATCH(J60,Plan!$A$10:$A$374,0))<>"","F",IF(INDEX(Plan!$E$10:$E$374,MATCH(J60,Plan!$A$10:$A$374,0))="Arbeitstag","","frei")))) | K61: =IF(INDEX(Plan!$G$10:$G$374,MATCH(K60,Plan!$A$10:$A$374,0))="Eingabe prüfen","?",IF(INDEX(Plan!$G$10:$G$374,MATCH(K60,Plan!$A$10:$A$374,0))=1,"U",IF(INDEX(Plan!$C$10:$C$374,MATCH(K60,Plan!$A$10:$A$374,0))<>"","F",IF(INDEX(Plan!$E$10:$E$374,MATCH(K60,Plan!$A$10:$A$374,0))="Arbeitstag","","frei")))) | L61: =IF(INDEX(Plan!$G$10:$G$374,MATCH(L60,Plan!$A$10:$A$374,0))="Eingabe prüfen","?",IF(INDEX(Plan!$G$10:$G$374,MATCH(L60,Plan!$A$10:$A$374,0))=1,"U",IF(INDEX(Plan!$C$10:$C$374,MATCH(L60,Plan!$A$10:$A$374,0))<>"","F",IF(INDEX(Plan!$E$10:$E$374,MATCH(L60,Plan!$A$10:$A$374,0))="Arbeitstag","","frei")))) | M61: =IF(INDEX(Plan!$G$10:$G$374,MATCH(M60,Plan!$A$10:$A$374,0))="Eingabe prüfen","?",IF(INDEX(Plan!$G$10:$G$374,MATCH(M60,Plan!$A$10:$A$374,0))=1,"U",IF(INDEX(Plan!$C$10:$C$374,MATCH(M60,Plan!$A$10:$A$374,0))<>"","F",IF(INDEX(Plan!$E$10:$E$374,MATCH(M60,Plan!$A$10:$A$374,0))="Arbeitstag","","frei")))) | N61: =IF(INDEX(Plan!$G$10:$G$374,MATCH(N60,Plan!$A$10:$A$374,0))="Eingabe prüfen","?",IF(INDEX(Plan!$G$10:$G$374,MATCH(N60,Plan!$A$10:$A$374,0))=1,"U",IF(INDEX(Plan!$C$10:$C$374,MATCH(N60,Plan!$A$10:$A$374,0))<>"","F",IF(INDEX(Plan!$E$10:$E$374,MATCH(N60,Plan!$A$10:$A$374,0))="Arbeitstag","","frei")))) -> frei | O61: =IF(INDEX(Plan!$G$10:$G$374,MATCH(O60,Plan!$A$10:$A$374,0))="Eingabe prüfen","?",IF(INDEX(Plan!$G$10:$G$374,MATCH(O60,Plan!$A$10:$A$374,0))=1,"U",IF(INDEX(Plan!$C$10:$C$374,MATCH(O60,Plan!$A$10:$A$374,0))<>"","F",IF(INDEX(Plan!$E$10:$E$374,MATCH(O60,Plan!$A$10:$A$374,0))="Arbeitstag","","frei")))) -> frei | Q61: =IF(INDEX(Plan!$G$10:$G$374,MATCH(Q60,Plan!$A$10:$A$374,0))="Eingabe prüfen","?",IF(INDEX(Plan!$G$10:$G$374,MATCH(Q60,Plan!$A$10:$A$374,0))=1,"U",IF(INDEX(Plan!$C$10:$C$374,MATCH(Q60,Plan!$A$10:$A$374,0))<>"","F",IF(INDEX(Plan!$E$10:$E$374,MATCH(Q60,Plan!$A$10:$A$374,0))="Arbeitstag","","frei")))) | R61: =IF(INDEX(Plan!$G$10:$G$374,MATCH(R60,Plan!$A$10:$A$374,0))="Eingabe prüfen","?",IF(INDEX(Plan!$G$10:$G$374,MATCH(R60,Plan!$A$10:$A$374,0))=1,"U",IF(INDEX(Plan!$C$10:$C$374,MATCH(R60,Plan!$A$10:$A$374,0))<>"","F",IF(INDEX(Plan!$E$10:$E$374,MATCH(R60,Plan!$A$10:$A$374,0))="Arbeitstag","","frei")))) | S61: =IF(INDEX(Plan!$G$10:$G$374,MATCH(S60,Plan!$A$10:$A$374,0))="Eingabe prüfen","?",IF(INDEX(Plan!$G$10:$G$374,MATCH(S60,Plan!$A$10:$A$374,0))=1,"U",IF(INDEX(Plan!$C$10:$C$374,MATCH(S60,Plan!$A$10:$A$374,0))<>"","F",IF(INDEX(Plan!$E$10:$E$374,MATCH(S60,Plan!$A$10:$A$374,0))="Arbeitstag","","frei")))) | T61: =IF(INDEX(Plan!$G$10:$G$374,MATCH(T60,Plan!$A$10:$A$374,0))="Eingabe prüfen","?",IF(INDEX(Plan!$G$10:$G$374,MATCH(T60,Plan!$A$10:$A$374,0))=1,"U",IF(INDEX(Plan!$C$10:$C$374,MATCH(T60,Plan!$A$10:$A$374,0))<>"","F",IF(INDEX(Plan!$E$10:$E$374,MATCH(T60,Plan!$A$10:$A$374,0))="Arbeitstag","","frei"))))
I62: 46629 | J62: 46630
I63: =IF(INDEX(Plan!$G$10:$G$374,MATCH(I62,Plan!$A$10:$A$374,0))="Eingabe prüfen","?",IF(INDEX(Plan!$G$10:$G$374,MATCH(I62,Plan!$A$10:$A$374,0))=1,"U",IF(INDEX(Plan!$C$10:$C$374,MATCH(I62,Plan!$A$10:$A$374,0))<>"","F",IF(INDEX(Plan!$E$10:$E$374,MATCH(I62,Plan!$A$10:$A$374,0))="Arbeitstag","","frei")))) | J63: =IF(INDEX(Plan!$G$10:$G$374,MATCH(J62,Plan!$A$10:$A$374,0))="Eingabe prüfen","?",IF(INDEX(Plan!$G$10:$G$374,MATCH(J62,Plan!$A$10:$A$374,0))=1,"U",IF(INDEX(Plan!$C$10:$C$374,MATCH(J62,Plan!$A$10:$A$374,0))<>"","F",IF(INDEX(Plan!$E$10:$E$374,MATCH(J62,Plan!$A$10:$A$374,0))="Arbeitstag","","frei"))))
A66: Oktober | I66: November | Q66: Dezember
A67: Mo | B67: Di | C67: Mi | D67: Do | E67: Fr | F67: Sa | G67: So | I67: Mo | J67: Di | K67: Mi | L67: Do | M67: Fr | N67: Sa | O67: So | Q67: Mo | R67: Di | S67: Mi | T67: Do | U67: Fr | V67: Sa | W67: So
E68: 46661 | F68: 46662 | G68: 46663 | I68: 46692 | J68: 46693 | K68: 46694 | L68: 46695 | M68: 46696 | N68: 46697 | O68: 46698 | S68: 46722 | T68: 46723 | U68: 46724 | V68: 46725 | W68: 46726
E69: =IF(INDEX(Plan!$G$10:$G$374,MATCH(E68,Plan!$A$10:$A$374,0))="Eingabe prüfen","?",IF(INDEX(Plan!$G$10:$G$374,MATCH(E68,Plan!$A$10:$A$374,0))=1,"U",IF(INDEX(Plan!$C$10:$C$374,MATCH(E68,Plan!$A$10:$A$374,0))<>"","F",IF(INDEX(Plan!$E$10:$E$374,MATCH(E68,Plan!$A$10:$A$374,0))="Arbeitstag","","frei")))) | F69: =IF(INDEX(Plan!$G$10:$G$374,MATCH(F68,Plan!$A$10:$A$374,0))="Eingabe prüfen","?",IF(INDEX(Plan!$G$10:$G$374,MATCH(F68,Plan!$A$10:$A$374,0))=1,"U",IF(INDEX(Plan!$C$10:$C$374,MATCH(F68,Plan!$A$10:$A$374,0))<>"","F",IF(INDEX(Plan!$E$10:$E$374,MATCH(F68,Plan!$A$10:$A$374,0))="Arbeitstag","","frei")))) -> frei | G69: =IF(INDEX(Plan!$G$10:$G$374,MATCH(G68,Plan!$A$10:$A$374,0))="Eingabe prüfen","?",IF(INDEX(Plan!$G$10:$G$374,MATCH(G68,Plan!$A$10:$A$374,0))=1,"U",IF(INDEX(Plan!$C$10:$C$374,MATCH(G68,Plan!$A$10:$A$374,0))<>"","F",IF(INDEX(Plan!$E$10:$E$374,MATCH(G68,Plan!$A$10:$A$374,0))="Arbeitstag","","frei")))) -> F | I69: =IF(INDEX(Plan!$G$10:$G$374,MATCH(I68,Plan!$A$10:$A$374,0))="Eingabe prüfen","?",IF(INDEX(Plan!$G$10:$G$374,MATCH(I68,Plan!$A$10:$A$374,0))=1,"U",IF(INDEX(Plan!$C$10:$C$374,MATCH(I68,Plan!$A$10:$A$374,0))<>"","F",IF(INDEX(Plan!$E$10:$E$374,MATCH(I68,Plan!$A$10:$A$374,0))="Arbeitstag","","frei")))) | J69: =IF(INDEX(Plan!$G$10:$G$374,MATCH(J68,Plan!$A$10:$A$374,0))="Eingabe prüfen","?",IF(INDEX(Plan!$G$10:$G$374,MATCH(J68,Plan!$A$10:$A$374,0))=1,"U",IF(INDEX(Plan!$C$10:$C$374,MATCH(J68,Plan!$A$10:$A$374,0))<>"","F",IF(INDEX(Plan!$E$10:$E$374,MATCH(J68,Plan!$A$10:$A$374,0))="Arbeitstag","","frei")))) | K69: =IF(INDEX(Plan!$G$10:$G$374,MATCH(K68,Plan!$A$10:$A$374,0))="Eingabe prüfen","?",IF(INDEX(Plan!$G$10:$G$374,MATCH(K68,Plan!$A$10:$A$374,0))=1,"U",IF(INDEX(Plan!$C$10:$C$374,MATCH(K68,Plan!$A$10:$A$374,0))<>"","F",IF(INDEX(Plan!$E$10:$E$374,MATCH(K68,Plan!$A$10:$A$374,0))="Arbeitstag","","frei")))) | L69: =IF(INDEX(Plan!$G$10:$G$374,MATCH(L68,Plan!$A$10:$A$374,0))="Eingabe prüfen","?",IF(INDEX(Plan!$G$10:$G$374,MATCH(L68,Plan!$A$10:$A$374,0))=1,"U",IF(INDEX(Plan!$C$10:$C$374,MATCH(L68,Plan!$A$10:$A$374,0))<>"","F",IF(INDEX(Plan!$E$10:$E$374,MATCH(L68,Plan!$A$10:$A$374,0))="Arbeitstag","","frei")))) | M69: =IF(INDEX(Plan!$G$10:$G$374,MATCH(M68,Plan!$A$10:$A$374,0))="Eingabe prüfen","?",IF(INDEX(Plan!$G$10:$G$374,MATCH(M68,Plan!$A$10:$A$374,0))=1,"U",IF(INDEX(Plan!$C$10:$C$374,MATCH(M68,Plan!$A$10:$A$374,0))<>"","F",IF(INDEX(Plan!$E$10:$E$374,MATCH(M68,Plan!$A$10:$A$374,0))="Arbeitstag","","frei")))) | N69: =IF(INDEX(Plan!$G$10:$G$374,MATCH(N68,Plan!$A$10:$A$374,0))="Eingabe prüfen","?",IF(INDEX(Plan!$G$10:$G$374,MATCH(N68,Plan!$A$10:$A$374,0))=1,"U",IF(INDEX(Plan!$C$10:$C$374,MATCH(N68,Plan!$A$10:$A$374,0))<>"","F",IF(INDEX(Plan!$E$10:$E$374,MATCH(N68,Plan!$A$10:$A$374,0))="Arbeitstag","","frei")))) -> frei | O69: =IF(INDEX(Plan!$G$10:$G$374,MATCH(O68,Plan!$A$10:$A$374,0))="Eingabe prüfen","?",IF(INDEX(Plan!$G$10:$G$374,MATCH(O68,Plan!$A$10:$A$374,0))=1,"U",IF(INDEX(Plan!$C$10:$C$374,MATCH(O68,Plan!$A$10:$A$374,0))<>"","F",IF(INDEX(Plan!$E$10:$E$374,MATCH(O68,Plan!$A$10:$A$374,0))="Arbeitstag","","frei")))) -> frei | S69: =IF(INDEX(Plan!$G$10:$G$374,MATCH(S68,Plan!$A$10:$A$374,0))="Eingabe prüfen","?",IF(INDEX(Plan!$G$10:$G$374,MATCH(S68,Plan!$A$10:$A$374,0))=1,"U",IF(INDEX(Plan!$C$10:$C$374,MATCH(S68,Plan!$A$10:$A$374,0))<>"","F",IF(INDEX(Plan!$E$10:$E$374,MATCH(S68,Plan!$A$10:$A$374,0))="Arbeitstag","","frei")))) | T69: =IF(INDEX(Plan!$G$10:$G$374,MATCH(T68,Plan!$A$10:$A$374,0))="Eingabe prüfen","?",IF(INDEX(Plan!$G$10:$G$374,MATCH(T68,Plan!$A$10:$A$374,0))=1,"U",IF(INDEX(Plan!$C$10:$C$374,MATCH(T68,Plan!$A$10:$A$374,0))<>"","F",IF(INDEX(Plan!$E$10:$E$374,MATCH(T68,Plan!$A$10:$A$374,0))="Arbeitstag","","frei")))) | U69: =IF(INDEX(Plan!$G$10:$G$374,MATCH(U68,Plan!$A$10:$A$374,0))="Eingabe prüfen","?",IF(INDEX(Plan!$G$10:$G$374,MATCH(U68,Plan!$A$10:$A$374,0))=1,"U",IF(INDEX(Plan!$C$10:$C$374,MATCH(U68,Plan!$A$10:$A$374,0))<>"","F",IF(INDEX(Plan!$E$10:$E$374,MATCH(U68,Plan!$A$10:$A$374,0))="Arbeitstag","","frei")))) | V69: =IF(INDEX(Plan!$G$10:$G$374,MATCH(V68,Plan!$A$10:$A$374,0))="Eingabe prüfen","?",IF(INDEX(Plan!$G$10:$G$374,MATCH(V68,Plan!$A$10:$A$374,0))=1,"U",IF(INDEX(Plan!$C$10:$C$374,MATCH(V68,Plan!$A$10:$A$374,0))<>"","F",IF(INDEX(Plan!$E$10:$E$374,MATCH(V68,Plan!$A$10:$A$374,0))="Arbeitstag","","frei")))) -> frei | W69: =IF(INDEX(Plan!$G$10:$G$374,MATCH(W68,Plan!$A$10:$A$374,0))="Eingabe prüfen","?",IF(INDEX(Plan!$G$10:$G$374,MATCH(W68,Plan!$A$10:$A$374,0))=1,"U",IF(INDEX(Plan!$C$10:$C$374,MATCH(W68,Plan!$A$10:$A$374,0))<>"","F",IF(INDEX(Plan!$E$10:$E$374,MATCH(W68,Plan!$A$10:$A$374,0))="Arbeitstag","","frei")))) -> frei
A70: 46664 | B70: 46665 | C70: 46666 | D70: 46667 | E70: 46668 | F70: 46669 | G70: 46670 | I70: 46699 | J70: 46700 | K70: 46701 | L70: 46702 | M70: 46703 | N70: 46704 | O70: 46705 | Q70: 46727 | R70: 46728 | S70: 46729 | T70: 46730 | U70: 46731 | V70: 46732 | W70: 46733
A71: =IF(INDEX(Plan!$G$10:$G$374,MATCH(A70,Plan!$A$10:$A$374,0))="Eingabe prüfen","?",IF(INDEX(Plan!$G$10:$G$374,MATCH(A70,Plan!$A$10:$A$374,0))=1,"U",IF(INDEX(Plan!$C$10:$C$374,MATCH(A70,Plan!$A$10:$A$374,0))<>"","F",IF(INDEX(Plan!$E$10:$E$374,MATCH(A70,Plan!$A$10:$A$374,0))="Arbeitstag","","frei")))) | B71: =IF(INDEX(Plan!$G$10:$G$374,MATCH(B70,Plan!$A$10:$A$374,0))="Eingabe prüfen","?",IF(INDEX(Plan!$G$10:$G$374,MATCH(B70,Plan!$A$10:$A$374,0))=1,"U",IF(INDEX(Plan!$C$10:$C$374,MATCH(B70,Plan!$A$10:$A$374,0))<>"","F",IF(INDEX(Plan!$E$10:$E$374,MATCH(B70,Plan!$A$10:$A$374,0))="Arbeitstag","","frei")))) | C71: =IF(INDEX(Plan!$G$10:$G$374,MATCH(C70,Plan!$A$10:$A$374,0))="Eingabe prüfen","?",IF(INDEX(Plan!$G$10:$G$374,MATCH(C70,Plan!$A$10:$A$374,0))=1,"U",IF(INDEX(Plan!$C$10:$C$374,MATCH(C70,Plan!$A$10:$A$374,0))<>"","F",IF(INDEX(Plan!$E$10:$E$374,MATCH(C70,Plan!$A$10:$A$374,0))="Arbeitstag","","frei")))) | D71: =IF(INDEX(Plan!$G$10:$G$374,MATCH(D70,Plan!$A$10:$A$374,0))="Eingabe prüfen","?",IF(INDEX(Plan!$G$10:$G$374,MATCH(D70,Plan!$A$10:$A$374,0))=1,"U",IF(INDEX(Plan!$C$10:$C$374,MATCH(D70,Plan!$A$10:$A$374,0))<>"","F",IF(INDEX(Plan!$E$10:$E$374,MATCH(D70,Plan!$A$10:$A$374,0))="Arbeitstag","","frei")))) | E71: =IF(INDEX(Plan!$G$10:$G$374,MATCH(E70,Plan!$A$10:$A$374,0))="Eingabe prüfen","?",IF(INDEX(Plan!$G$10:$G$374,MATCH(E70,Plan!$A$10:$A$374,0))=1,"U",IF(INDEX(Plan!$C$10:$C$374,MATCH(E70,Plan!$A$10:$A$374,0))<>"","F",IF(INDEX(Plan!$E$10:$E$374,MATCH(E70,Plan!$A$10:$A$374,0))="Arbeitstag","","frei")))) | F71: =IF(INDEX(Plan!$G$10:$G$374,MATCH(F70,Plan!$A$10:$A$374,0))="Eingabe prüfen","?",IF(INDEX(Plan!$G$10:$G$374,MATCH(F70,Plan!$A$10:$A$374,0))=1,"U",IF(INDEX(Plan!$C$10:$C$374,MATCH(F70,Plan!$A$10:$A$374,0))<>"","F",IF(INDEX(Plan!$E$10:$E$374,MATCH(F70,Plan!$A$10:$A$374,0))="Arbeitstag","","frei")))) -> frei | G71: =IF(INDEX(Plan!$G$10:$G$374,MATCH(G70,Plan!$A$10:$A$374,0))="Eingabe prüfen","?",IF(INDEX(Plan!$G$10:$G$374,MATCH(G70,Plan!$A$10:$A$374,0))=1,"U",IF(INDEX(Plan!$C$10:$C$374,MATCH(G70,Plan!$A$10:$A$374,0))<>"","F",IF(INDEX(Plan!$E$10:$E$374,MATCH(G70,Plan!$A$10:$A$374,0))="Arbeitstag","","frei")))) -> frei | I71: =IF(INDEX(Plan!$G$10:$G$374,MATCH(I70,Plan!$A$10:$A$374,0))="Eingabe prüfen","?",IF(INDEX(Plan!$G$10:$G$374,MATCH(I70,Plan!$A$10:$A$374,0))=1,"U",IF(INDEX(Plan!$C$10:$C$374,MATCH(I70,Plan!$A$10:$A$374,0))<>"","F",IF(INDEX(Plan!$E$10:$E$374,MATCH(I70,Plan!$A$10:$A$374,0))="Arbeitstag","","frei")))) | J71: =IF(INDEX(Plan!$G$10:$G$374,MATCH(J70,Plan!$A$10:$A$374,0))="Eingabe prüfen","?",IF(INDEX(Plan!$G$10:$G$374,MATCH(J70,Plan!$A$10:$A$374,0))=1,"U",IF(INDEX(Plan!$C$10:$C$374,MATCH(J70,Plan!$A$10:$A$374,0))<>"","F",IF(INDEX(Plan!$E$10:$E$374,MATCH(J70,Plan!$A$10:$A$374,0))="Arbeitstag","","frei")))) | K71: =IF(INDEX(Plan!$G$10:$G$374,MATCH(K70,Plan!$A$10:$A$374,0))="Eingabe prüfen","?",IF(INDEX(Plan!$G$10:$G$374,MATCH(K70,Plan!$A$10:$A$374,0))=1,"U",IF(INDEX(Plan!$C$10:$C$374,MATCH(K70,Plan!$A$10:$A$374,0))<>"","F",IF(INDEX(Plan!$E$10:$E$374,MATCH(K70,Plan!$A$10:$A$374,0))="Arbeitstag","","frei")))) | L71: =IF(INDEX(Plan!$G$10:$G$374,MATCH(L70,Plan!$A$10:$A$374,0))="Eingabe prüfen","?",IF(INDEX(Plan!$G$10:$G$374,MATCH(L70,Plan!$A$10:$A$374,0))=1,"U",IF(INDEX(Plan!$C$10:$C$374,MATCH(L70,Plan!$A$10:$A$374,0))<>"","F",IF(INDEX(Plan!$E$10:$E$374,MATCH(L70,Plan!$A$10:$A$374,0))="Arbeitstag","","frei")))) | M71: =IF(INDEX(Plan!$G$10:$G$374,MATCH(M70,Plan!$A$10:$A$374,0))="Eingabe prüfen","?",IF(INDEX(Plan!$G$10:$G$374,MATCH(M70,Plan!$A$10:$A$374,0))=1,"U",IF(INDEX(Plan!$C$10:$C$374,MATCH(M70,Plan!$A$10:$A$374,0))<>"","F",IF(INDEX(Plan!$E$10:$E$374,MATCH(M70,Plan!$A$10:$A$374,0))="Arbeitstag","","frei")))) | N71: =IF(INDEX(Plan!$G$10:$G$374,MATCH(N70,Plan!$A$10:$A$374,0))="Eingabe prüfen","?",IF(INDEX(Plan!$G$10:$G$374,MATCH(N70,Plan!$A$10:$A$374,0))=1,"U",IF(INDEX(Plan!$C$10:$C$374,MATCH(N70,Plan!$A$10:$A$374,0))<>"","F",IF(INDEX(Plan!$E$10:$E$374,MATCH(N70,Plan!$A$10:$A$374,0))="Arbeitstag","","frei")))) -> frei | O71: =IF(INDEX(Plan!$G$10:$G$374,MATCH(O70,Plan!$A$10:$A$374,0))="Eingabe prüfen","?",IF(INDEX(Plan!$G$10:$G$374,MATCH(O70,Plan!$A$10:$A$374,0))=1,"U",IF(INDEX(Plan!$C$10:$C$374,MATCH(O70,Plan!$A$10:$A$374,0))<>"","F",IF(INDEX(Plan!$E$10:$E$374,MATCH(O70,Plan!$A$10:$A$374,0))="Arbeitstag","","frei")))) -> frei | Q71: =IF(INDEX(Plan!$G$10:$G$374,MATCH(Q70,Plan!$A$10:$A$374,0))="Eingabe prüfen","?",IF(INDEX(Plan!$G$10:$G$374,MATCH(Q70,Plan!$A$10:$A$374,0))=1,"U",IF(INDEX(Plan!$C$10:$C$374,MATCH(Q70,Plan!$A$10:$A$374,0))<>"","F",IF(INDEX(Plan!$E$10:$E$374,MATCH(Q70,Plan!$A$10:$A$374,0))="Arbeitstag","","frei")))) | R71: =IF(INDEX(Plan!$G$10:$G$374,MATCH(R70,Plan!$A$10:$A$374,0))="Eingabe prüfen","?",IF(INDEX(Plan!$G$10:$G$374,MATCH(R70,Plan!$A$10:$A$374,0))=1,"U",IF(INDEX(Plan!$C$10:$C$374,MATCH(R70,Plan!$A$10:$A$374,0))<>"","F",IF(INDEX(Plan!$E$10:$E$374,MATCH(R70,Plan!$A$10:$A$374,0))="Arbeitstag","","frei")))) | S71: =IF(INDEX(Plan!$G$10:$G$374,MATCH(S70,Plan!$A$10:$A$374,0))="Eingabe prüfen","?",IF(INDEX(Plan!$G$10:$G$374,MATCH(S70,Plan!$A$10:$A$374,0))=1,"U",IF(INDEX(Plan!$C$10:$C$374,MATCH(S70,Plan!$A$10:$A$374,0))<>"","F",IF(INDEX(Plan!$E$10:$E$374,MATCH(S70,Plan!$A$10:$A$374,0))="Arbeitstag","","frei")))) | T71: =IF(INDEX(Plan!$G$10:$G$374,MATCH(T70,Plan!$A$10:$A$374,0))="Eingabe prüfen","?",IF(INDEX(Plan!$G$10:$G$374,MATCH(T70,Plan!$A$10:$A$374,0))=1,"U",IF(INDEX(Plan!$C$10:$C$374,MATCH(T70,Plan!$A$10:$A$374,0))<>"","F",IF(INDEX(Plan!$E$10:$E$374,MATCH(T70,Plan!$A$10:$A$374,0))="Arbeitstag","","frei")))) | U71: =IF(INDEX(Plan!$G$10:$G$374,MATCH(U70,Plan!$A$10:$A$374,0))="Eingabe prüfen","?",IF(INDEX(Plan!$G$10:$G$374,MATCH(U70,Plan!$A$10:$A$374,0))=1,"U",IF(INDEX(Plan!$C$10:$C$374,MATCH(U70,Plan!$A$10:$A$374,0))<>"","F",IF(INDEX(Plan!$E$10:$E$374,MATCH(U70,Plan!$A$10:$A$374,0))="Arbeitstag","","frei")))) | V71: =IF(INDEX(Plan!$G$10:$G$374,MATCH(V70,Plan!$A$10:$A$374,0))="Eingabe prüfen","?",IF(INDEX(Plan!$G$10:$G$374,MATCH(V70,Plan!$A$10:$A$374,0))=1,"U",IF(INDEX(Plan!$C$10:$C$374,MATCH(V70,Plan!$A$10:$A$374,0))<>"","F",IF(INDEX(Plan!$E$10:$E$374,MATCH(V70,Plan!$A$10:$A$374,0))="Arbeitstag","","frei")))) -> frei | W71: =IF(INDEX(Plan!$G$10:$G$374,MATCH(W70,Plan!$A$10:$A$374,0))="Eingabe prüfen","?",IF(INDEX(Plan!$G$10:$G$374,MATCH(W70,Plan!$A$10:$A$374,0))=1,"U",IF(INDEX(Plan!$C$10:$C$374,MATCH(W70,Plan!$A$10:$A$374,0))<>"","F",IF(INDEX(Plan!$E$10:$E$374,MATCH(W70,Plan!$A$10:$A$374,0))="Arbeitstag","","frei")))) -> frei
A72: 46671 | B72: 46672 | C72: 46673 | D72: 46674 | E72: 46675 | F72: 46676 | G72: 46677 | I72: 46706 | J72: 46707 | K72: 46708 | L72: 46709 | M72: 46710 | N72: 46711 | O72: 46712 | Q72: 46734 | R72: 46735 | S72: 46736 | T72: 46737 | U72: 46738 | V72: 46739 | W72: 46740
A73: =IF(INDEX(Plan!$G$10:$G$374,MATCH(A72,Plan!$A$10:$A$374,0))="Eingabe prüfen","?",IF(INDEX(Plan!$G$10:$G$374,MATCH(A72,Plan!$A$10:$A$374,0))=1,"U",IF(INDEX(Plan!$C$10:$C$374,MATCH(A72,Plan!$A$10:$A$374,0))<>"","F",IF(INDEX(Plan!$E$10:$E$374,MATCH(A72,Plan!$A$10:$A$374,0))="Arbeitstag","","frei")))) | B73: =IF(INDEX(Plan!$G$10:$G$374,MATCH(B72,Plan!$A$10:$A$374,0))="Eingabe prüfen","?",IF(INDEX(Plan!$G$10:$G$374,MATCH(B72,Plan!$A$10:$A$374,0))=1,"U",IF(INDEX(Plan!$C$10:$C$374,MATCH(B72,Plan!$A$10:$A$374,0))<>"","F",IF(INDEX(Plan!$E$10:$E$374,MATCH(B72,Plan!$A$10:$A$374,0))="Arbeitstag","","frei")))) | C73: =IF(INDEX(Plan!$G$10:$G$374,MATCH(C72,Plan!$A$10:$A$374,0))="Eingabe prüfen","?",IF(INDEX(Plan!$G$10:$G$374,MATCH(C72,Plan!$A$10:$A$374,0))=1,"U",IF(INDEX(Plan!$C$10:$C$374,MATCH(C72,Plan!$A$10:$A$374,0))<>"","F",IF(INDEX(Plan!$E$10:$E$374,MATCH(C72,Plan!$A$10:$A$374,0))="Arbeitstag","","frei")))) | D73: =IF(INDEX(Plan!$G$10:$G$374,MATCH(D72,Plan!$A$10:$A$374,0))="Eingabe prüfen","?",IF(INDEX(Plan!$G$10:$G$374,MATCH(D72,Plan!$A$10:$A$374,0))=1,"U",IF(INDEX(Plan!$C$10:$C$374,MATCH(D72,Plan!$A$10:$A$374,0))<>"","F",IF(INDEX(Plan!$E$10:$E$374,MATCH(D72,Plan!$A$10:$A$374,0))="Arbeitstag","","frei")))) | E73: =IF(INDEX(Plan!$G$10:$G$374,MATCH(E72,Plan!$A$10:$A$374,0))="Eingabe prüfen","?",IF(INDEX(Plan!$G$10:$G$374,MATCH(E72,Plan!$A$10:$A$374,0))=1,"U",IF(INDEX(Plan!$C$10:$C$374,MATCH(E72,Plan!$A$10:$A$374,0))<>"","F",IF(INDEX(Plan!$E$10:$E$374,MATCH(E72,Plan!$A$10:$A$374,0))="Arbeitstag","","frei")))) | F73: =IF(INDEX(Plan!$G$10:$G$374,MATCH(F72,Plan!$A$10:$A$374,0))="Eingabe prüfen","?",IF(INDEX(Plan!$G$10:$G$374,MATCH(F72,Plan!$A$10:$A$374,0))=1,"U",IF(INDEX(Plan!$C$10:$C$374,MATCH(F72,Plan!$A$10:$A$374,0))<>"","F",IF(INDEX(Plan!$E$10:$E$374,MATCH(F72,Plan!$A$10:$A$374,0))="Arbeitstag","","frei")))) -> frei | G73: =IF(INDEX(Plan!$G$10:$G$374,MATCH(G72,Plan!$A$10:$A$374,0))="Eingabe prüfen","?",IF(INDEX(Plan!$G$10:$G$374,MATCH(G72,Plan!$A$10:$A$374,0))=1,"U",IF(INDEX(Plan!$C$10:$C$374,MATCH(G72,Plan!$A$10:$A$374,0))<>"","F",IF(INDEX(Plan!$E$10:$E$374,MATCH(G72,Plan!$A$10:$A$374,0))="Arbeitstag","","frei")))) -> frei | I73: =IF(INDEX(Plan!$G$10:$G$374,MATCH(I72,Plan!$A$10:$A$374,0))="Eingabe prüfen","?",IF(INDEX(Plan!$G$10:$G$374,MATCH(I72,Plan!$A$10:$A$374,0))=1,"U",IF(INDEX(Plan!$C$10:$C$374,MATCH(I72,Plan!$A$10:$A$374,0))<>"","F",IF(INDEX(Plan!$E$10:$E$374,MATCH(I72,Plan!$A$10:$A$374,0))="Arbeitstag","","frei")))) | J73: =IF(INDEX(Plan!$G$10:$G$374,MATCH(J72,Plan!$A$10:$A$374,0))="Eingabe prüfen","?",IF(INDEX(Plan!$G$10:$G$374,MATCH(J72,Plan!$A$10:$A$374,0))=1,"U",IF(INDEX(Plan!$C$10:$C$374,MATCH(J72,Plan!$A$10:$A$374,0))<>"","F",IF(INDEX(Plan!$E$10:$E$374,MATCH(J72,Plan!$A$10:$A$374,0))="Arbeitstag","","frei")))) | K73: =IF(INDEX(Plan!$G$10:$G$374,MATCH(K72,Plan!$A$10:$A$374,0))="Eingabe prüfen","?",IF(INDEX(Plan!$G$10:$G$374,MATCH(K72,Plan!$A$10:$A$374,0))=1,"U",IF(INDEX(Plan!$C$10:$C$374,MATCH(K72,Plan!$A$10:$A$374,0))<>"","F",IF(INDEX(Plan!$E$10:$E$374,MATCH(K72,Plan!$A$10:$A$374,0))="Arbeitstag","","frei")))) | L73: =IF(INDEX(Plan!$G$10:$G$374,MATCH(L72,Plan!$A$10:$A$374,0))="Eingabe prüfen","?",IF(INDEX(Plan!$G$10:$G$374,MATCH(L72,Plan!$A$10:$A$374,0))=1,"U",IF(INDEX(Plan!$C$10:$C$374,MATCH(L72,Plan!$A$10:$A$374,0))<>"","F",IF(INDEX(Plan!$E$10:$E$374,MATCH(L72,Plan!$A$10:$A$374,0))="Arbeitstag","","frei")))) | M73: =IF(INDEX(Plan!$G$10:$G$374,MATCH(M72,Plan!$A$10:$A$374,0))="Eingabe prüfen","?",IF(INDEX(Plan!$G$10:$G$374,MATCH(M72,Plan!$A$10:$A$374,0))=1,"U",IF(INDEX(Plan!$C$10:$C$374,MATCH(M72,Plan!$A$10:$A$374,0))<>"","F",IF(INDEX(Plan!$E$10:$E$374,MATCH(M72,Plan!$A$10:$A$374,0))="Arbeitstag","","frei")))) | N73: =IF(INDEX(Plan!$G$10:$G$374,MATCH(N72,Plan!$A$10:$A$374,0))="Eingabe prüfen","?",IF(INDEX(Plan!$G$10:$G$374,MATCH(N72,Plan!$A$10:$A$374,0))=1,"U",IF(INDEX(Plan!$C$10:$C$374,MATCH(N72,Plan!$A$10:$A$374,0))<>"","F",IF(INDEX(Plan!$E$10:$E$374,MATCH(N72,Plan!$A$10:$A$374,0))="Arbeitstag","","frei")))) -> frei | O73: =IF(INDEX(Plan!$G$10:$G$374,MATCH(O72,Plan!$A$10:$A$374,0))="Eingabe prüfen","?",IF(INDEX(Plan!$G$10:$G$374,MATCH(O72,Plan!$A$10:$A$374,0))=1,"U",IF(INDEX(Plan!$C$10:$C$374,MATCH(O72,Plan!$A$10:$A$374,0))<>"","F",IF(INDEX(Plan!$E$10:$E$374,MATCH(O72,Plan!$A$10:$A$374,0))="Arbeitstag","","frei")))) -> frei | Q73: =IF(INDEX(Plan!$G$10:$G$374,MATCH(Q72,Plan!$A$10:$A$374,0))="Eingabe prüfen","?",IF(INDEX(Plan!$G$10:$G$374,MATCH(Q72,Plan!$A$10:$A$374,0))=1,"U",IF(INDEX(Plan!$C$10:$C$374,MATCH(Q72,Plan!$A$10:$A$374,0))<>"","F",IF(INDEX(Plan!$E$10:$E$374,MATCH(Q72,Plan!$A$10:$A$374,0))="Arbeitstag","","frei")))) | R73: =IF(INDEX(Plan!$G$10:$G$374,MATCH(R72,Plan!$A$10:$A$374,0))="Eingabe prüfen","?",IF(INDEX(Plan!$G$10:$G$374,MATCH(R72,Plan!$A$10:$A$374,0))=1,"U",IF(INDEX(Plan!$C$10:$C$374,MATCH(R72,Plan!$A$10:$A$374,0))<>"","F",IF(INDEX(Plan!$E$10:$E$374,MATCH(R72,Plan!$A$10:$A$374,0))="Arbeitstag","","frei")))) | S73: =IF(INDEX(Plan!$G$10:$G$374,MATCH(S72,Plan!$A$10:$A$374,0))="Eingabe prüfen","?",IF(INDEX(Plan!$G$10:$G$374,MATCH(S72,Plan!$A$10:$A$374,0))=1,"U",IF(INDEX(Plan!$C$10:$C$374,MATCH(S72,Plan!$A$10:$A$374,0))<>"","F",IF(INDEX(Plan!$E$10:$E$374,MATCH(S72,Plan!$A$10:$A$374,0))="Arbeitstag","","frei")))) | T73: =IF(INDEX(Plan!$G$10:$G$374,MATCH(T72,Plan!$A$10:$A$374,0))="Eingabe prüfen","?",IF(INDEX(Plan!$G$10:$G$374,MATCH(T72,Plan!$A$10:$A$374,0))=1,"U",IF(INDEX(Plan!$C$10:$C$374,MATCH(T72,Plan!$A$10:$A$374,0))<>"","F",IF(INDEX(Plan!$E$10:$E$374,MATCH(T72,Plan!$A$10:$A$374,0))="Arbeitstag","","frei")))) | U73: =IF(INDEX(Plan!$G$10:$G$374,MATCH(U72,Plan!$A$10:$A$374,0))="Eingabe prüfen","?",IF(INDEX(Plan!$G$10:$G$374,MATCH(U72,Plan!$A$10:$A$374,0))=1,"U",IF(INDEX(Plan!$C$10:$C$374,MATCH(U72,Plan!$A$10:$A$374,0))<>"","F",IF(INDEX(Plan!$E$10:$E$374,MATCH(U72,Plan!$A$10:$A$374,0))="Arbeitstag","","frei")))) | V73: =IF(INDEX(Plan!$G$10:$G$374,MATCH(V72,Plan!$A$10:$A$374,0))="Eingabe prüfen","?",IF(INDEX(Plan!$G$10:$G$374,MATCH(V72,Plan!$A$10:$A$374,0))=1,"U",IF(INDEX(Plan!$C$10:$C$374,MATCH(V72,Plan!$A$10:$A$374,0))<>"","F",IF(INDEX(Plan!$E$10:$E$374,MATCH(V72,Plan!$A$10:$A$374,0))="Arbeitstag","","frei")))) -> frei | W73: =IF(INDEX(Plan!$G$10:$G$374,MATCH(W72,Plan!$A$10:$A$374,0))="Eingabe prüfen","?",IF(INDEX(Plan!$G$10:$G$374,MATCH(W72,Plan!$A$10:$A$374,0))=1,"U",IF(INDEX(Plan!$C$10:$C$374,MATCH(W72,Plan!$A$10:$A$374,0))<>"","F",IF(INDEX(Plan!$E$10:$E$374,MATCH(W72,Plan!$A$10:$A$374,0))="Arbeitstag","","frei")))) -> frei
A74: 46678 | B74: 46679 | C74: 46680 | D74: 46681 | E74: 46682 | F74: 46683 | G74: 46684 | I74: 46713 | J74: 46714 | K74: 46715 | L74: 46716 | M74: 46717 | N74: 46718 | O74: 46719 | Q74: 46741 | R74: 46742 | S74: 46743 | T74: 46744 | U74: 46745 | V74: 46746 | W74: 46747
A75: =IF(INDEX(Plan!$G$10:$G$374,MATCH(A74,Plan!$A$10:$A$374,0))="Eingabe prüfen","?",IF(INDEX(Plan!$G$10:$G$374,MATCH(A74,Plan!$A$10:$A$374,0))=1,"U",IF(INDEX(Plan!$C$10:$C$374,MATCH(A74,Plan!$A$10:$A$374,0))<>"","F",IF(INDEX(Plan!$E$10:$E$374,MATCH(A74,Plan!$A$10:$A$374,0))="Arbeitstag","","frei")))) | B75: =IF(INDEX(Plan!$G$10:$G$374,MATCH(B74,Plan!$A$10:$A$374,0))="Eingabe prüfen","?",IF(INDEX(Plan!$G$10:$G$374,MATCH(B74,Plan!$A$10:$A$374,0))=1,"U",IF(INDEX(Plan!$C$10:$C$374,MATCH(B74,Plan!$A$10:$A$374,0))<>"","F",IF(INDEX(Plan!$E$10:$E$374,MATCH(B74,Plan!$A$10:$A$374,0))="Arbeitstag","","frei")))) | C75: =IF(INDEX(Plan!$G$10:$G$374,MATCH(C74,Plan!$A$10:$A$374,0))="Eingabe prüfen","?",IF(INDEX(Plan!$G$10:$G$374,MATCH(C74,Plan!$A$10:$A$374,0))=1,"U",IF(INDEX(Plan!$C$10:$C$374,MATCH(C74,Plan!$A$10:$A$374,0))<>"","F",IF(INDEX(Plan!$E$10:$E$374,MATCH(C74,Plan!$A$10:$A$374,0))="Arbeitstag","","frei")))) | D75: =IF(INDEX(Plan!$G$10:$G$374,MATCH(D74,Plan!$A$10:$A$374,0))="Eingabe prüfen","?",IF(INDEX(Plan!$G$10:$G$374,MATCH(D74,Plan!$A$10:$A$374,0))=1,"U",IF(INDEX(Plan!$C$10:$C$374,MATCH(D74,Plan!$A$10:$A$374,0))<>"","F",IF(INDEX(Plan!$E$10:$E$374,MATCH(D74,Plan!$A$10:$A$374,0))="Arbeitstag","","frei")))) | E75: =IF(INDEX(Plan!$G$10:$G$374,MATCH(E74,Plan!$A$10:$A$374,0))="Eingabe prüfen","?",IF(INDEX(Plan!$G$10:$G$374,MATCH(E74,Plan!$A$10:$A$374,0))=1,"U",IF(INDEX(Plan!$C$10:$C$374,MATCH(E74,Plan!$A$10:$A$374,0))<>"","F",IF(INDEX(Plan!$E$10:$E$374,MATCH(E74,Plan!$A$10:$A$374,0))="Arbeitstag","","frei")))) | F75: =IF(INDEX(Plan!$G$10:$G$374,MATCH(F74,Plan!$A$10:$A$374,0))="Eingabe prüfen","?",IF(INDEX(Plan!$G$10:$G$374,MATCH(F74,Plan!$A$10:$A$374,0))=1,"U",IF(INDEX(Plan!$C$10:$C$374,MATCH(F74,Plan!$A$10:$A$374,0))<>"","F",IF(INDEX(Plan!$E$10:$E$374,MATCH(F74,Plan!$A$10:$A$374,0))="Arbeitstag","","frei")))) -> frei | G75: =IF(INDEX(Plan!$G$10:$G$374,MATCH(G74,Plan!$A$10:$A$374,0))="Eingabe prüfen","?",IF(INDEX(Plan!$G$10:$G$374,MATCH(G74,Plan!$A$10:$A$374,0))=1,"U",IF(INDEX(Plan!$C$10:$C$374,MATCH(G74,Plan!$A$10:$A$374,0))<>"","F",IF(INDEX(Plan!$E$10:$E$374,MATCH(G74,Plan!$A$10:$A$374,0))="Arbeitstag","","frei")))) -> frei | I75: =IF(INDEX(Plan!$G$10:$G$374,MATCH(I74,Plan!$A$10:$A$374,0))="Eingabe prüfen","?",IF(INDEX(Plan!$G$10:$G$374,MATCH(I74,Plan!$A$10:$A$374,0))=1,"U",IF(INDEX(Plan!$C$10:$C$374,MATCH(I74,Plan!$A$10:$A$374,0))<>"","F",IF(INDEX(Plan!$E$10:$E$374,MATCH(I74,Plan!$A$10:$A$374,0))="Arbeitstag","","frei")))) | J75: =IF(INDEX(Plan!$G$10:$G$374,MATCH(J74,Plan!$A$10:$A$374,0))="Eingabe prüfen","?",IF(INDEX(Plan!$G$10:$G$374,MATCH(J74,Plan!$A$10:$A$374,0))=1,"U",IF(INDEX(Plan!$C$10:$C$374,MATCH(J74,Plan!$A$10:$A$374,0))<>"","F",IF(INDEX(Plan!$E$10:$E$374,MATCH(J74,Plan!$A$10:$A$374,0))="Arbeitstag","","frei")))) | K75: =IF(INDEX(Plan!$G$10:$G$374,MATCH(K74,Plan!$A$10:$A$374,0))="Eingabe prüfen","?",IF(INDEX(Plan!$G$10:$G$374,MATCH(K74,Plan!$A$10:$A$374,0))=1,"U",IF(INDEX(Plan!$C$10:$C$374,MATCH(K74,Plan!$A$10:$A$374,0))<>"","F",IF(INDEX(Plan!$E$10:$E$374,MATCH(K74,Plan!$A$10:$A$374,0))="Arbeitstag","","frei")))) | L75: =IF(INDEX(Plan!$G$10:$G$374,MATCH(L74,Plan!$A$10:$A$374,0))="Eingabe prüfen","?",IF(INDEX(Plan!$G$10:$G$374,MATCH(L74,Plan!$A$10:$A$374,0))=1,"U",IF(INDEX(Plan!$C$10:$C$374,MATCH(L74,Plan!$A$10:$A$374,0))<>"","F",IF(INDEX(Plan!$E$10:$E$374,MATCH(L74,Plan!$A$10:$A$374,0))="Arbeitstag","","frei")))) | M75: =IF(INDEX(Plan!$G$10:$G$374,MATCH(M74,Plan!$A$10:$A$374,0))="Eingabe prüfen","?",IF(INDEX(Plan!$G$10:$G$374,MATCH(M74,Plan!$A$10:$A$374,0))=1,"U",IF(INDEX(Plan!$C$10:$C$374,MATCH(M74,Plan!$A$10:$A$374,0))<>"","F",IF(INDEX(Plan!$E$10:$E$374,MATCH(M74,Plan!$A$10:$A$374,0))="Arbeitstag","","frei")))) | N75: =IF(INDEX(Plan!$G$10:$G$374,MATCH(N74,Plan!$A$10:$A$374,0))="Eingabe prüfen","?",IF(INDEX(Plan!$G$10:$G$374,MATCH(N74,Plan!$A$10:$A$374,0))=1,"U",IF(INDEX(Plan!$C$10:$C$374,MATCH(N74,Plan!$A$10:$A$374,0))<>"","F",IF(INDEX(Plan!$E$10:$E$374,MATCH(N74,Plan!$A$10:$A$374,0))="Arbeitstag","","frei")))) -> frei | O75: =IF(INDEX(Plan!$G$10:$G$374,MATCH(O74,Plan!$A$10:$A$374,0))="Eingabe prüfen","?",IF(INDEX(Plan!$G$10:$G$374,MATCH(O74,Plan!$A$10:$A$374,0))=1,"U",IF(INDEX(Plan!$C$10:$C$374,MATCH(O74,Plan!$A$10:$A$374,0))<>"","F",IF(INDEX(Plan!$E$10:$E$374,MATCH(O74,Plan!$A$10:$A$374,0))="Arbeitstag","","frei")))) -> frei | Q75: =IF(INDEX(Plan!$G$10:$G$374,MATCH(Q74,Plan!$A$10:$A$374,0))="Eingabe prüfen","?",IF(INDEX(Plan!$G$10:$G$374,MATCH(Q74,Plan!$A$10:$A$374,0))=1,"U",IF(INDEX(Plan!$C$10:$C$374,MATCH(Q74,Plan!$A$10:$A$374,0))<>"","F",IF(INDEX(Plan!$E$10:$E$374,MATCH(Q74,Plan!$A$10:$A$374,0))="Arbeitstag","","frei")))) | R75: =IF(INDEX(Plan!$G$10:$G$374,MATCH(R74,Plan!$A$10:$A$374,0))="Eingabe prüfen","?",IF(INDEX(Plan!$G$10:$G$374,MATCH(R74,Plan!$A$10:$A$374,0))=1,"U",IF(INDEX(Plan!$C$10:$C$374,MATCH(R74,Plan!$A$10:$A$374,0))<>"","F",IF(INDEX(Plan!$E$10:$E$374,MATCH(R74,Plan!$A$10:$A$374,0))="Arbeitstag","","frei")))) | S75: =IF(INDEX(Plan!$G$10:$G$374,MATCH(S74,Plan!$A$10:$A$374,0))="Eingabe prüfen","?",IF(INDEX(Plan!$G$10:$G$374,MATCH(S74,Plan!$A$10:$A$374,0))=1,"U",IF(INDEX(Plan!$C$10:$C$374,MATCH(S74,Plan!$A$10:$A$374,0))<>"","F",IF(INDEX(Plan!$E$10:$E$374,MATCH(S74,Plan!$A$10:$A$374,0))="Arbeitstag","","frei")))) | T75: =IF(INDEX(Plan!$G$10:$G$374,MATCH(T74,Plan!$A$10:$A$374,0))="Eingabe prüfen","?",IF(INDEX(Plan!$G$10:$G$374,MATCH(T74,Plan!$A$10:$A$374,0))=1,"U",IF(INDEX(Plan!$C$10:$C$374,MATCH(T74,Plan!$A$10:$A$374,0))<>"","F",IF(INDEX(Plan!$E$10:$E$374,MATCH(T74,Plan!$A$10:$A$374,0))="Arbeitstag","","frei")))) | U75: =IF(INDEX(Plan!$G$10:$G$374,MATCH(U74,Plan!$A$10:$A$374,0))="Eingabe prüfen","?",IF(INDEX(Plan!$G$10:$G$374,MATCH(U74,Plan!$A$10:$A$374,0))=1,"U",IF(INDEX(Plan!$C$10:$C$374,MATCH(U74,Plan!$A$10:$A$374,0))<>"","F",IF(INDEX(Plan!$E$10:$E$374,MATCH(U74,Plan!$A$10:$A$374,0))="Arbeitstag","","frei")))) | V75: =IF(INDEX(Plan!$G$10:$G$374,MATCH(V74,Plan!$A$10:$A$374,0))="Eingabe prüfen","?",IF(INDEX(Plan!$G$10:$G$374,MATCH(V74,Plan!$A$10:$A$374,0))=1,"U",IF(INDEX(Plan!$C$10:$C$374,MATCH(V74,Plan!$A$10:$A$374,0))<>"","F",IF(INDEX(Plan!$E$10:$E$374,MATCH(V74,Plan!$A$10:$A$374,0))="Arbeitstag","","frei")))) -> F | W75: =IF(INDEX(Plan!$G$10:$G$374,MATCH(W74,Plan!$A$10:$A$374,0))="Eingabe prüfen","?",IF(INDEX(Plan!$G$10:$G$374,MATCH(W74,Plan!$A$10:$A$374,0))=1,"U",IF(INDEX(Plan!$C$10:$C$374,MATCH(W74,Plan!$A$10:$A$374,0))<>"","F",IF(INDEX(Plan!$E$10:$E$374,MATCH(W74,Plan!$A$10:$A$374,0))="Arbeitstag","","frei")))) -> F
A76: 46685 | B76: 46686 | C76: 46687 | D76: 46688 | E76: 46689 | F76: 46690 | G76: 46691 | I76: 46720 | J76: 46721 | Q76: 46748 | R76: 46749 | S76: 46750 | T76: 46751 | U76: 46752
A77: =IF(INDEX(Plan!$G$10:$G$374,MATCH(A76,Plan!$A$10:$A$374,0))="Eingabe prüfen","?",IF(INDEX(Plan!$G$10:$G$374,MATCH(A76,Plan!$A$10:$A$374,0))=1,"U",IF(INDEX(Plan!$C$10:$C$374,MATCH(A76,Plan!$A$10:$A$374,0))<>"","F",IF(INDEX(Plan!$E$10:$E$374,MATCH(A76,Plan!$A$10:$A$374,0))="Arbeitstag","","frei")))) | B77: =IF(INDEX(Plan!$G$10:$G$374,MATCH(B76,Plan!$A$10:$A$374,0))="Eingabe prüfen","?",IF(INDEX(Plan!$G$10:$G$374,MATCH(B76,Plan!$A$10:$A$374,0))=1,"U",IF(INDEX(Plan!$C$10:$C$374,MATCH(B76,Plan!$A$10:$A$374,0))<>"","F",IF(INDEX(Plan!$E$10:$E$374,MATCH(B76,Plan!$A$10:$A$374,0))="Arbeitstag","","frei")))) | C77: =IF(INDEX(Plan!$G$10:$G$374,MATCH(C76,Plan!$A$10:$A$374,0))="Eingabe prüfen","?",IF(INDEX(Plan!$G$10:$G$374,MATCH(C76,Plan!$A$10:$A$374,0))=1,"U",IF(INDEX(Plan!$C$10:$C$374,MATCH(C76,Plan!$A$10:$A$374,0))<>"","F",IF(INDEX(Plan!$E$10:$E$374,MATCH(C76,Plan!$A$10:$A$374,0))="Arbeitstag","","frei")))) | D77: =IF(INDEX(Plan!$G$10:$G$374,MATCH(D76,Plan!$A$10:$A$374,0))="Eingabe prüfen","?",IF(INDEX(Plan!$G$10:$G$374,MATCH(D76,Plan!$A$10:$A$374,0))=1,"U",IF(INDEX(Plan!$C$10:$C$374,MATCH(D76,Plan!$A$10:$A$374,0))<>"","F",IF(INDEX(Plan!$E$10:$E$374,MATCH(D76,Plan!$A$10:$A$374,0))="Arbeitstag","","frei")))) | E77: =IF(INDEX(Plan!$G$10:$G$374,MATCH(E76,Plan!$A$10:$A$374,0))="Eingabe prüfen","?",IF(INDEX(Plan!$G$10:$G$374,MATCH(E76,Plan!$A$10:$A$374,0))=1,"U",IF(INDEX(Plan!$C$10:$C$374,MATCH(E76,Plan!$A$10:$A$374,0))<>"","F",IF(INDEX(Plan!$E$10:$E$374,MATCH(E76,Plan!$A$10:$A$374,0))="Arbeitstag","","frei")))) | F77: =IF(INDEX(Plan!$G$10:$G$374,MATCH(F76,Plan!$A$10:$A$374,0))="Eingabe prüfen","?",IF(INDEX(Plan!$G$10:$G$374,MATCH(F76,Plan!$A$10:$A$374,0))=1,"U",IF(INDEX(Plan!$C$10:$C$374,MATCH(F76,Plan!$A$10:$A$374,0))<>"","F",IF(INDEX(Plan!$E$10:$E$374,MATCH(F76,Plan!$A$10:$A$374,0))="Arbeitstag","","frei")))) -> frei | G77: =IF(INDEX(Plan!$G$10:$G$374,MATCH(G76,Plan!$A$10:$A$374,0))="Eingabe prüfen","?",IF(INDEX(Plan!$G$10:$G$374,MATCH(G76,Plan!$A$10:$A$374,0))=1,"U",IF(INDEX(Plan!$C$10:$C$374,MATCH(G76,Plan!$A$10:$A$374,0))<>"","F",IF(INDEX(Plan!$E$10:$E$374,MATCH(G76,Plan!$A$10:$A$374,0))="Arbeitstag","","frei")))) -> F | I77: =IF(INDEX(Plan!$G$10:$G$374,MATCH(I76,Plan!$A$10:$A$374,0))="Eingabe prüfen","?",IF(INDEX(Plan!$G$10:$G$374,MATCH(I76,Plan!$A$10:$A$374,0))=1,"U",IF(INDEX(Plan!$C$10:$C$374,MATCH(I76,Plan!$A$10:$A$374,0))<>"","F",IF(INDEX(Plan!$E$10:$E$374,MATCH(I76,Plan!$A$10:$A$374,0))="Arbeitstag","","frei")))) | J77: =IF(INDEX(Plan!$G$10:$G$374,MATCH(J76,Plan!$A$10:$A$374,0))="Eingabe prüfen","?",IF(INDEX(Plan!$G$10:$G$374,MATCH(J76,Plan!$A$10:$A$374,0))=1,"U",IF(INDEX(Plan!$C$10:$C$374,MATCH(J76,Plan!$A$10:$A$374,0))<>"","F",IF(INDEX(Plan!$E$10:$E$374,MATCH(J76,Plan!$A$10:$A$374,0))="Arbeitstag","","frei")))) | Q77: =IF(INDEX(Plan!$G$10:$G$374,MATCH(Q76,Plan!$A$10:$A$374,0))="Eingabe prüfen","?",IF(INDEX(Plan!$G$10:$G$374,MATCH(Q76,Plan!$A$10:$A$374,0))=1,"U",IF(INDEX(Plan!$C$10:$C$374,MATCH(Q76,Plan!$A$10:$A$374,0))<>"","F",IF(INDEX(Plan!$E$10:$E$374,MATCH(Q76,Plan!$A$10:$A$374,0))="Arbeitstag","","frei")))) | R77: =IF(INDEX(Plan!$G$10:$G$374,MATCH(R76,Plan!$A$10:$A$374,0))="Eingabe prüfen","?",IF(INDEX(Plan!$G$10:$G$374,MATCH(R76,Plan!$A$10:$A$374,0))=1,"U",IF(INDEX(Plan!$C$10:$C$374,MATCH(R76,Plan!$A$10:$A$374,0))<>"","F",IF(INDEX(Plan!$E$10:$E$374,MATCH(R76,Plan!$A$10:$A$374,0))="Arbeitstag","","frei")))) | S77: =IF(INDEX(Plan!$G$10:$G$374,MATCH(S76,Plan!$A$10:$A$374,0))="Eingabe prüfen","?",IF(INDEX(Plan!$G$10:$G$374,MATCH(S76,Plan!$A$10:$A$374,0))=1,"U",IF(INDEX(Plan!$C$10:$C$374,MATCH(S76,Plan!$A$10:$A$374,0))<>"","F",IF(INDEX(Plan!$E$10:$E$374,MATCH(S76,Plan!$A$10:$A$374,0))="Arbeitstag","","frei")))) | T77: =IF(INDEX(Plan!$G$10:$G$374,MATCH(T76,Plan!$A$10:$A$374,0))="Eingabe prüfen","?",IF(INDEX(Plan!$G$10:$G$374,MATCH(T76,Plan!$A$10:$A$374,0))=1,"U",IF(INDEX(Plan!$C$10:$C$374,MATCH(T76,Plan!$A$10:$A$374,0))<>"","F",IF(INDEX(Plan!$E$10:$E$374,MATCH(T76,Plan!$A$10:$A$374,0))="Arbeitstag","","frei")))) | U77: =IF(INDEX(Plan!$G$10:$G$374,MATCH(U76,Plan!$A$10:$A$374,0))="Eingabe prüfen","?",IF(INDEX(Plan!$G$10:$G$374,MATCH(U76,Plan!$A$10:$A$374,0))=1,"U",IF(INDEX(Plan!$C$10:$C$374,MATCH(U76,Plan!$A$10:$A$374,0))<>"","F",IF(INDEX(Plan!$E$10:$E$374,MATCH(U76,Plan!$A$10:$A$374,0))="Arbeitstag","","frei"))))
A81: Stand: 13.10.2026. Landesweite Feiertage. Quellen und Grenzen: Plan. klarbelegt.de
