Workbook

Sheet Plan
A2: Urlaubsplaner 2027: Bremen
A4: Urlaubsanspruch (Tage) | B4: 30 | D4: Verplant (Tage) | E4: =IF($K$4<>"gültig","Eingabe prüfen",IF(COUNTIFS(G10:G374,"Eingabe prüfen")>0,"Eingabe prüfen",SUM(G10:G374))) -> 0 | G4: Übrig (Tage) | H4: =IF($K$5<>"gültig","Eingabe prüfen",IF(ISNUMBER(E4),B4-E4,"Eingabe prüfen")) -> 30 | J4: Kalendereingaben | K4: =IF(AND(COUNTIFS(B7:H7,"Ja")+COUNTIFS(B7:H7,"Nein")=7,COUNTIFS(B7:H7,"Ja")>0,OR(B5="Ja",B5="Nein"),OR(E5="Ja",E5="Nein")),"gültig","Arbeitstage und Dezember prüfen") -> gültig
A5: 24. Dezember arbeitsfrei | B5: Nein | D5: 31. Dezember arbeitsfrei | E5: Nein | J5: Urlaubsanspruch | K5: =IF(B4="","Urlaubsanspruch eintragen",IF(ISNUMBER(B4),IF(AND(B4>=0,INT(B4)=B4),"gültig","Ganze Zahl ab 0 eintragen"),"Ganze Zahl ab 0 eintragen")) -> gültig
B6: Montag | C6: Dienstag | D6: Mittwoch | E6: Donnerstag | F6: Freitag | G6: Samstag | H6: Sonntag
B7: Ja | C7: Ja | D7: Ja | E7: Ja | F7: Ja | G7: Nein | H7: Nein
A8: Gelbe Felder ändern. Urlaub mit U markieren. U an freien Tagen: kein Abzug.
A9: Datum | B9: Wochentag | C9: Gesetzlicher Feiertag | D9: Regelmäßiger Arbeitstag | E9: Tagesart | F9: Urlaub (U) | G9: Abzug (Tage) | H9: Notiz
A10: 46388 | B10: Freitag | C10: Neujahr | D10: =IF($K$4<>"gültig","Eingabe prüfen",INDEX($B$7:$H$7,1,WEEKDAY(A10,2))) -> Ja | E10: =IF($K$4<>"gültig","Eingabe prüfen",IF(D10="Nein","Regulär frei",IF(C10<>"","Feiertag",IF(OR(AND(A10=DATE(2027,12,24),$B$5="Ja"),AND(A10=DATE(2027,12,31),$E$5="Ja")),"Betrieblich frei","Arbeitstag")))) -> Feiertag | G10: =IF($K$4<>"gültig","Eingabe prüfen",IF(F10="",0,IF(UPPER(TRIM(F10))<>"U","Eingabe prüfen",IF(E10="Arbeitstag",1,0)))) -> 0
A11: 46389 | B11: Samstag | D11: =IF($K$4<>"gültig","Eingabe prüfen",INDEX($B$7:$H$7,1,WEEKDAY(A11,2))) -> Nein | E11: =IF($K$4<>"gültig","Eingabe prüfen",IF(D11="Nein","Regulär frei",IF(C11<>"","Feiertag",IF(OR(AND(A11=DATE(2027,12,24),$B$5="Ja"),AND(A11=DATE(2027,12,31),$E$5="Ja")),"Betrieblich frei","Arbeitstag")))) -> Regulär frei | G11: =IF($K$4<>"gültig","Eingabe prüfen",IF(F11="",0,IF(UPPER(TRIM(F11))<>"U","Eingabe prüfen",IF(E11="Arbeitstag",1,0)))) -> 0
A12: 46390 | B12: Sonntag | D12: =IF($K$4<>"gültig","Eingabe prüfen",INDEX($B$7:$H$7,1,WEEKDAY(A12,2))) -> Nein | E12: =IF($K$4<>"gültig","Eingabe prüfen",IF(D12="Nein","Regulär frei",IF(C12<>"","Feiertag",IF(OR(AND(A12=DATE(2027,12,24),$B$5="Ja"),AND(A12=DATE(2027,12,31),$E$5="Ja")),"Betrieblich frei","Arbeitstag")))) -> Regulär frei | G12: =IF($K$4<>"gültig","Eingabe prüfen",IF(F12="",0,IF(UPPER(TRIM(F12))<>"U","Eingabe prüfen",IF(E12="Arbeitstag",1,0)))) -> 0
A13: 46391 | B13: Montag | D13: =IF($K$4<>"gültig","Eingabe prüfen",INDEX($B$7:$H$7,1,WEEKDAY(A13,2))) -> Ja | E13: =IF($K$4<>"gültig","Eingabe prüfen",IF(D13="Nein","Regulär frei",IF(C13<>"","Feiertag",IF(OR(AND(A13=DATE(2027,12,24),$B$5="Ja"),AND(A13=DATE(2027,12,31),$E$5="Ja")),"Betrieblich frei","Arbeitstag")))) -> Arbeitstag | G13: =IF($K$4<>"gültig","Eingabe prüfen",IF(F13="",0,IF(UPPER(TRIM(F13))<>"U","Eingabe prüfen",IF(E13="Arbeitstag",1,0)))) -> 0
A14: 46392 | B14: Dienstag | D14: =IF($K$4<>"gültig","Eingabe prüfen",INDEX($B$7:$H$7,1,WEEKDAY(A14,2))) -> Ja | E14: =IF($K$4<>"gültig","Eingabe prüfen",IF(D14="Nein","Regulär frei",IF(C14<>"","Feiertag",IF(OR(AND(A14=DATE(2027,12,24),$B$5="Ja"),AND(A14=DATE(2027,12,31),$E$5="Ja")),"Betrieblich frei","Arbeitstag")))) -> Arbeitstag | G14: =IF($K$4<>"gültig","Eingabe prüfen",IF(F14="",0,IF(UPPER(TRIM(F14))<>"U","Eingabe prüfen",IF(E14="Arbeitstag",1,0)))) -> 0
A15: 46393 | B15: Mittwoch | D15: =IF($K$4<>"gültig","Eingabe prüfen",INDEX($B$7:$H$7,1,WEEKDAY(A15,2))) -> Ja | E15: =IF($K$4<>"gültig","Eingabe prüfen",IF(D15="Nein","Regulär frei",IF(C15<>"","Feiertag",IF(OR(AND(A15=DATE(2027,12,24),$B$5="Ja"),AND(A15=DATE(2027,12,31),$E$5="Ja")),"Betrieblich frei","Arbeitstag")))) -> Arbeitstag | G15: =IF($K$4<>"gültig","Eingabe prüfen",IF(F15="",0,IF(UPPER(TRIM(F15))<>"U","Eingabe prüfen",IF(E15="Arbeitstag",1,0)))) -> 0
A16: 46394 | B16: Donnerstag | D16: =IF($K$4<>"gültig","Eingabe prüfen",INDEX($B$7:$H$7,1,WEEKDAY(A16,2))) -> Ja | E16: =IF($K$4<>"gültig","Eingabe prüfen",IF(D16="Nein","Regulär frei",IF(C16<>"","Feiertag",IF(OR(AND(A16=DATE(2027,12,24),$B$5="Ja"),AND(A16=DATE(2027,12,31),$E$5="Ja")),"Betrieblich frei","Arbeitstag")))) -> Arbeitstag | G16: =IF($K$4<>"gültig","Eingabe prüfen",IF(F16="",0,IF(UPPER(TRIM(F16))<>"U","Eingabe prüfen",IF(E16="Arbeitstag",1,0)))) -> 0
A17: 46395 | B17: Freitag | D17: =IF($K$4<>"gültig","Eingabe prüfen",INDEX($B$7:$H$7,1,WEEKDAY(A17,2))) -> Ja | E17: =IF($K$4<>"gültig","Eingabe prüfen",IF(D17="Nein","Regulär frei",IF(C17<>"","Feiertag",IF(OR(AND(A17=DATE(2027,12,24),$B$5="Ja"),AND(A17=DATE(2027,12,31),$E$5="Ja")),"Betrieblich frei","Arbeitstag")))) -> Arbeitstag | G17: =IF($K$4<>"gültig","Eingabe prüfen",IF(F17="",0,IF(UPPER(TRIM(F17))<>"U","Eingabe prüfen",IF(E17="Arbeitstag",1,0)))) -> 0
A18: 46396 | B18: Samstag | D18: =IF($K$4<>"gültig","Eingabe prüfen",INDEX($B$7:$H$7,1,WEEKDAY(A18,2))) -> Nein | E18: =IF($K$4<>"gültig","Eingabe prüfen",IF(D18="Nein","Regulär frei",IF(C18<>"","Feiertag",IF(OR(AND(A18=DATE(2027,12,24),$B$5="Ja"),AND(A18=DATE(2027,12,31),$E$5="Ja")),"Betrieblich frei","Arbeitstag")))) -> Regulär frei | G18: =IF($K$4<>"gültig","Eingabe prüfen",IF(F18="",0,IF(UPPER(TRIM(F18))<>"U","Eingabe prüfen",IF(E18="Arbeitstag",1,0)))) -> 0
A19: 46397 | B19: Sonntag | D19: =IF($K$4<>"gültig","Eingabe prüfen",INDEX($B$7:$H$7,1,WEEKDAY(A19,2))) -> Nein | E19: =IF($K$4<>"gültig","Eingabe prüfen",IF(D19="Nein","Regulär frei",IF(C19<>"","Feiertag",IF(OR(AND(A19=DATE(2027,12,24),$B$5="Ja"),AND(A19=DATE(2027,12,31),$E$5="Ja")),"Betrieblich frei","Arbeitstag")))) -> Regulär frei | G19: =IF($K$4<>"gültig","Eingabe prüfen",IF(F19="",0,IF(UPPER(TRIM(F19))<>"U","Eingabe prüfen",IF(E19="Arbeitstag",1,0)))) -> 0
A20: 46398 | B20: Montag | D20: =IF($K$4<>"gültig","Eingabe prüfen",INDEX($B$7:$H$7,1,WEEKDAY(A20,2))) -> Ja | E20: =IF($K$4<>"gültig","Eingabe prüfen",IF(D20="Nein","Regulär frei",IF(C20<>"","Feiertag",IF(OR(AND(A20=DATE(2027,12,24),$B$5="Ja"),AND(A20=DATE(2027,12,31),$E$5="Ja")),"Betrieblich frei","Arbeitstag")))) -> Arbeitstag | G20: =IF($K$4<>"gültig","Eingabe prüfen",IF(F20="",0,IF(UPPER(TRIM(F20))<>"U","Eingabe prüfen",IF(E20="Arbeitstag",1,0)))) -> 0
A21: 46399 | B21: Dienstag | D21: =IF($K$4<>"gültig","Eingabe prüfen",INDEX($B$7:$H$7,1,WEEKDAY(A21,2))) -> Ja | E21: =IF($K$4<>"gültig","Eingabe prüfen",IF(D21="Nein","Regulär frei",IF(C21<>"","Feiertag",IF(OR(AND(A21=DATE(2027,12,24),$B$5="Ja"),AND(A21=DATE(2027,12,31),$E$5="Ja")),"Betrieblich frei","Arbeitstag")))) -> Arbeitstag | G21: =IF($K$4<>"gültig","Eingabe prüfen",IF(F21="",0,IF(UPPER(TRIM(F21))<>"U","Eingabe prüfen",IF(E21="Arbeitstag",1,0)))) -> 0
A22: 46400 | B22: Mittwoch | D22: =IF($K$4<>"gültig","Eingabe prüfen",INDEX($B$7:$H$7,1,WEEKDAY(A22,2))) -> Ja | E22: =IF($K$4<>"gültig","Eingabe prüfen",IF(D22="Nein","Regulär frei",IF(C22<>"","Feiertag",IF(OR(AND(A22=DATE(2027,12,24),$B$5="Ja"),AND(A22=DATE(2027,12,31),$E$5="Ja")),"Betrieblich frei","Arbeitstag")))) -> Arbeitstag | G22: =IF($K$4<>"gültig","Eingabe prüfen",IF(F22="",0,IF(UPPER(TRIM(F22))<>"U","Eingabe prüfen",IF(E22="Arbeitstag",1,0)))) -> 0
... A93: 46471 | B93: Donnerstag | D93: =IF($K$4<>"gültig","Eingabe prüfen",INDEX($B$7:$H$7,1,WEEKDAY(A93,2))) -> Ja | E93: =IF($K$4<>"gültig","Eingabe prüfen",IF(D93="Nein","Regulär frei",IF(C93<>"","Feiertag",IF(OR(AND(A93=DATE(2027,12,24),$B$5="Ja"),AND(A93=DATE(2027,12,31),$E$5="Ja")),"Betrieblich frei","Arbeitstag")))) -> Arbeitstag | G93: =IF($K$4<>"gültig","Eingabe prüfen",IF(F93="",0,IF(UPPER(TRIM(F93))<>"U","Eingabe prüfen",IF(E93="Arbeitstag",1,0)))) -> 0
A94: 46472 | B94: Freitag | C94: Karfreitag | D94: =IF($K$4<>"gültig","Eingabe prüfen",INDEX($B$7:$H$7,1,WEEKDAY(A94,2))) -> Ja | E94: =IF($K$4<>"gültig","Eingabe prüfen",IF(D94="Nein","Regulär frei",IF(C94<>"","Feiertag",IF(OR(AND(A94=DATE(2027,12,24),$B$5="Ja"),AND(A94=DATE(2027,12,31),$E$5="Ja")),"Betrieblich frei","Arbeitstag")))) -> Feiertag | G94: =IF($K$4<>"gültig","Eingabe prüfen",IF(F94="",0,IF(UPPER(TRIM(F94))<>"U","Eingabe prüfen",IF(E94="Arbeitstag",1,0)))) -> 0
A95: 46473 | B95: Samstag | D95: =IF($K$4<>"gültig","Eingabe prüfen",INDEX($B$7:$H$7,1,WEEKDAY(A95,2))) -> Nein | E95: =IF($K$4<>"gültig","Eingabe prüfen",IF(D95="Nein","Regulär frei",IF(C95<>"","Feiertag",IF(OR(AND(A95=DATE(2027,12,24),$B$5="Ja"),AND(A95=DATE(2027,12,31),$E$5="Ja")),"Betrieblich frei","Arbeitstag")))) -> Regulär frei | G95: =IF($K$4<>"gültig","Eingabe prüfen",IF(F95="",0,IF(UPPER(TRIM(F95))<>"U","Eingabe prüfen",IF(E95="Arbeitstag",1,0)))) -> 0
A96: 46474 | B96: Sonntag | D96: =IF($K$4<>"gültig","Eingabe prüfen",INDEX($B$7:$H$7,1,WEEKDAY(A96,2))) -> Nein | E96: =IF($K$4<>"gültig","Eingabe prüfen",IF(D96="Nein","Regulär frei",IF(C96<>"","Feiertag",IF(OR(AND(A96=DATE(2027,12,24),$B$5="Ja"),AND(A96=DATE(2027,12,31),$E$5="Ja")),"Betrieblich frei","Arbeitstag")))) -> Regulär frei | G96: =IF($K$4<>"gültig","Eingabe prüfen",IF(F96="",0,IF(UPPER(TRIM(F96))<>"U","Eingabe prüfen",IF(E96="Arbeitstag",1,0)))) -> 0
A97: 46475 | B97: Montag | C97: Ostermontag | D97: =IF($K$4<>"gültig","Eingabe prüfen",INDEX($B$7:$H$7,1,WEEKDAY(A97,2))) -> Ja | E97: =IF($K$4<>"gültig","Eingabe prüfen",IF(D97="Nein","Regulär frei",IF(C97<>"","Feiertag",IF(OR(AND(A97=DATE(2027,12,24),$B$5="Ja"),AND(A97=DATE(2027,12,31),$E$5="Ja")),"Betrieblich frei","Arbeitstag")))) -> Feiertag | G97: =IF($K$4<>"gültig","Eingabe prüfen",IF(F97="",0,IF(UPPER(TRIM(F97))<>"U","Eingabe prüfen",IF(E97="Arbeitstag",1,0)))) -> 0
A98: 46476 | B98: Dienstag | D98: =IF($K$4<>"gültig","Eingabe prüfen",INDEX($B$7:$H$7,1,WEEKDAY(A98,2))) -> Ja | E98: =IF($K$4<>"gültig","Eingabe prüfen",IF(D98="Nein","Regulär frei",IF(C98<>"","Feiertag",IF(OR(AND(A98=DATE(2027,12,24),$B$5="Ja"),AND(A98=DATE(2027,12,31),$E$5="Ja")),"Betrieblich frei","Arbeitstag")))) -> Arbeitstag | G98: =IF($K$4<>"gültig","Eingabe prüfen",IF(F98="",0,IF(UPPER(TRIM(F98))<>"U","Eingabe prüfen",IF(E98="Arbeitstag",1,0)))) -> 0
A99: 46477 | B99: Mittwoch | D99: =IF($K$4<>"gültig","Eingabe prüfen",INDEX($B$7:$H$7,1,WEEKDAY(A99,2))) -> Ja | E99: =IF($K$4<>"gültig","Eingabe prüfen",IF(D99="Nein","Regulär frei",IF(C99<>"","Feiertag",IF(OR(AND(A99=DATE(2027,12,24),$B$5="Ja"),AND(A99=DATE(2027,12,31),$E$5="Ja")),"Betrieblich frei","Arbeitstag")))) -> Arbeitstag | G99: =IF($K$4<>"gültig","Eingabe prüfen",IF(F99="",0,IF(UPPER(TRIM(F99))<>"U","Eingabe prüfen",IF(E99="Arbeitstag",1,0)))) -> 0
A100: 46478 | B100: Donnerstag | D100: =IF($K$4<>"gültig","Eingabe prüfen",INDEX($B$7:$H$7,1,WEEKDAY(A100,2))) -> Ja | E100: =IF($K$4<>"gültig","Eingabe prüfen",IF(D100="Nein","Regulär frei",IF(C100<>"","Feiertag",IF(OR(AND(A100=DATE(2027,12,24),$B$5="Ja"),AND(A100=DATE(2027,12,31),$E$5="Ja")),"Betrieblich frei","Arbeitstag")))) -> Arbeitstag | G100: =IF($K$4<>"gültig","Eingabe prüfen",IF(F100="",0,IF(UPPER(TRIM(F100))<>"U","Eingabe prüfen",IF(E100="Arbeitstag",1,0)))) -> 0
A101: 46479 | B101: Freitag | D101: =IF($K$4<>"gültig","Eingabe prüfen",INDEX($B$7:$H$7,1,WEEKDAY(A101,2))) -> Ja | E101: =IF($K$4<>"gültig","Eingabe prüfen",IF(D101="Nein","Regulär frei",IF(C101<>"","Feiertag",IF(OR(AND(A101=DATE(2027,12,24),$B$5="Ja"),AND(A101=DATE(2027,12,31),$E$5="Ja")),"Betrieblich frei","Arbeitstag")))) -> Arbeitstag | G101: =IF($K$4<>"gültig","Eingabe prüfen",IF(F101="",0,IF(UPPER(TRIM(F101))<>"U","Eingabe prüfen",IF(E101="Arbeitstag",1,0)))) -> 0
A102: 46480 | B102: Samstag | D102: =IF($K$4<>"gültig","Eingabe prüfen",INDEX($B$7:$H$7,1,WEEKDAY(A102,2))) -> Nein | E102: =IF($K$4<>"gültig","Eingabe prüfen",IF(D102="Nein","Regulär frei",IF(C102<>"","Feiertag",IF(OR(AND(A102=DATE(2027,12,24),$B$5="Ja"),AND(A102=DATE(2027,12,31),$E$5="Ja")),"Betrieblich frei","Arbeitstag")))) -> Regulär frei | G102: =IF($K$4<>"gültig","Eingabe prüfen",IF(F102="",0,IF(UPPER(TRIM(F102))<>"U","Eingabe prüfen",IF(E102="Arbeitstag",1,0)))) -> 0
A103: 46481 | B103: Sonntag | D103: =IF($K$4<>"gültig","Eingabe prüfen",INDEX($B$7:$H$7,1,WEEKDAY(A103,2))) -> Nein | E103: =IF($K$4<>"gültig","Eingabe prüfen",IF(D103="Nein","Regulär frei",IF(C103<>"","Feiertag",IF(OR(AND(A103=DATE(2027,12,24),$B$5="Ja"),AND(A103=DATE(2027,12,31),$E$5="Ja")),"Betrieblich frei","Arbeitstag")))) -> Regulär frei | G103: =IF($K$4<>"gültig","Eingabe prüfen",IF(F103="",0,IF(UPPER(TRIM(F103))<>"U","Eingabe prüfen",IF(E103="Arbeitstag",1,0)))) -> 0
A104: 46482 | B104: Montag | D104: =IF($K$4<>"gültig","Eingabe prüfen",INDEX($B$7:$H$7,1,WEEKDAY(A104,2))) -> Ja | E104: =IF($K$4<>"gültig","Eingabe prüfen",IF(D104="Nein","Regulär frei",IF(C104<>"","Feiertag",IF(OR(AND(A104=DATE(2027,12,24),$B$5="Ja"),AND(A104=DATE(2027,12,31),$E$5="Ja")),"Betrieblich frei","Arbeitstag")))) -> Arbeitstag | G104: =IF($K$4<>"gültig","Eingabe prüfen",IF(F104="",0,IF(UPPER(TRIM(F104))<>"U","Eingabe prüfen",IF(E104="Arbeitstag",1,0)))) -> 0
A105: 46483 | B105: Dienstag | D105: =IF($K$4<>"gültig","Eingabe prüfen",INDEX($B$7:$H$7,1,WEEKDAY(A105,2))) -> Ja | E105: =IF($K$4<>"gültig","Eingabe prüfen",IF(D105="Nein","Regulär frei",IF(C105<>"","Feiertag",IF(OR(AND(A105=DATE(2027,12,24),$B$5="Ja"),AND(A105=DATE(2027,12,31),$E$5="Ja")),"Betrieblich frei","Arbeitstag")))) -> Arbeitstag | G105: =IF($K$4<>"gültig","Eingabe prüfen",IF(F105="",0,IF(UPPER(TRIM(F105))<>"U","Eingabe prüfen",IF(E105="Arbeitstag",1,0)))) -> 0
A106: 46484 | B106: Mittwoch | D106: =IF($K$4<>"gültig","Eingabe prüfen",INDEX($B$7:$H$7,1,WEEKDAY(A106,2))) -> Ja | E106: =IF($K$4<>"gültig","Eingabe prüfen",IF(D106="Nein","Regulär frei",IF(C106<>"","Feiertag",IF(OR(AND(A106=DATE(2027,12,24),$B$5="Ja"),AND(A106=DATE(2027,12,31),$E$5="Ja")),"Betrieblich frei","Arbeitstag")))) -> Arbeitstag | G106: =IF($K$4<>"gültig","Eingabe prüfen",IF(F106="",0,IF(UPPER(TRIM(F106))<>"U","Eingabe prüfen",IF(E106="Arbeitstag",1,0)))) -> 0
A107: 46485 | B107: Donnerstag | D107: =IF($K$4<>"gültig","Eingabe prüfen",INDEX($B$7:$H$7,1,WEEKDAY(A107,2))) -> Ja | E107: =IF($K$4<>"gültig","Eingabe prüfen",IF(D107="Nein","Regulär frei",IF(C107<>"","Feiertag",IF(OR(AND(A107=DATE(2027,12,24),$B$5="Ja"),AND(A107=DATE(2027,12,31),$E$5="Ja")),"Betrieblich frei","Arbeitstag")))) -> Arbeitstag | G107: =IF($K$4<>"gültig","Eingabe prüfen",IF(F107="",0,IF(UPPER(TRIM(F107))<>"U","Eingabe prüfen",IF(E107="Arbeitstag",1,0)))) -> 0
A108: 46486 | B108: Freitag | D108: =IF($K$4<>"gültig","Eingabe prüfen",INDEX($B$7:$H$7,1,WEEKDAY(A108,2))) -> Ja | E108: =IF($K$4<>"gültig","Eingabe prüfen",IF(D108="Nein","Regulär frei",IF(C108<>"","Feiertag",IF(OR(AND(A108=DATE(2027,12,24),$B$5="Ja"),AND(A108=DATE(2027,12,31),$E$5="Ja")),"Betrieblich frei","Arbeitstag")))) -> Arbeitstag | G108: =IF($K$4<>"gültig","Eingabe prüfen",IF(F108="",0,IF(UPPER(TRIM(F108))<>"U","Eingabe prüfen",IF(E108="Arbeitstag",1,0)))) -> 0
A109: 46487 | B109: Samstag | D109: =IF($K$4<>"gültig","Eingabe prüfen",INDEX($B$7:$H$7,1,WEEKDAY(A109,2))) -> Nein | E109: =IF($K$4<>"gültig","Eingabe prüfen",IF(D109="Nein","Regulär frei",IF(C109<>"","Feiertag",IF(OR(AND(A109=DATE(2027,12,24),$B$5="Ja"),AND(A109=DATE(2027,12,31),$E$5="Ja")),"Betrieblich frei","Arbeitstag")))) -> Regulär frei | G109: =IF($K$4<>"gültig","Eingabe prüfen",IF(F109="",0,IF(UPPER(TRIM(F109))<>"U","Eingabe prüfen",IF(E109="Arbeitstag",1,0)))) -> 0
... A129: 46507 | B129: Freitag | D129: =IF($K$4<>"gültig","Eingabe prüfen",INDEX($B$7:$H$7,1,WEEKDAY(A129,2))) -> Ja | E129: =IF($K$4<>"gültig","Eingabe prüfen",IF(D129="Nein","Regulär frei",IF(C129<>"","Feiertag",IF(OR(AND(A129=DATE(2027,12,24),$B$5="Ja"),AND(A129=DATE(2027,12,31),$E$5="Ja")),"Betrieblich frei","Arbeitstag")))) -> Arbeitstag | G129: =IF($K$4<>"gültig","Eingabe prüfen",IF(F129="",0,IF(UPPER(TRIM(F129))<>"U","Eingabe prüfen",IF(E129="Arbeitstag",1,0)))) -> 0
A130: 46508 | B130: Samstag | C130: Tag der Arbeit | D130: =IF($K$4<>"gültig","Eingabe prüfen",INDEX($B$7:$H$7,1,WEEKDAY(A130,2))) -> Nein | E130: =IF($K$4<>"gültig","Eingabe prüfen",IF(D130="Nein","Regulär frei",IF(C130<>"","Feiertag",IF(OR(AND(A130=DATE(2027,12,24),$B$5="Ja"),AND(A130=DATE(2027,12,31),$E$5="Ja")),"Betrieblich frei","Arbeitstag")))) -> Regulär frei | G130: =IF($K$4<>"gültig","Eingabe prüfen",IF(F130="",0,IF(UPPER(TRIM(F130))<>"U","Eingabe prüfen",IF(E130="Arbeitstag",1,0)))) -> 0
A131: 46509 | B131: Sonntag | D131: =IF($K$4<>"gültig","Eingabe prüfen",INDEX($B$7:$H$7,1,WEEKDAY(A131,2))) -> Nein | E131: =IF($K$4<>"gültig","Eingabe prüfen",IF(D131="Nein","Regulär frei",IF(C131<>"","Feiertag",IF(OR(AND(A131=DATE(2027,12,24),$B$5="Ja"),AND(A131=DATE(2027,12,31),$E$5="Ja")),"Betrieblich frei","Arbeitstag")))) -> Regulär frei | G131: =IF($K$4<>"gültig","Eingabe prüfen",IF(F131="",0,IF(UPPER(TRIM(F131))<>"U","Eingabe prüfen",IF(E131="Arbeitstag",1,0)))) -> 0
...

Sheet Jahresübersicht
A2: Urlaubsplaner 2027: Bremen
A4: Einträge auf Plan. | I4: Verplant | L4: =Plan!E4 -> 0 | Q4: Übrig | T4: =Plan!H4 -> 30
A6: U: Urlaubstag. F: gesetzlicher Feiertag. frei: regulär oder betrieblich frei.
A8: Januar | I8: Februar | Q8: März
A9: Mo | B9: Di | C9: Mi | D9: Do | E9: Fr | F9: Sa | G9: So | I9: Mo | J9: Di | K9: Mi | L9: Do | M9: Fr | N9: Sa | O9: So | Q9: Mo | R9: Di | S9: Mi | T9: Do | U9: Fr | V9: Sa | W9: So
E10: 46388 | F10: 46389 | G10: 46390 | I10: 46419 | J10: 46420 | K10: 46421 | L10: 46422 | M10: 46423 | N10: 46424 | O10: 46425 | Q10: 46447 | R10: 46448 | S10: 46449 | T10: 46450 | U10: 46451 | V10: 46452 | W10: 46453
E11: =IF(INDEX(Plan!$G$10:$G$374,MATCH(E10,Plan!$A$10:$A$374,0))="Eingabe prüfen","?",IF(INDEX(Plan!$G$10:$G$374,MATCH(E10,Plan!$A$10:$A$374,0))=1,"U",IF(INDEX(Plan!$C$10:$C$374,MATCH(E10,Plan!$A$10:$A$374,0))<>"","F",IF(INDEX(Plan!$E$10:$E$374,MATCH(E10,Plan!$A$10:$A$374,0))="Arbeitstag","","frei")))) -> F | F11: =IF(INDEX(Plan!$G$10:$G$374,MATCH(F10,Plan!$A$10:$A$374,0))="Eingabe prüfen","?",IF(INDEX(Plan!$G$10:$G$374,MATCH(F10,Plan!$A$10:$A$374,0))=1,"U",IF(INDEX(Plan!$C$10:$C$374,MATCH(F10,Plan!$A$10:$A$374,0))<>"","F",IF(INDEX(Plan!$E$10:$E$374,MATCH(F10,Plan!$A$10:$A$374,0))="Arbeitstag","","frei")))) -> frei | G11: =IF(INDEX(Plan!$G$10:$G$374,MATCH(G10,Plan!$A$10:$A$374,0))="Eingabe prüfen","?",IF(INDEX(Plan!$G$10:$G$374,MATCH(G10,Plan!$A$10:$A$374,0))=1,"U",IF(INDEX(Plan!$C$10:$C$374,MATCH(G10,Plan!$A$10:$A$374,0))<>"","F",IF(INDEX(Plan!$E$10:$E$374,MATCH(G10,Plan!$A$10:$A$374,0))="Arbeitstag","","frei")))) -> frei | I11: =IF(INDEX(Plan!$G$10:$G$374,MATCH(I10,Plan!$A$10:$A$374,0))="Eingabe prüfen","?",IF(INDEX(Plan!$G$10:$G$374,MATCH(I10,Plan!$A$10:$A$374,0))=1,"U",IF(INDEX(Plan!$C$10:$C$374,MATCH(I10,Plan!$A$10:$A$374,0))<>"","F",IF(INDEX(Plan!$E$10:$E$374,MATCH(I10,Plan!$A$10:$A$374,0))="Arbeitstag","","frei")))) | J11: =IF(INDEX(Plan!$G$10:$G$374,MATCH(J10,Plan!$A$10:$A$374,0))="Eingabe prüfen","?",IF(INDEX(Plan!$G$10:$G$374,MATCH(J10,Plan!$A$10:$A$374,0))=1,"U",IF(INDEX(Plan!$C$10:$C$374,MATCH(J10,Plan!$A$10:$A$374,0))<>"","F",IF(INDEX(Plan!$E$10:$E$374,MATCH(J10,Plan!$A$10:$A$374,0))="Arbeitstag","","frei")))) | K11: =IF(INDEX(Plan!$G$10:$G$374,MATCH(K10,Plan!$A$10:$A$374,0))="Eingabe prüfen","?",IF(INDEX(Plan!$G$10:$G$374,MATCH(K10,Plan!$A$10:$A$374,0))=1,"U",IF(INDEX(Plan!$C$10:$C$374,MATCH(K10,Plan!$A$10:$A$374,0))<>"","F",IF(INDEX(Plan!$E$10:$E$374,MATCH(K10,Plan!$A$10:$A$374,0))="Arbeitstag","","frei")))) | L11: =IF(INDEX(Plan!$G$10:$G$374,MATCH(L10,Plan!$A$10:$A$374,0))="Eingabe prüfen","?",IF(INDEX(Plan!$G$10:$G$374,MATCH(L10,Plan!$A$10:$A$374,0))=1,"U",IF(INDEX(Plan!$C$10:$C$374,MATCH(L10,Plan!$A$10:$A$374,0))<>"","F",IF(INDEX(Plan!$E$10:$E$374,MATCH(L10,Plan!$A$10:$A$374,0))="Arbeitstag","","frei")))) | M11: =IF(INDEX(Plan!$G$10:$G$374,MATCH(M10,Plan!$A$10:$A$374,0))="Eingabe prüfen","?",IF(INDEX(Plan!$G$10:$G$374,MATCH(M10,Plan!$A$10:$A$374,0))=1,"U",IF(INDEX(Plan!$C$10:$C$374,MATCH(M10,Plan!$A$10:$A$374,0))<>"","F",IF(INDEX(Plan!$E$10:$E$374,MATCH(M10,Plan!$A$10:$A$374,0))="Arbeitstag","","frei")))) | N11: =IF(INDEX(Plan!$G$10:$G$374,MATCH(N10,Plan!$A$10:$A$374,0))="Eingabe prüfen","?",IF(INDEX(Plan!$G$10:$G$374,MATCH(N10,Plan!$A$10:$A$374,0))=1,"U",IF(INDEX(Plan!$C$10:$C$374,MATCH(N10,Plan!$A$10:$A$374,0))<>"","F",IF(INDEX(Plan!$E$10:$E$374,MATCH(N10,Plan!$A$10:$A$374,0))="Arbeitstag","","frei")))) -> frei | O11: =IF(INDEX(Plan!$G$10:$G$374,MATCH(O10,Plan!$A$10:$A$374,0))="Eingabe prüfen","?",IF(INDEX(Plan!$G$10:$G$374,MATCH(O10,Plan!$A$10:$A$374,0))=1,"U",IF(INDEX(Plan!$C$10:$C$374,MATCH(O10,Plan!$A$10:$A$374,0))<>"","F",IF(INDEX(Plan!$E$10:$E$374,MATCH(O10,Plan!$A$10:$A$374,0))="Arbeitstag","","frei")))) -> frei | Q11: =IF(INDEX(Plan!$G$10:$G$374,MATCH(Q10,Plan!$A$10:$A$374,0))="Eingabe prüfen","?",IF(INDEX(Plan!$G$10:$G$374,MATCH(Q10,Plan!$A$10:$A$374,0))=1,"U",IF(INDEX(Plan!$C$10:$C$374,MATCH(Q10,Plan!$A$10:$A$374,0))<>"","F",IF(INDEX(Plan!$E$10:$E$374,MATCH(Q10,Plan!$A$10:$A$374,0))="Arbeitstag","","frei")))) | R11: =IF(INDEX(Plan!$G$10:$G$374,MATCH(R10,Plan!$A$10:$A$374,0))="Eingabe prüfen","?",IF(INDEX(Plan!$G$10:$G$374,MATCH(R10,Plan!$A$10:$A$374,0))=1,"U",IF(INDEX(Plan!$C$10:$C$374,MATCH(R10,Plan!$A$10:$A$374,0))<>"","F",IF(INDEX(Plan!$E$10:$E$374,MATCH(R10,Plan!$A$10:$A$374,0))="Arbeitstag","","frei")))) | S11: =IF(INDEX(Plan!$G$10:$G$374,MATCH(S10,Plan!$A$10:$A$374,0))="Eingabe prüfen","?",IF(INDEX(Plan!$G$10:$G$374,MATCH(S10,Plan!$A$10:$A$374,0))=1,"U",IF(INDEX(Plan!$C$10:$C$374,MATCH(S10,Plan!$A$10:$A$374,0))<>"","F",IF(INDEX(Plan!$E$10:$E$374,MATCH(S10,Plan!$A$10:$A$374,0))="Arbeitstag","","frei")))) | T11: =IF(INDEX(Plan!$G$10:$G$374,MATCH(T10,Plan!$A$10:$A$374,0))="Eingabe prüfen","?",IF(INDEX(Plan!$G$10:$G$374,MATCH(T10,Plan!$A$10:$A$374,0))=1,"U",IF(INDEX(Plan!$C$10:$C$374,MATCH(T10,Plan!$A$10:$A$374,0))<>"","F",IF(INDEX(Plan!$E$10:$E$374,MATCH(T10,Plan!$A$10:$A$374,0))="Arbeitstag","","frei")))) | U11: =IF(INDEX(Plan!$G$10:$G$374,MATCH(U10,Plan!$A$10:$A$374,0))="Eingabe prüfen","?",IF(INDEX(Plan!$G$10:$G$374,MATCH(U10,Plan!$A$10:$A$374,0))=1,"U",IF(INDEX(Plan!$C$10:$C$374,MATCH(U10,Plan!$A$10:$A$374,0))<>"","F",IF(INDEX(Plan!$E$10:$E$374,MATCH(U10,Plan!$A$10:$A$374,0))="Arbeitstag","","frei")))) | V11: =IF(INDEX(Plan!$G$10:$G$374,MATCH(V10,Plan!$A$10:$A$374,0))="Eingabe prüfen","?",IF(INDEX(Plan!$G$10:$G$374,MATCH(V10,Plan!$A$10:$A$374,0))=1,"U",IF(INDEX(Plan!$C$10:$C$374,MATCH(V10,Plan!$A$10:$A$374,0))<>"","F",IF(INDEX(Plan!$E$10:$E$374,MATCH(V10,Plan!$A$10:$A$374,0))="Arbeitstag","","frei")))) -> frei | W11: =IF(INDEX(Plan!$G$10:$G$374,MATCH(W10,Plan!$A$10:$A$374,0))="Eingabe prüfen","?",IF(INDEX(Plan!$G$10:$G$374,MATCH(W10,Plan!$A$10:$A$374,0))=1,"U",IF(INDEX(Plan!$C$10:$C$374,MATCH(W10,Plan!$A$10:$A$374,0))<>"","F",IF(INDEX(Plan!$E$10:$E$374,MATCH(W10,Plan!$A$10:$A$374,0))="Arbeitstag","","frei")))) -> frei
A12: 46391 | B12: 46392 | C12: 46393 | D12: 46394 | E12: 46395 | F12: 46396 | G12: 46397 | I12: 46426 | J12: 46427 | K12: 46428 | L12: 46429 | M12: 46430 | N12: 46431 | O12: 46432 | Q12: 46454 | R12: 46455 | S12: 46456 | T12: 46457 | U12: 46458 | V12: 46459 | W12: 46460
A13: =IF(INDEX(Plan!$G$10:$G$374,MATCH(A12,Plan!$A$10:$A$374,0))="Eingabe prüfen","?",IF(INDEX(Plan!$G$10:$G$374,MATCH(A12,Plan!$A$10:$A$374,0))=1,"U",IF(INDEX(Plan!$C$10:$C$374,MATCH(A12,Plan!$A$10:$A$374,0))<>"","F",IF(INDEX(Plan!$E$10:$E$374,MATCH(A12,Plan!$A$10:$A$374,0))="Arbeitstag","","frei")))) | B13: =IF(INDEX(Plan!$G$10:$G$374,MATCH(B12,Plan!$A$10:$A$374,0))="Eingabe prüfen","?",IF(INDEX(Plan!$G$10:$G$374,MATCH(B12,Plan!$A$10:$A$374,0))=1,"U",IF(INDEX(Plan!$C$10:$C$374,MATCH(B12,Plan!$A$10:$A$374,0))<>"","F",IF(INDEX(Plan!$E$10:$E$374,MATCH(B12,Plan!$A$10:$A$374,0))="Arbeitstag","","frei")))) | C13: =IF(INDEX(Plan!$G$10:$G$374,MATCH(C12,Plan!$A$10:$A$374,0))="Eingabe prüfen","?",IF(INDEX(Plan!$G$10:$G$374,MATCH(C12,Plan!$A$10:$A$374,0))=1,"U",IF(INDEX(Plan!$C$10:$C$374,MATCH(C12,Plan!$A$10:$A$374,0))<>"","F",IF(INDEX(Plan!$E$10:$E$374,MATCH(C12,Plan!$A$10:$A$374,0))="Arbeitstag","","frei")))) | D13: =IF(INDEX(Plan!$G$10:$G$374,MATCH(D12,Plan!$A$10:$A$374,0))="Eingabe prüfen","?",IF(INDEX(Plan!$G$10:$G$374,MATCH(D12,Plan!$A$10:$A$374,0))=1,"U",IF(INDEX(Plan!$C$10:$C$374,MATCH(D12,Plan!$A$10:$A$374,0))<>"","F",IF(INDEX(Plan!$E$10:$E$374,MATCH(D12,Plan!$A$10:$A$374,0))="Arbeitstag","","frei")))) | E13: =IF(INDEX(Plan!$G$10:$G$374,MATCH(E12,Plan!$A$10:$A$374,0))="Eingabe prüfen","?",IF(INDEX(Plan!$G$10:$G$374,MATCH(E12,Plan!$A$10:$A$374,0))=1,"U",IF(INDEX(Plan!$C$10:$C$374,MATCH(E12,Plan!$A$10:$A$374,0))<>"","F",IF(INDEX(Plan!$E$10:$E$374,MATCH(E12,Plan!$A$10:$A$374,0))="Arbeitstag","","frei")))) | F13: =IF(INDEX(Plan!$G$10:$G$374,MATCH(F12,Plan!$A$10:$A$374,0))="Eingabe prüfen","?",IF(INDEX(Plan!$G$10:$G$374,MATCH(F12,Plan!$A$10:$A$374,0))=1,"U",IF(INDEX(Plan!$C$10:$C$374,MATCH(F12,Plan!$A$10:$A$374,0))<>"","F",IF(INDEX(Plan!$E$10:$E$374,MATCH(F12,Plan!$A$10:$A$374,0))="Arbeitstag","","frei")))) -> frei | G13: =IF(INDEX(Plan!$G$10:$G$374,MATCH(G12,Plan!$A$10:$A$374,0))="Eingabe prüfen","?",IF(INDEX(Plan!$G$10:$G$374,MATCH(G12,Plan!$A$10:$A$374,0))=1,"U",IF(INDEX(Plan!$C$10:$C$374,MATCH(G12,Plan!$A$10:$A$374,0))<>"","F",IF(INDEX(Plan!$E$10:$E$374,MATCH(G12,Plan!$A$10:$A$374,0))="Arbeitstag","","frei")))) -> frei | I13: =IF(INDEX(Plan!$G$10:$G$374,MATCH(I12,Plan!$A$10:$A$374,0))="Eingabe prüfen","?",IF(INDEX(Plan!$G$10:$G$374,MATCH(I12,Plan!$A$10:$A$374,0))=1,"U",IF(INDEX(Plan!$C$10:$C$374,MATCH(I12,Plan!$A$10:$A$374,0))<>"","F",IF(INDEX(Plan!$E$10:$E$374,MATCH(I12,Plan!$A$10:$A$374,0))="Arbeitstag","","frei")))) | J13: =IF(INDEX(Plan!$G$10:$G$374,MATCH(J12,Plan!$A$10:$A$374,0))="Eingabe prüfen","?",IF(INDEX(Plan!$G$10:$G$374,MATCH(J12,Plan!$A$10:$A$374,0))=1,"U",IF(INDEX(Plan!$C$10:$C$374,MATCH(J12,Plan!$A$10:$A$374,0))<>"","F",IF(INDEX(Plan!$E$10:$E$374,MATCH(J12,Plan!$A$10:$A$374,0))="Arbeitstag","","frei")))) | K13: =IF(INDEX(Plan!$G$10:$G$374,MATCH(K12,Plan!$A$10:$A$374,0))="Eingabe prüfen","?",IF(INDEX(Plan!$G$10:$G$374,MATCH(K12,Plan!$A$10:$A$374,0))=1,"U",IF(INDEX(Plan!$C$10:$C$374,MATCH(K12,Plan!$A$10:$A$374,0))<>"","F",IF(INDEX(Plan!$E$10:$E$374,MATCH(K12,Plan!$A$10:$A$374,0))="Arbeitstag","","frei")))) | L13: =IF(INDEX(Plan!$G$10:$G$374,MATCH(L12,Plan!$A$10:$A$374,0))="Eingabe prüfen","?",IF(INDEX(Plan!$G$10:$G$374,MATCH(L12,Plan!$A$10:$A$374,0))=1,"U",IF(INDEX(Plan!$C$10:$C$374,MATCH(L12,Plan!$A$10:$A$374,0))<>"","F",IF(INDEX(Plan!$E$10:$E$374,MATCH(L12,Plan!$A$10:$A$374,0))="Arbeitstag","","frei")))) | M13: =IF(INDEX(Plan!$G$10:$G$374,MATCH(M12,Plan!$A$10:$A$374,0))="Eingabe prüfen","?",IF(INDEX(Plan!$G$10:$G$374,MATCH(M12,Plan!$A$10:$A$374,0))=1,"U",IF(INDEX(Plan!$C$10:$C$374,MATCH(M12,Plan!$A$10:$A$374,0))<>"","F",IF(INDEX(Plan!$E$10:$E$374,MATCH(M12,Plan!$A$10:$A$374,0))="Arbeitstag","","frei")))) | N13: =IF(INDEX(Plan!$G$10:$G$374,MATCH(N12,Plan!$A$10:$A$374,0))="Eingabe prüfen","?",IF(INDEX(Plan!$G$10:$G$374,MATCH(N12,Plan!$A$10:$A$374,0))=1,"U",IF(INDEX(Plan!$C$10:$C$374,MATCH(N12,Plan!$A$10:$A$374,0))<>"","F",IF(INDEX(Plan!$E$10:$E$374,MATCH(N12,Plan!$A$10:$A$374,0))="Arbeitstag","","frei")))) -> frei | O13: =IF(INDEX(Plan!$G$10:$G$374,MATCH(O12,Plan!$A$10:$A$374,0))="Eingabe prüfen","?",IF(INDEX(Plan!$G$10:$G$374,MATCH(O12,Plan!$A$10:$A$374,0))=1,"U",IF(INDEX(Plan!$C$10:$C$374,MATCH(O12,Plan!$A$10:$A$374,0))<>"","F",IF(INDEX(Plan!$E$10:$E$374,MATCH(O12,Plan!$A$10:$A$374,0))="Arbeitstag","","frei")))) -> frei | Q13: =IF(INDEX(Plan!$G$10:$G$374,MATCH(Q12,Plan!$A$10:$A$374,0))="Eingabe prüfen","?",IF(INDEX(Plan!$G$10:$G$374,MATCH(Q12,Plan!$A$10:$A$374,0))=1,"U",IF(INDEX(Plan!$C$10:$C$374,MATCH(Q12,Plan!$A$10:$A$374,0))<>"","F",IF(INDEX(Plan!$E$10:$E$374,MATCH(Q12,Plan!$A$10:$A$374,0))="Arbeitstag","","frei")))) | R13: =IF(INDEX(Plan!$G$10:$G$374,MATCH(R12,Plan!$A$10:$A$374,0))="Eingabe prüfen","?",IF(INDEX(Plan!$G$10:$G$374,MATCH(R12,Plan!$A$10:$A$374,0))=1,"U",IF(INDEX(Plan!$C$10:$C$374,MATCH(R12,Plan!$A$10:$A$374,0))<>"","F",IF(INDEX(Plan!$E$10:$E$374,MATCH(R12,Plan!$A$10:$A$374,0))="Arbeitstag","","frei")))) | S13: =IF(INDEX(Plan!$G$10:$G$374,MATCH(S12,Plan!$A$10:$A$374,0))="Eingabe prüfen","?",IF(INDEX(Plan!$G$10:$G$374,MATCH(S12,Plan!$A$10:$A$374,0))=1,"U",IF(INDEX(Plan!$C$10:$C$374,MATCH(S12,Plan!$A$10:$A$374,0))<>"","F",IF(INDEX(Plan!$E$10:$E$374,MATCH(S12,Plan!$A$10:$A$374,0))="Arbeitstag","","frei")))) | T13: =IF(INDEX(Plan!$G$10:$G$374,MATCH(T12,Plan!$A$10:$A$374,0))="Eingabe prüfen","?",IF(INDEX(Plan!$G$10:$G$374,MATCH(T12,Plan!$A$10:$A$374,0))=1,"U",IF(INDEX(Plan!$C$10:$C$374,MATCH(T12,Plan!$A$10:$A$374,0))<>"","F",IF(INDEX(Plan!$E$10:$E$374,MATCH(T12,Plan!$A$10:$A$374,0))="Arbeitstag","","frei")))) | U13: =IF(INDEX(Plan!$G$10:$G$374,MATCH(U12,Plan!$A$10:$A$374,0))="Eingabe prüfen","?",IF(INDEX(Plan!$G$10:$G$374,MATCH(U12,Plan!$A$10:$A$374,0))=1,"U",IF(INDEX(Plan!$C$10:$C$374,MATCH(U12,Plan!$A$10:$A$374,0))<>"","F",IF(INDEX(Plan!$E$10:$E$374,MATCH(U12,Plan!$A$10:$A$374,0))="Arbeitstag","","frei")))) | V13: =IF(INDEX(Plan!$G$10:$G$374,MATCH(V12,Plan!$A$10:$A$374,0))="Eingabe prüfen","?",IF(INDEX(Plan!$G$10:$G$374,MATCH(V12,Plan!$A$10:$A$374,0))=1,"U",IF(INDEX(Plan!$C$10:$C$374,MATCH(V12,Plan!$A$10:$A$374,0))<>"","F",IF(INDEX(Plan!$E$10:$E$374,MATCH(V12,Plan!$A$10:$A$374,0))="Arbeitstag","","frei")))) -> frei | W13: =IF(INDEX(Plan!$G$10:$G$374,MATCH(W12,Plan!$A$10:$A$374,0))="Eingabe prüfen","?",IF(INDEX(Plan!$G$10:$G$374,MATCH(W12,Plan!$A$10:$A$374,0))=1,"U",IF(INDEX(Plan!$C$10:$C$374,MATCH(W12,Plan!$A$10:$A$374,0))<>"","F",IF(INDEX(Plan!$E$10:$E$374,MATCH(W12,Plan!$A$10:$A$374,0))="Arbeitstag","","frei")))) -> frei
A14: 46398 | B14: 46399 | C14: 46400 | D14: 46401 | E14: 46402 | F14: 46403 | G14: 46404 | I14: 46433 | J14: 46434 | K14: 46435 | L14: 46436 | M14: 46437 | N14: 46438 | O14: 46439 | Q14: 46461 | R14: 46462 | S14: 46463 | T14: 46464 | U14: 46465 | V14: 46466 | W14: 46467
A15: =IF(INDEX(Plan!$G$10:$G$374,MATCH(A14,Plan!$A$10:$A$374,0))="Eingabe prüfen","?",IF(INDEX(Plan!$G$10:$G$374,MATCH(A14,Plan!$A$10:$A$374,0))=1,"U",IF(INDEX(Plan!$C$10:$C$374,MATCH(A14,Plan!$A$10:$A$374,0))<>"","F",IF(INDEX(Plan!$E$10:$E$374,MATCH(A14,Plan!$A$10:$A$374,0))="Arbeitstag","","frei")))) | B15: =IF(INDEX(Plan!$G$10:$G$374,MATCH(B14,Plan!$A$10:$A$374,0))="Eingabe prüfen","?",IF(INDEX(Plan!$G$10:$G$374,MATCH(B14,Plan!$A$10:$A$374,0))=1,"U",IF(INDEX(Plan!$C$10:$C$374,MATCH(B14,Plan!$A$10:$A$374,0))<>"","F",IF(INDEX(Plan!$E$10:$E$374,MATCH(B14,Plan!$A$10:$A$374,0))="Arbeitstag","","frei")))) | C15: =IF(INDEX(Plan!$G$10:$G$374,MATCH(C14,Plan!$A$10:$A$374,0))="Eingabe prüfen","?",IF(INDEX(Plan!$G$10:$G$374,MATCH(C14,Plan!$A$10:$A$374,0))=1,"U",IF(INDEX(Plan!$C$10:$C$374,MATCH(C14,Plan!$A$10:$A$374,0))<>"","F",IF(INDEX(Plan!$E$10:$E$374,MATCH(C14,Plan!$A$10:$A$374,0))="Arbeitstag","","frei")))) | D15: =IF(INDEX(Plan!$G$10:$G$374,MATCH(D14,Plan!$A$10:$A$374,0))="Eingabe prüfen","?",IF(INDEX(Plan!$G$10:$G$374,MATCH(D14,Plan!$A$10:$A$374,0))=1,"U",IF(INDEX(Plan!$C$10:$C$374,MATCH(D14,Plan!$A$10:$A$374,0))<>"","F",IF(INDEX(Plan!$E$10:$E$374,MATCH(D14,Plan!$A$10:$A$374,0))="Arbeitstag","","frei")))) | E15: =IF(INDEX(Plan!$G$10:$G$374,MATCH(E14,Plan!$A$10:$A$374,0))="Eingabe prüfen","?",IF(INDEX(Plan!$G$10:$G$374,MATCH(E14,Plan!$A$10:$A$374,0))=1,"U",IF(INDEX(Plan!$C$10:$C$374,MATCH(E14,Plan!$A$10:$A$374,0))<>"","F",IF(INDEX(Plan!$E$10:$E$374,MATCH(E14,Plan!$A$10:$A$374,0))="Arbeitstag","","frei")))) | F15: =IF(INDEX(Plan!$G$10:$G$374,MATCH(F14,Plan!$A$10:$A$374,0))="Eingabe prüfen","?",IF(INDEX(Plan!$G$10:$G$374,MATCH(F14,Plan!$A$10:$A$374,0))=1,"U",IF(INDEX(Plan!$C$10:$C$374,MATCH(F14,Plan!$A$10:$A$374,0))<>"","F",IF(INDEX(Plan!$E$10:$E$374,MATCH(F14,Plan!$A$10:$A$374,0))="Arbeitstag","","frei")))) -> frei | G15: =IF(INDEX(Plan!$G$10:$G$374,MATCH(G14,Plan!$A$10:$A$374,0))="Eingabe prüfen","?",IF(INDEX(Plan!$G$10:$G$374,MATCH(G14,Plan!$A$10:$A$374,0))=1,"U",IF(INDEX(Plan!$C$10:$C$374,MATCH(G14,Plan!$A$10:$A$374,0))<>"","F",IF(INDEX(Plan!$E$10:$E$374,MATCH(G14,Plan!$A$10:$A$374,0))="Arbeitstag","","frei")))) -> frei | I15: =IF(INDEX(Plan!$G$10:$G$374,MATCH(I14,Plan!$A$10:$A$374,0))="Eingabe prüfen","?",IF(INDEX(Plan!$G$10:$G$374,MATCH(I14,Plan!$A$10:$A$374,0))=1,"U",IF(INDEX(Plan!$C$10:$C$374,MATCH(I14,Plan!$A$10:$A$374,0))<>"","F",IF(INDEX(Plan!$E$10:$E$374,MATCH(I14,Plan!$A$10:$A$374,0))="Arbeitstag","","frei")))) | J15: =IF(INDEX(Plan!$G$10:$G$374,MATCH(J14,Plan!$A$10:$A$374,0))="Eingabe prüfen","?",IF(INDEX(Plan!$G$10:$G$374,MATCH(J14,Plan!$A$10:$A$374,0))=1,"U",IF(INDEX(Plan!$C$10:$C$374,MATCH(J14,Plan!$A$10:$A$374,0))<>"","F",IF(INDEX(Plan!$E$10:$E$374,MATCH(J14,Plan!$A$10:$A$374,0))="Arbeitstag","","frei")))) | K15: =IF(INDEX(Plan!$G$10:$G$374,MATCH(K14,Plan!$A$10:$A$374,0))="Eingabe prüfen","?",IF(INDEX(Plan!$G$10:$G$374,MATCH(K14,Plan!$A$10:$A$374,0))=1,"U",IF(INDEX(Plan!$C$10:$C$374,MATCH(K14,Plan!$A$10:$A$374,0))<>"","F",IF(INDEX(Plan!$E$10:$E$374,MATCH(K14,Plan!$A$10:$A$374,0))="Arbeitstag","","frei")))) | L15: =IF(INDEX(Plan!$G$10:$G$374,MATCH(L14,Plan!$A$10:$A$374,0))="Eingabe prüfen","?",IF(INDEX(Plan!$G$10:$G$374,MATCH(L14,Plan!$A$10:$A$374,0))=1,"U",IF(INDEX(Plan!$C$10:$C$374,MATCH(L14,Plan!$A$10:$A$374,0))<>"","F",IF(INDEX(Plan!$E$10:$E$374,MATCH(L14,Plan!$A$10:$A$374,0))="Arbeitstag","","frei")))) | M15: =IF(INDEX(Plan!$G$10:$G$374,MATCH(M14,Plan!$A$10:$A$374,0))="Eingabe prüfen","?",IF(INDEX(Plan!$G$10:$G$374,MATCH(M14,Plan!$A$10:$A$374,0))=1,"U",IF(INDEX(Plan!$C$10:$C$374,MATCH(M14,Plan!$A$10:$A$374,0))<>"","F",IF(INDEX(Plan!$E$10:$E$374,MATCH(M14,Plan!$A$10:$A$374,0))="Arbeitstag","","frei")))) | N15: =IF(INDEX(Plan!$G$10:$G$374,MATCH(N14,Plan!$A$10:$A$374,0))="Eingabe prüfen","?",IF(INDEX(Plan!$G$10:$G$374,MATCH(N14,Plan!$A$10:$A$374,0))=1,"U",IF(INDEX(Plan!$C$10:$C$374,MATCH(N14,Plan!$A$10:$A$374,0))<>"","F",IF(INDEX(Plan!$E$10:$E$374,MATCH(N14,Plan!$A$10:$A$374,0))="Arbeitstag","","frei")))) -> frei | O15: =IF(INDEX(Plan!$G$10:$G$374,MATCH(O14,Plan!$A$10:$A$374,0))="Eingabe prüfen","?",IF(INDEX(Plan!$G$10:$G$374,MATCH(O14,Plan!$A$10:$A$374,0))=1,"U",IF(INDEX(Plan!$C$10:$C$374,MATCH(O14,Plan!$A$10:$A$374,0))<>"","F",IF(INDEX(Plan!$E$10:$E$374,MATCH(O14,Plan!$A$10:$A$374,0))="Arbeitstag","","frei")))) -> frei | Q15: =IF(INDEX(Plan!$G$10:$G$374,MATCH(Q14,Plan!$A$10:$A$374,0))="Eingabe prüfen","?",IF(INDEX(Plan!$G$10:$G$374,MATCH(Q14,Plan!$A$10:$A$374,0))=1,"U",IF(INDEX(Plan!$C$10:$C$374,MATCH(Q14,Plan!$A$10:$A$374,0))<>"","F",IF(INDEX(Plan!$E$10:$E$374,MATCH(Q14,Plan!$A$10:$A$374,0))="Arbeitstag","","frei")))) | R15: =IF(INDEX(Plan!$G$10:$G$374,MATCH(R14,Plan!$A$10:$A$374,0))="Eingabe prüfen","?",IF(INDEX(Plan!$G$10:$G$374,MATCH(R14,Plan!$A$10:$A$374,0))=1,"U",IF(INDEX(Plan!$C$10:$C$374,MATCH(R14,Plan!$A$10:$A$374,0))<>"","F",IF(INDEX(Plan!$E$10:$E$374,MATCH(R14,Plan!$A$10:$A$374,0))="Arbeitstag","","frei")))) | S15: =IF(INDEX(Plan!$G$10:$G$374,MATCH(S14,Plan!$A$10:$A$374,0))="Eingabe prüfen","?",IF(INDEX(Plan!$G$10:$G$374,MATCH(S14,Plan!$A$10:$A$374,0))=1,"U",IF(INDEX(Plan!$C$10:$C$374,MATCH(S14,Plan!$A$10:$A$374,0))<>"","F",IF(INDEX(Plan!$E$10:$E$374,MATCH(S14,Plan!$A$10:$A$374,0))="Arbeitstag","","frei")))) | T15: =IF(INDEX(Plan!$G$10:$G$374,MATCH(T14,Plan!$A$10:$A$374,0))="Eingabe prüfen","?",IF(INDEX(Plan!$G$10:$G$374,MATCH(T14,Plan!$A$10:$A$374,0))=1,"U",IF(INDEX(Plan!$C$10:$C$374,MATCH(T14,Plan!$A$10:$A$374,0))<>"","F",IF(INDEX(Plan!$E$10:$E$374,MATCH(T14,Plan!$A$10:$A$374,0))="Arbeitstag","","frei")))) | U15: =IF(INDEX(Plan!$G$10:$G$374,MATCH(U14,Plan!$A$10:$A$374,0))="Eingabe prüfen","?",IF(INDEX(Plan!$G$10:$G$374,MATCH(U14,Plan!$A$10:$A$374,0))=1,"U",IF(INDEX(Plan!$C$10:$C$374,MATCH(U14,Plan!$A$10:$A$374,0))<>"","F",IF(INDEX(Plan!$E$10:$E$374,MATCH(U14,Plan!$A$10:$A$374,0))="Arbeitstag","","frei")))) | V15: =IF(INDEX(Plan!$G$10:$G$374,MATCH(V14,Plan!$A$10:$A$374,0))="Eingabe prüfen","?",IF(INDEX(Plan!$G$10:$G$374,MATCH(V14,Plan!$A$10:$A$374,0))=1,"U",IF(INDEX(Plan!$C$10:$C$374,MATCH(V14,Plan!$A$10:$A$374,0))<>"","F",IF(INDEX(Plan!$E$10:$E$374,MATCH(V14,Plan!$A$10:$A$374,0))="Arbeitstag","","frei")))) -> frei | W15: =IF(INDEX(Plan!$G$10:$G$374,MATCH(W14,Plan!$A$10:$A$374,0))="Eingabe prüfen","?",IF(INDEX(Plan!$G$10:$G$374,MATCH(W14,Plan!$A$10:$A$374,0))=1,"U",IF(INDEX(Plan!$C$10:$C$374,MATCH(W14,Plan!$A$10:$A$374,0))<>"","F",IF(INDEX(Plan!$E$10:$E$374,MATCH(W14,Plan!$A$10:$A$374,0))="Arbeitstag","","frei")))) -> frei
A16: 46405 | B16: 46406 | C16: 46407 | D16: 46408 | E16: 46409 | F16: 46410 | G16: 46411 | I16: 46440 | J16: 46441 | K16: 46442 | L16: 46443 | M16: 46444 | N16: 46445 | O16: 46446 | Q16: 46468 | R16: 46469 | S16: 46470 | T16: 46471 | U16: 46472 | V16: 46473 | W16: 46474
A17: =IF(INDEX(Plan!$G$10:$G$374,MATCH(A16,Plan!$A$10:$A$374,0))="Eingabe prüfen","?",IF(INDEX(Plan!$G$10:$G$374,MATCH(A16,Plan!$A$10:$A$374,0))=1,"U",IF(INDEX(Plan!$C$10:$C$374,MATCH(A16,Plan!$A$10:$A$374,0))<>"","F",IF(INDEX(Plan!$E$10:$E$374,MATCH(A16,Plan!$A$10:$A$374,0))="Arbeitstag","","frei")))) | B17: =IF(INDEX(Plan!$G$10:$G$374,MATCH(B16,Plan!$A$10:$A$374,0))="Eingabe prüfen","?",IF(INDEX(Plan!$G$10:$G$374,MATCH(B16,Plan!$A$10:$A$374,0))=1,"U",IF(INDEX(Plan!$C$10:$C$374,MATCH(B16,Plan!$A$10:$A$374,0))<>"","F",IF(INDEX(Plan!$E$10:$E$374,MATCH(B16,Plan!$A$10:$A$374,0))="Arbeitstag","","frei")))) | C17: =IF(INDEX(Plan!$G$10:$G$374,MATCH(C16,Plan!$A$10:$A$374,0))="Eingabe prüfen","?",IF(INDEX(Plan!$G$10:$G$374,MATCH(C16,Plan!$A$10:$A$374,0))=1,"U",IF(INDEX(Plan!$C$10:$C$374,MATCH(C16,Plan!$A$10:$A$374,0))<>"","F",IF(INDEX(Plan!$E$10:$E$374,MATCH(C16,Plan!$A$10:$A$374,0))="Arbeitstag","","frei")))) | D17: =IF(INDEX(Plan!$G$10:$G$374,MATCH(D16,Plan!$A$10:$A$374,0))="Eingabe prüfen","?",IF(INDEX(Plan!$G$10:$G$374,MATCH(D16,Plan!$A$10:$A$374,0))=1,"U",IF(INDEX(Plan!$C$10:$C$374,MATCH(D16,Plan!$A$10:$A$374,0))<>"","F",IF(INDEX(Plan!$E$10:$E$374,MATCH(D16,Plan!$A$10:$A$374,0))="Arbeitstag","","frei")))) | E17: =IF(INDEX(Plan!$G$10:$G$374,MATCH(E16,Plan!$A$10:$A$374,0))="Eingabe prüfen","?",IF(INDEX(Plan!$G$10:$G$374,MATCH(E16,Plan!$A$10:$A$374,0))=1,"U",IF(INDEX(Plan!$C$10:$C$374,MATCH(E16,Plan!$A$10:$A$374,0))<>"","F",IF(INDEX(Plan!$E$10:$E$374,MATCH(E16,Plan!$A$10:$A$374,0))="Arbeitstag","","frei")))) | F17: =IF(INDEX(Plan!$G$10:$G$374,MATCH(F16,Plan!$A$10:$A$374,0))="Eingabe prüfen","?",IF(INDEX(Plan!$G$10:$G$374,MATCH(F16,Plan!$A$10:$A$374,0))=1,"U",IF(INDEX(Plan!$C$10:$C$374,MATCH(F16,Plan!$A$10:$A$374,0))<>"","F",IF(INDEX(Plan!$E$10:$E$374,MATCH(F16,Plan!$A$10:$A$374,0))="Arbeitstag","","frei")))) -> frei | G17: =IF(INDEX(Plan!$G$10:$G$374,MATCH(G16,Plan!$A$10:$A$374,0))="Eingabe prüfen","?",IF(INDEX(Plan!$G$10:$G$374,MATCH(G16,Plan!$A$10:$A$374,0))=1,"U",IF(INDEX(Plan!$C$10:$C$374,MATCH(G16,Plan!$A$10:$A$374,0))<>"","F",IF(INDEX(Plan!$E$10:$E$374,MATCH(G16,Plan!$A$10:$A$374,0))="Arbeitstag","","frei")))) -> frei | I17: =IF(INDEX(Plan!$G$10:$G$374,MATCH(I16,Plan!$A$10:$A$374,0))="Eingabe prüfen","?",IF(INDEX(Plan!$G$10:$G$374,MATCH(I16,Plan!$A$10:$A$374,0))=1,"U",IF(INDEX(Plan!$C$10:$C$374,MATCH(I16,Plan!$A$10:$A$374,0))<>"","F",IF(INDEX(Plan!$E$10:$E$374,MATCH(I16,Plan!$A$10:$A$374,0))="Arbeitstag","","frei")))) | J17: =IF(INDEX(Plan!$G$10:$G$374,MATCH(J16,Plan!$A$10:$A$374,0))="Eingabe prüfen","?",IF(INDEX(Plan!$G$10:$G$374,MATCH(J16,Plan!$A$10:$A$374,0))=1,"U",IF(INDEX(Plan!$C$10:$C$374,MATCH(J16,Plan!$A$10:$A$374,0))<>"","F",IF(INDEX(Plan!$E$10:$E$374,MATCH(J16,Plan!$A$10:$A$374,0))="Arbeitstag","","frei")))) | K17: =IF(INDEX(Plan!$G$10:$G$374,MATCH(K16,Plan!$A$10:$A$374,0))="Eingabe prüfen","?",IF(INDEX(Plan!$G$10:$G$374,MATCH(K16,Plan!$A$10:$A$374,0))=1,"U",IF(INDEX(Plan!$C$10:$C$374,MATCH(K16,Plan!$A$10:$A$374,0))<>"","F",IF(INDEX(Plan!$E$10:$E$374,MATCH(K16,Plan!$A$10:$A$374,0))="Arbeitstag","","frei")))) | L17: =IF(INDEX(Plan!$G$10:$G$374,MATCH(L16,Plan!$A$10:$A$374,0))="Eingabe prüfen","?",IF(INDEX(Plan!$G$10:$G$374,MATCH(L16,Plan!$A$10:$A$374,0))=1,"U",IF(INDEX(Plan!$C$10:$C$374,MATCH(L16,Plan!$A$10:$A$374,0))<>"","F",IF(INDEX(Plan!$E$10:$E$374,MATCH(L16,Plan!$A$10:$A$374,0))="Arbeitstag","","frei")))) | M17: =IF(INDEX(Plan!$G$10:$G$374,MATCH(M16,Plan!$A$10:$A$374,0))="Eingabe prüfen","?",IF(INDEX(Plan!$G$10:$G$374,MATCH(M16,Plan!$A$10:$A$374,0))=1,"U",IF(INDEX(Plan!$C$10:$C$374,MATCH(M16,Plan!$A$10:$A$374,0))<>"","F",IF(INDEX(Plan!$E$10:$E$374,MATCH(M16,Plan!$A$10:$A$374,0))="Arbeitstag","","frei")))) | N17: =IF(INDEX(Plan!$G$10:$G$374,MATCH(N16,Plan!$A$10:$A$374,0))="Eingabe prüfen","?",IF(INDEX(Plan!$G$10:$G$374,MATCH(N16,Plan!$A$10:$A$374,0))=1,"U",IF(INDEX(Plan!$C$10:$C$374,MATCH(N16,Plan!$A$10:$A$374,0))<>"","F",IF(INDEX(Plan!$E$10:$E$374,MATCH(N16,Plan!$A$10:$A$374,0))="Arbeitstag","","frei")))) -> frei | O17: =IF(INDEX(Plan!$G$10:$G$374,MATCH(O16,Plan!$A$10:$A$374,0))="Eingabe prüfen","?",IF(INDEX(Plan!$G$10:$G$374,MATCH(O16,Plan!$A$10:$A$374,0))=1,"U",IF(INDEX(Plan!$C$10:$C$374,MATCH(O16,Plan!$A$10:$A$374,0))<>"","F",IF(INDEX(Plan!$E$10:$E$374,MATCH(O16,Plan!$A$10:$A$374,0))="Arbeitstag","","frei")))) -> frei | Q17: =IF(INDEX(Plan!$G$10:$G$374,MATCH(Q16,Plan!$A$10:$A$374,0))="Eingabe prüfen","?",IF(INDEX(Plan!$G$10:$G$374,MATCH(Q16,Plan!$A$10:$A$374,0))=1,"U",IF(INDEX(Plan!$C$10:$C$374,MATCH(Q16,Plan!$A$10:$A$374,0))<>"","F",IF(INDEX(Plan!$E$10:$E$374,MATCH(Q16,Plan!$A$10:$A$374,0))="Arbeitstag","","frei")))) | R17: =IF(INDEX(Plan!$G$10:$G$374,MATCH(R16,Plan!$A$10:$A$374,0))="Eingabe prüfen","?",IF(INDEX(Plan!$G$10:$G$374,MATCH(R16,Plan!$A$10:$A$374,0))=1,"U",IF(INDEX(Plan!$C$10:$C$374,MATCH(R16,Plan!$A$10:$A$374,0))<>"","F",IF(INDEX(Plan!$E$10:$E$374,MATCH(R16,Plan!$A$10:$A$374,0))="Arbeitstag","","frei")))) | S17: =IF(INDEX(Plan!$G$10:$G$374,MATCH(S16,Plan!$A$10:$A$374,0))="Eingabe prüfen","?",IF(INDEX(Plan!$G$10:$G$374,MATCH(S16,Plan!$A$10:$A$374,0))=1,"U",IF(INDEX(Plan!$C$10:$C$374,MATCH(S16,Plan!$A$10:$A$374,0))<>"","F",IF(INDEX(Plan!$E$10:$E$374,MATCH(S16,Plan!$A$10:$A$374,0))="Arbeitstag","","frei")))) | T17: =IF(INDEX(Plan!$G$10:$G$374,MATCH(T16,Plan!$A$10:$A$374,0))="Eingabe prüfen","?",IF(INDEX(Plan!$G$10:$G$374,MATCH(T16,Plan!$A$10:$A$374,0))=1,"U",IF(INDEX(Plan!$C$10:$C$374,MATCH(T16,Plan!$A$10:$A$374,0))<>"","F",IF(INDEX(Plan!$E$10:$E$374,MATCH(T16,Plan!$A$10:$A$374,0))="Arbeitstag","","frei")))) | U17: =IF(INDEX(Plan!$G$10:$G$374,MATCH(U16,Plan!$A$10:$A$374,0))="Eingabe prüfen","?",IF(INDEX(Plan!$G$10:$G$374,MATCH(U16,Plan!$A$10:$A$374,0))=1,"U",IF(INDEX(Plan!$C$10:$C$374,MATCH(U16,Plan!$A$10:$A$374,0))<>"","F",IF(INDEX(Plan!$E$10:$E$374,MATCH(U16,Plan!$A$10:$A$374,0))="Arbeitstag","","frei")))) -> F | V17: =IF(INDEX(Plan!$G$10:$G$374,MATCH(V16,Plan!$A$10:$A$374,0))="Eingabe prüfen","?",IF(INDEX(Plan!$G$10:$G$374,MATCH(V16,Plan!$A$10:$A$374,0))=1,"U",IF(INDEX(Plan!$C$10:$C$374,MATCH(V16,Plan!$A$10:$A$374,0))<>"","F",IF(INDEX(Plan!$E$10:$E$374,MATCH(V16,Plan!$A$10:$A$374,0))="Arbeitstag","","frei")))) -> frei | W17: =IF(INDEX(Plan!$G$10:$G$374,MATCH(W16,Plan!$A$10:$A$374,0))="Eingabe prüfen","?",IF(INDEX(Plan!$G$10:$G$374,MATCH(W16,Plan!$A$10:$A$374,0))=1,"U",IF(INDEX(Plan!$C$10:$C$374,MATCH(W16,Plan!$A$10:$A$374,0))<>"","F",IF(INDEX(Plan!$E$10:$E$374,MATCH(W16,Plan!$A$10:$A$374,0))="Arbeitstag","","frei")))) -> frei
A18: 46412 | B18: 46413 | C18: 46414 | D18: 46415 | E18: 46416 | F18: 46417 | G18: 46418 | Q18: 46475 | R18: 46476 | S18: 46477
A19: =IF(INDEX(Plan!$G$10:$G$374,MATCH(A18,Plan!$A$10:$A$374,0))="Eingabe prüfen","?",IF(INDEX(Plan!$G$10:$G$374,MATCH(A18,Plan!$A$10:$A$374,0))=1,"U",IF(INDEX(Plan!$C$10:$C$374,MATCH(A18,Plan!$A$10:$A$374,0))<>"","F",IF(INDEX(Plan!$E$10:$E$374,MATCH(A18,Plan!$A$10:$A$374,0))="Arbeitstag","","frei")))) | B19: =IF(INDEX(Plan!$G$10:$G$374,MATCH(B18,Plan!$A$10:$A$374,0))="Eingabe prüfen","?",IF(INDEX(Plan!$G$10:$G$374,MATCH(B18,Plan!$A$10:$A$374,0))=1,"U",IF(INDEX(Plan!$C$10:$C$374,MATCH(B18,Plan!$A$10:$A$374,0))<>"","F",IF(INDEX(Plan!$E$10:$E$374,MATCH(B18,Plan!$A$10:$A$374,0))="Arbeitstag","","frei")))) | C19: =IF(INDEX(Plan!$G$10:$G$374,MATCH(C18,Plan!$A$10:$A$374,0))="Eingabe prüfen","?",IF(INDEX(Plan!$G$10:$G$374,MATCH(C18,Plan!$A$10:$A$374,0))=1,"U",IF(INDEX(Plan!$C$10:$C$374,MATCH(C18,Plan!$A$10:$A$374,0))<>"","F",IF(INDEX(Plan!$E$10:$E$374,MATCH(C18,Plan!$A$10:$A$374,0))="Arbeitstag","","frei")))) | D19: =IF(INDEX(Plan!$G$10:$G$374,MATCH(D18,Plan!$A$10:$A$374,0))="Eingabe prüfen","?",IF(INDEX(Plan!$G$10:$G$374,MATCH(D18,Plan!$A$10:$A$374,0))=1,"U",IF(INDEX(Plan!$C$10:$C$374,MATCH(D18,Plan!$A$10:$A$374,0))<>"","F",IF(INDEX(Plan!$E$10:$E$374,MATCH(D18,Plan!$A$10:$A$374,0))="Arbeitstag","","frei")))) | E19: =IF(INDEX(Plan!$G$10:$G$374,MATCH(E18,Plan!$A$10:$A$374,0))="Eingabe prüfen","?",IF(INDEX(Plan!$G$10:$G$374,MATCH(E18,Plan!$A$10:$A$374,0))=1,"U",IF(INDEX(Plan!$C$10:$C$374,MATCH(E18,Plan!$A$10:$A$374,0))<>"","F",IF(INDEX(Plan!$E$10:$E$374,MATCH(E18,Plan!$A$10:$A$374,0))="Arbeitstag","","frei")))) | F19: =IF(INDEX(Plan!$G$10:$G$374,MATCH(F18,Plan!$A$10:$A$374,0))="Eingabe prüfen","?",IF(INDEX(Plan!$G$10:$G$374,MATCH(F18,Plan!$A$10:$A$374,0))=1,"U",IF(INDEX(Plan!$C$10:$C$374,MATCH(F18,Plan!$A$10:$A$374,0))<>"","F",IF(INDEX(Plan!$E$10:$E$374,MATCH(F18,Plan!$A$10:$A$374,0))="Arbeitstag","","frei")))) -> frei | G19: =IF(INDEX(Plan!$G$10:$G$374,MATCH(G18,Plan!$A$10:$A$374,0))="Eingabe prüfen","?",IF(INDEX(Plan!$G$10:$G$374,MATCH(G18,Plan!$A$10:$A$374,0))=1,"U",IF(INDEX(Plan!$C$10:$C$374,MATCH(G18,Plan!$A$10:$A$374,0))<>"","F",IF(INDEX(Plan!$E$10:$E$374,MATCH(G18,Plan!$A$10:$A$374,0))="Arbeitstag","","frei")))) -> frei | Q19: =IF(INDEX(Plan!$G$10:$G$374,MATCH(Q18,Plan!$A$10:$A$374,0))="Eingabe prüfen","?",IF(INDEX(Plan!$G$10:$G$374,MATCH(Q18,Plan!$A$10:$A$374,0))=1,"U",IF(INDEX(Plan!$C$10:$C$374,MATCH(Q18,Plan!$A$10:$A$374,0))<>"","F",IF(INDEX(Plan!$E$10:$E$374,MATCH(Q18,Plan!$A$10:$A$374,0))="Arbeitstag","","frei")))) -> F | R19: =IF(INDEX(Plan!$G$10:$G$374,MATCH(R18,Plan!$A$10:$A$374,0))="Eingabe prüfen","?",IF(INDEX(Plan!$G$10:$G$374,MATCH(R18,Plan!$A$10:$A$374,0))=1,"U",IF(INDEX(Plan!$C$10:$C$374,MATCH(R18,Plan!$A$10:$A$374,0))<>"","F",IF(INDEX(Plan!$E$10:$E$374,MATCH(R18,Plan!$A$10:$A$374,0))="Arbeitstag","","frei")))) | S19: =IF(INDEX(Plan!$G$10:$G$374,MATCH(S18,Plan!$A$10:$A$374,0))="Eingabe prüfen","?",IF(INDEX(Plan!$G$10:$G$374,MATCH(S18,Plan!$A$10:$A$374,0))=1,"U",IF(INDEX(Plan!$C$10:$C$374,MATCH(S18,Plan!$A$10:$A$374,0))<>"","F",IF(INDEX(Plan!$E$10:$E$374,MATCH(S18,Plan!$A$10:$A$374,0))="Arbeitstag","","frei"))))
A24: April | I24: Mai | Q24: Juni
A25: Mo | B25: Di | C25: Mi | D25: Do | E25: Fr | F25: Sa | G25: So | I25: Mo | J25: Di | K25: Mi | L25: Do | M25: Fr | N25: Sa | O25: So | Q25: Mo | R25: Di | S25: Mi | T25: Do | U25: Fr | V25: Sa | W25: So
D26: 46478 | E26: 46479 | F26: 46480 | G26: 46481 | N26: 46508 | O26: 46509 | R26: 46539 | S26: 46540 | T26: 46541 | U26: 46542 | V26: 46543 | W26: 46544
D27: =IF(INDEX(Plan!$G$10:$G$374,MATCH(D26,Plan!$A$10:$A$374,0))="Eingabe prüfen","?",IF(INDEX(Plan!$G$10:$G$374,MATCH(D26,Plan!$A$10:$A$374,0))=1,"U",IF(INDEX(Plan!$C$10:$C$374,MATCH(D26,Plan!$A$10:$A$374,0))<>"","F",IF(INDEX(Plan!$E$10:$E$374,MATCH(D26,Plan!$A$10:$A$374,0))="Arbeitstag","","frei")))) | E27: =IF(INDEX(Plan!$G$10:$G$374,MATCH(E26,Plan!$A$10:$A$374,0))="Eingabe prüfen","?",IF(INDEX(Plan!$G$10:$G$374,MATCH(E26,Plan!$A$10:$A$374,0))=1,"U",IF(INDEX(Plan!$C$10:$C$374,MATCH(E26,Plan!$A$10:$A$374,0))<>"","F",IF(INDEX(Plan!$E$10:$E$374,MATCH(E26,Plan!$A$10:$A$374,0))="Arbeitstag","","frei")))) | F27: =IF(INDEX(Plan!$G$10:$G$374,MATCH(F26,Plan!$A$10:$A$374,0))="Eingabe prüfen","?",IF(INDEX(Plan!$G$10:$G$374,MATCH(F26,Plan!$A$10:$A$374,0))=1,"U",IF(INDEX(Plan!$C$10:$C$374,MATCH(F26,Plan!$A$10:$A$374,0))<>"","F",IF(INDEX(Plan!$E$10:$E$374,MATCH(F26,Plan!$A$10:$A$374,0))="Arbeitstag","","frei")))) -> frei | G27: =IF(INDEX(Plan!$G$10:$G$374,MATCH(G26,Plan!$A$10:$A$374,0))="Eingabe prüfen","?",IF(INDEX(Plan!$G$10:$G$374,MATCH(G26,Plan!$A$10:$A$374,0))=1,"U",IF(INDEX(Plan!$C$10:$C$374,MATCH(G26,Plan!$A$10:$A$374,0))<>"","F",IF(INDEX(Plan!$E$10:$E$374,MATCH(G26,Plan!$A$10:$A$374,0))="Arbeitstag","","frei")))) -> frei | N27: =IF(INDEX(Plan!$G$10:$G$374,MATCH(N26,Plan!$A$10:$A$374,0))="Eingabe prüfen","?",IF(INDEX(Plan!$G$10:$G$374,MATCH(N26,Plan!$A$10:$A$374,0))=1,"U",IF(INDEX(Plan!$C$10:$C$374,MATCH(N26,Plan!$A$10:$A$374,0))<>"","F",IF(INDEX(Plan!$E$10:$E$374,MATCH(N26,Plan!$A$10:$A$374,0))="Arbeitstag","","frei")))) -> F | O27: =IF(INDEX(Plan!$G$10:$G$374,MATCH(O26,Plan!$A$10:$A$374,0))="Eingabe prüfen","?",IF(INDEX(Plan!$G$10:$G$374,MATCH(O26,Plan!$A$10:$A$374,0))=1,"U",IF(INDEX(Plan!$C$10:$C$374,MATCH(O26,Plan!$A$10:$A$374,0))<>"","F",IF(INDEX(Plan!$E$10:$E$374,MATCH(O26,Plan!$A$10:$A$374,0))="Arbeitstag","","frei")))) -> frei | R27: =IF(INDEX(Plan!$G$10:$G$374,MATCH(R26,Plan!$A$10:$A$374,0))="Eingabe prüfen","?",IF(INDEX(Plan!$G$10:$G$374,MATCH(R26,Plan!$A$10:$A$374,0))=1,"U",IF(INDEX(Plan!$C$10:$C$374,MATCH(R26,Plan!$A$10:$A$374,0))<>"","F",IF(INDEX(Plan!$E$10:$E$374,MATCH(R26,Plan!$A$10:$A$374,0))="Arbeitstag","","frei")))) | S27: =IF(INDEX(Plan!$G$10:$G$374,MATCH(S26,Plan!$A$10:$A$374,0))="Eingabe prüfen","?",IF(INDEX(Plan!$G$10:$G$374,MATCH(S26,Plan!$A$10:$A$374,0))=1,"U",IF(INDEX(Plan!$C$10:$C$374,MATCH(S26,Plan!$A$10:$A$374,0))<>"","F",IF(INDEX(Plan!$E$10:$E$374,MATCH(S26,Plan!$A$10:$A$374,0))="Arbeitstag","","frei")))) | T27: =IF(INDEX(Plan!$G$10:$G$374,MATCH(T26,Plan!$A$10:$A$374,0))="Eingabe prüfen","?",IF(INDEX(Plan!$G$10:$G$374,MATCH(T26,Plan!$A$10:$A$374,0))=1,"U",IF(INDEX(Plan!$C$10:$C$374,MATCH(T26,Plan!$A$10:$A$374,0))<>"","F",IF(INDEX(Plan!$E$10:$E$374,MATCH(T26,Plan!$A$10:$A$374,0))="Arbeitstag","","frei")))) | U27: =IF(INDEX(Plan!$G$10:$G$374,MATCH(U26,Plan!$A$10:$A$374,0))="Eingabe prüfen","?",IF(INDEX(Plan!$G$10:$G$374,MATCH(U26,Plan!$A$10:$A$374,0))=1,"U",IF(INDEX(Plan!$C$10:$C$374,MATCH(U26,Plan!$A$10:$A$374,0))<>"","F",IF(INDEX(Plan!$E$10:$E$374,MATCH(U26,Plan!$A$10:$A$374,0))="Arbeitstag","","frei")))) | V27: =IF(INDEX(Plan!$G$10:$G$374,MATCH(V26,Plan!$A$10:$A$374,0))="Eingabe prüfen","?",IF(INDEX(Plan!$G$10:$G$374,MATCH(V26,Plan!$A$10:$A$374,0))=1,"U",IF(INDEX(Plan!$C$10:$C$374,MATCH(V26,Plan!$A$10:$A$374,0))<>"","F",IF(INDEX(Plan!$E$10:$E$374,MATCH(V26,Plan!$A$10:$A$374,0))="Arbeitstag","","frei")))) -> frei | W27: =IF(INDEX(Plan!$G$10:$G$374,MATCH(W26,Plan!$A$10:$A$374,0))="Eingabe prüfen","?",IF(INDEX(Plan!$G$10:$G$374,MATCH(W26,Plan!$A$10:$A$374,0))=1,"U",IF(INDEX(Plan!$C$10:$C$374,MATCH(W26,Plan!$A$10:$A$374,0))<>"","F",IF(INDEX(Plan!$E$10:$E$374,MATCH(W26,Plan!$A$10:$A$374,0))="Arbeitstag","","frei")))) -> frei
A28: 46482 | B28: 46483 | C28: 46484 | D28: 46485 | E28: 46486 | F28: 46487 | G28: 46488 | I28: 46510 | J28: 46511 | K28: 46512 | L28: 46513 | M28: 46514 | N28: 46515 | O28: 46516 | Q28: 46545 | R28: 46546 | S28: 46547 | T28: 46548 | U28: 46549 | V28: 46550 | W28: 46551
A29: =IF(INDEX(Plan!$G$10:$G$374,MATCH(A28,Plan!$A$10:$A$374,0))="Eingabe prüfen","?",IF(INDEX(Plan!$G$10:$G$374,MATCH(A28,Plan!$A$10:$A$374,0))=1,"U",IF(INDEX(Plan!$C$10:$C$374,MATCH(A28,Plan!$A$10:$A$374,0))<>"","F",IF(INDEX(Plan!$E$10:$E$374,MATCH(A28,Plan!$A$10:$A$374,0))="Arbeitstag","","frei")))) | B29: =IF(INDEX(Plan!$G$10:$G$374,MATCH(B28,Plan!$A$10:$A$374,0))="Eingabe prüfen","?",IF(INDEX(Plan!$G$10:$G$374,MATCH(B28,Plan!$A$10:$A$374,0))=1,"U",IF(INDEX(Plan!$C$10:$C$374,MATCH(B28,Plan!$A$10:$A$374,0))<>"","F",IF(INDEX(Plan!$E$10:$E$374,MATCH(B28,Plan!$A$10:$A$374,0))="Arbeitstag","","frei")))) | C29: =IF(INDEX(Plan!$G$10:$G$374,MATCH(C28,Plan!$A$10:$A$374,0))="Eingabe prüfen","?",IF(INDEX(Plan!$G$10:$G$374,MATCH(C28,Plan!$A$10:$A$374,0))=1,"U",IF(INDEX(Plan!$C$10:$C$374,MATCH(C28,Plan!$A$10:$A$374,0))<>"","F",IF(INDEX(Plan!$E$10:$E$374,MATCH(C28,Plan!$A$10:$A$374,0))="Arbeitstag","","frei")))) | D29: =IF(INDEX(Plan!$G$10:$G$374,MATCH(D28,Plan!$A$10:$A$374,0))="Eingabe prüfen","?",IF(INDEX(Plan!$G$10:$G$374,MATCH(D28,Plan!$A$10:$A$374,0))=1,"U",IF(INDEX(Plan!$C$10:$C$374,MATCH(D28,Plan!$A$10:$A$374,0))<>"","F",IF(INDEX(Plan!$E$10:$E$374,MATCH(D28,Plan!$A$10:$A$374,0))="Arbeitstag","","frei")))) | E29: =IF(INDEX(Plan!$G$10:$G$374,MATCH(E28,Plan!$A$10:$A$374,0))="Eingabe prüfen","?",IF(INDEX(Plan!$G$10:$G$374,MATCH(E28,Plan!$A$10:$A$374,0))=1,"U",IF(INDEX(Plan!$C$10:$C$374,MATCH(E28,Plan!$A$10:$A$374,0))<>"","F",IF(INDEX(Plan!$E$10:$E$374,MATCH(E28,Plan!$A$10:$A$374,0))="Arbeitstag","","frei")))) | F29: =IF(INDEX(Plan!$G$10:$G$374,MATCH(F28,Plan!$A$10:$A$374,0))="Eingabe prüfen","?",IF(INDEX(Plan!$G$10:$G$374,MATCH(F28,Plan!$A$10:$A$374,0))=1,"U",IF(INDEX(Plan!$C$10:$C$374,MATCH(F28,Plan!$A$10:$A$374,0))<>"","F",IF(INDEX(Plan!$E$10:$E$374,MATCH(F28,Plan!$A$10:$A$374,0))="Arbeitstag","","frei")))) -> frei | G29: =IF(INDEX(Plan!$G$10:$G$374,MATCH(G28,Plan!$A$10:$A$374,0))="Eingabe prüfen","?",IF(INDEX(Plan!$G$10:$G$374,MATCH(G28,Plan!$A$10:$A$374,0))=1,"U",IF(INDEX(Plan!$C$10:$C$374,MATCH(G28,Plan!$A$10:$A$374,0))<>"","F",IF(INDEX(Plan!$E$10:$E$374,MATCH(G28,Plan!$A$10:$A$374,0))="Arbeitstag","","frei")))) -> frei | I29: =IF(INDEX(Plan!$G$10:$G$374,MATCH(I28,Plan!$A$10:$A$374,0))="Eingabe prüfen","?",IF(INDEX(Plan!$G$10:$G$374,MATCH(I28,Plan!$A$10:$A$374,0))=1,"U",IF(INDEX(Plan!$C$10:$C$374,MATCH(I28,Plan!$A$10:$A$374,0))<>"","F",IF(INDEX(Plan!$E$10:$E$374,MATCH(I28,Plan!$A$10:$A$374,0))="Arbeitstag","","frei")))) | J29: =IF(INDEX(Plan!$G$10:$G$374,MATCH(J28,Plan!$A$10:$A$374,0))="Eingabe prüfen","?",IF(INDEX(Plan!$G$10:$G$374,MATCH(J28,Plan!$A$10:$A$374,0))=1,"U",IF(INDEX(Plan!$C$10:$C$374,MATCH(J28,Plan!$A$10:$A$374,0))<>"","F",IF(INDEX(Plan!$E$10:$E$374,MATCH(J28,Plan!$A$10:$A$374,0))="Arbeitstag","","frei")))) | K29: =IF(INDEX(Plan!$G$10:$G$374,MATCH(K28,Plan!$A$10:$A$374,0))="Eingabe prüfen","?",IF(INDEX(Plan!$G$10:$G$374,MATCH(K28,Plan!$A$10:$A$374,0))=1,"U",IF(INDEX(Plan!$C$10:$C$374,MATCH(K28,Plan!$A$10:$A$374,0))<>"","F",IF(INDEX(Plan!$E$10:$E$374,MATCH(K28,Plan!$A$10:$A$374,0))="Arbeitstag","","frei")))) | L29: =IF(INDEX(Plan!$G$10:$G$374,MATCH(L28,Plan!$A$10:$A$374,0))="Eingabe prüfen","?",IF(INDEX(Plan!$G$10:$G$374,MATCH(L28,Plan!$A$10:$A$374,0))=1,"U",IF(INDEX(Plan!$C$10:$C$374,MATCH(L28,Plan!$A$10:$A$374,0))<>"","F",IF(INDEX(Plan!$E$10:$E$374,MATCH(L28,Plan!$A$10:$A$374,0))="Arbeitstag","","frei")))) -> F | M29: =IF(INDEX(Plan!$G$10:$G$374,MATCH(M28,Plan!$A$10:$A$374,0))="Eingabe prüfen","?",IF(INDEX(Plan!$G$10:$G$374,MATCH(M28,Plan!$A$10:$A$374,0))=1,"U",IF(INDEX(Plan!$C$10:$C$374,MATCH(M28,Plan!$A$10:$A$374,0))<>"","F",IF(INDEX(Plan!$E$10:$E$374,MATCH(M28,Plan!$A$10:$A$374,0))="Arbeitstag","","frei")))) | N29: =IF(INDEX(Plan!$G$10:$G$374,MATCH(N28,Plan!$A$10:$A$374,0))="Eingabe prüfen","?",IF(INDEX(Plan!$G$10:$G$374,MATCH(N28,Plan!$A$10:$A$374,0))=1,"U",IF(INDEX(Plan!$C$10:$C$374,MATCH(N28,Plan!$A$10:$A$374,0))<>"","F",IF(INDEX(Plan!$E$10:$E$374,MATCH(N28,Plan!$A$10:$A$374,0))="Arbeitstag","","frei")))) -> frei | O29: =IF(INDEX(Plan!$G$10:$G$374,MATCH(O28,Plan!$A$10:$A$374,0))="Eingabe prüfen","?",IF(INDEX(Plan!$G$10:$G$374,MATCH(O28,Plan!$A$10:$A$374,0))=1,"U",IF(INDEX(Plan!$C$10:$C$374,MATCH(O28,Plan!$A$10:$A$374,0))<>"","F",IF(INDEX(Plan!$E$10:$E$374,MATCH(O28,Plan!$A$10:$A$374,0))="Arbeitstag","","frei")))) -> frei | Q29: =IF(INDEX(Plan!$G$10:$G$374,MATCH(Q28,Plan!$A$10:$A$374,0))="Eingabe prüfen","?",IF(INDEX(Plan!$G$10:$G$374,MATCH(Q28,Plan!$A$10:$A$374,0))=1,"U",IF(INDEX(Plan!$C$10:$C$374,MATCH(Q28,Plan!$A$10:$A$374,0))<>"","F",IF(INDEX(Plan!$E$10:$E$374,MATCH(Q28,Plan!$A$10:$A$374,0))="Arbeitstag","","frei")))) | R29: =IF(INDEX(Plan!$G$10:$G$374,MATCH(R28,Plan!$A$10:$A$374,0))="Eingabe prüfen","?",IF(INDEX(Plan!$G$10:$G$374,MATCH(R28,Plan!$A$10:$A$374,0))=1,"U",IF(INDEX(Plan!$C$10:$C$374,MATCH(R28,Plan!$A$10:$A$374,0))<>"","F",IF(INDEX(Plan!$E$10:$E$374,MATCH(R28,Plan!$A$10:$A$374,0))="Arbeitstag","","frei")))) | S29: =IF(INDEX(Plan!$G$10:$G$374,MATCH(S28,Plan!$A$10:$A$374,0))="Eingabe prüfen","?",IF(INDEX(Plan!$G$10:$G$374,MATCH(S28,Plan!$A$10:$A$374,0))=1,"U",IF(INDEX(Plan!$C$10:$C$374,MATCH(S28,Plan!$A$10:$A$374,0))<>"","F",IF(INDEX(Plan!$E$10:$E$374,MATCH(S28,Plan!$A$10:$A$374,0))="Arbeitstag","","frei")))) | T29: =IF(INDEX(Plan!$G$10:$G$374,MATCH(T28,Plan!$A$10:$A$374,0))="Eingabe prüfen","?",IF(INDEX(Plan!$G$10:$G$374,MATCH(T28,Plan!$A$10:$A$374,0))=1,"U",IF(INDEX(Plan!$C$10:$C$374,MATCH(T28,Plan!$A$10:$A$374,0))<>"","F",IF(INDEX(Plan!$E$10:$E$374,MATCH(T28,Plan!$A$10:$A$374,0))="Arbeitstag","","frei")))) | U29: =IF(INDEX(Plan!$G$10:$G$374,MATCH(U28,Plan!$A$10:$A$374,0))="Eingabe prüfen","?",IF(INDEX(Plan!$G$10:$G$374,MATCH(U28,Plan!$A$10:$A$374,0))=1,"U",IF(INDEX(Plan!$C$10:$C$374,MATCH(U28,Plan!$A$10:$A$374,0))<>"","F",IF(INDEX(Plan!$E$10:$E$374,MATCH(U28,Plan!$A$10:$A$374,0))="Arbeitstag","","frei")))) | V29: =IF(INDEX(Plan!$G$10:$G$374,MATCH(V28,Plan!$A$10:$A$374,0))="Eingabe prüfen","?",IF(INDEX(Plan!$G$10:$G$374,MATCH(V28,Plan!$A$10:$A$374,0))=1,"U",IF(INDEX(Plan!$C$10:$C$374,MATCH(V28,Plan!$A$10:$A$374,0))<>"","F",IF(INDEX(Plan!$E$10:$E$374,MATCH(V28,Plan!$A$10:$A$374,0))="Arbeitstag","","frei")))) -> frei | W29: =IF(INDEX(Plan!$G$10:$G$374,MATCH(W28,Plan!$A$10:$A$374,0))="Eingabe prüfen","?",IF(INDEX(Plan!$G$10:$G$374,MATCH(W28,Plan!$A$10:$A$374,0))=1,"U",IF(INDEX(Plan!$C$10:$C$374,MATCH(W28,Plan!$A$10:$A$374,0))<>"","F",IF(INDEX(Plan!$E$10:$E$374,MATCH(W28,Plan!$A$10:$A$374,0))="Arbeitstag","","frei")))) -> frei
A30: 46489 | B30: 46490 | C30: 46491 | D30: 46492 | E30: 46493 | F30: 46494 | G30: 46495 | I30: 46517 | J30: 46518 | K30: 46519 | L30: 46520 | M30: 46521 | N30: 46522 | O30: 46523 | Q30: 46552 | R30: 46553 | S30: 46554 | T30: 46555 | U30: 46556 | V30: 46557 | W30: 46558
